Workbook

Sheet свод
B2: ФЕДЕРАЛЬНОЕ СТАТИСТИЧЕСКОЕ НАБЛЮДЕНИЕ
B4: КОНФИДЕНЦИАЛЬНОСТЬ ГАРАНТИРУЕТСЯ ПОЛУЧАТЕЛЕМ ИНФОРМАЦИИ
B6: Нарушение порядка предоставления первичных статистических данных или несвоевременное предоставление этих данных, либо предоставление недостоверных первичных статистических данных влечет ответственность, установленную Кодексом Российской Федерации об административных правонарушениях
B8: ВОЗМОЖНО ПРЕДОСТАВЛЕНИЕ В ЭЛЕКТРОННОМ ВИДЕ
B10: СВЕДЕНИЯ ОБ ОРГАНИЗАЦИИ КУЛЬТУРНО-ДОСУГОВОГО ТИПА
B11: за 2023 год
B13: Предоставляют: | I13: Сроки предоставления | M13: Форма N 7-НК
B14: юридические лица - организации культурно-досугового типа, юридические лица - организации, имеющие в своем составе обособленные структурные подразделения, осуществляющие культурно-досуговую деятельность (полный перечень респондентов приведен в указаниях по заполнению формы федерального статистического наблюдения): | I14: 15 февраля | M14: Приказ Росстата: Об утверждении формы от 18.10.2021 № 713
B15: - Министерству культуры Российской Федерации | M15: О внесении изменений (при наличии)
M16: от __________ N ___
M17: от __________ N ___
M18: Годовая
B19: Наименование отчитывающейся организации | H19: отдел культуры, спорта и архивного дела администрации Зейского района
B20: Почтовый адрес 676244 Амурская область г.Зея ул.Мухина , 160 оф.111
B21: Код формы по ОКУД | E21: Код
E22: отчитывающейся организации по ОКПО (для территориально обособленного подразделения юридического лица - идентификационный номер)
B23: 1 | E23: 2 | K23: 3 | O23: 4
B24: 609522 | E24: 10345295
B26: Наименование учредителя Отдел культуры, спорта и архивного дела администрации Зейского района Амурской области
B27: Направление основной деятельности головной организации: деятельность в области культуры и искусства
B28: Число организаций, включенных в сводную форму
B29: (заполняется органами исполнительной власти субъекта Российской Федерации)
B30: Раздел 1. Материально-техническая база
B31: Коды по ОКЕИ: единица - 642; место - 698; квадратный метр - 055
B32: N строки | C32: Число зданий, единиц | D32: из них (из гр. 2) число собственных зданий | E32: из них (из гр. 2) доступны для лиц с нарушением | H32: из общего числа зданий (из гр. 2)
H33: техническое состояние зданий | J33: из них по форме пользования
E34: зрения | F34: слуха | G34: опорно-двигательного аппарата | H34: требуют капитального ремонта | I34: аварийные | J34: в оперативном управлении или хозяйственном ведении | K34: арендованные | L34: прочие
B35: 1 | C35: 2 | D35: 3 | E35: 4 | F35: 5 | G35: 6 | H35: 7 | I35: 8 | J35: 9 | K35: 10 | L35: 11
B36: 1 | C36: ='м. от.'!C39+алгач!D39+'ам-бал'!D39+берег!C39+берез.!D39+бомнак!D39+'В-зск'!C39+Горн.!C39+Гулик!D39+дугда!C39+з.сл.!C39+ивановка!D39+николаев.!D36+огорон!C36+поляк.!C37+снежн.!C39+С.Бор!C39+тунгала!C39+умлек.!C39+хвой.!D39+чалб.!D39+юбил.!C39+С.Октябрьс.!D39+'СДК Овс.'!D39+клепикова!D39 -> 25 | D36: ='м. от.'!D39+алгач!E39+'ам-бал'!E39+берег!D39+берез.!E39+бомнак!E39+'В-зск'!D39+Горн.!D39+Гулик!E39+дугда!D39+з.сл.!D39+ивановка!E39+николаев.!E36+огорон!D36+поляк.!D37+снежн.!D39+С.Бор!D39+тунгала!D39+умлек.!D39+хвой.!E39+чалб.!E39+юбил.!D39+С.Октябрьс.!E39+'СДК Овс.'!E39+клепикова!E39 -> 17 | E36: ='м. от.'!E39+алгач!F39+'ам-бал'!F39+берег!E39+берез.!F39+бомнак!F39+'В-зск'!E39+Горн.!E39+Гулик!F39+дугда!E39+з.сл.!E39+ивановка!F39+николаев.!F36+огорон!E36+поляк.!E37+снежн.!E39+С.Бор!E39+тунгала!E39+умлек.!E39+хвой.!F39+чалб.!F39+юбил.!E39+С.Октябрьс.!F39+'СДК Овс.'!F39+клепикова!F39 -> 0 | F36: ='м. от.'!F39+алгач!G39+'ам-бал'!G39+берег!F39+берез.!G39+бомнак!G39+'В-зск'!F39+Горн.!F39+Гулик!G39+дугда!F39+з.сл.!F39+ивановка!G39+николаев.!G36+огорон!F36+поляк.!F37+снежн.!F39+С.Бор!F39+тунгала!F39+умлек.!F39+хвой.!G39+чалб.!G39+юбил.!F39+С.Октябрьс.!G39+'СДК Овс.'!G39+клепикова!G39 -> 0 | G36: ='м. от.'!G39+алгач!H39+'ам-бал'!H39+берег!G39+берез.!H39+бомнак!H39+'В-зск'!G39+Горн.!G39+Гулик!H39+дугда!G39+з.сл.!G39+ивановка!H39+николаев.!H36+огорон!G36+поляк.!G37+снежн.!G39+С.Бор!G39+тунгала!G39+умлек.!G39+хвой.!H39+чалб.!H39+юбил.!G39+С.Октябрьс.!H39+'СДК Овс.'!H39+клепикова!H39 -> 3 | H36: ='м. от.'!H39+алгач!I39+'ам-бал'!I39+берег!H39+берез.!I39+бомнак!I39+'В-зск'!H39+Горн.!H39+Гулик!I39+дугда!H39+з.сл.!H39+ивановка!I39+николаев.!I36+огорон!H36+поляк.!H37+снежн.!H39+С.Бор!H39+тунгала!H39+умлек.!H39+хвой.!I39+чалб.!I39+юбил.!H39+С.Октябрьс.!I39+'СДК Овс.'!I39+клепикова!I39 -> 1 | I36: ='м. от.'!I39+алгач!J39+'ам-бал'!J39+берег!I39+берез.!J39+бомнак!J39+'В-зск'!I39+Горн.!I39+Гулик!J39+дугда!I39+з.сл.!I39+ивановка!J39+николаев.!J36+огорон!I36+поляк.!I37+снежн.!I39+С.Бор!I39+тунгала!I39+умлек.!I39+хвой.!J39+чалб.!J39+юбил.!I39+С.Октябрьс.!J39+'СДК Овс.'!J39+клепикова!J39 -> 0 | J36: ='м. от.'!J39+алгач!K39+'ам-бал'!K39+берег!J39+берез.!K39+бомнак!K39+'В-зск'!J39+Горн.!J39+Гулик!K39+дугда!J39+з.сл.!J39+ивановка!K39+николаев.!K36+огорон!J36+поляк.!J37+снежн.!J39+С.Бор!J39+тунгала!J39+умлек.!J39+хвой.!K39+чалб.!K39+юбил.!J39+С.Октябрьс.!K39+'СДК Овс.'!K39+клепикова!K39 -> 17 | ... L36: ='м. от.'!L39+алгач!M39+'ам-бал'!M39+берег!L39+берез.!M39+бомнак!M39+'В-зск'!L39+Горн.!L39+Гулик!M39+дугда!L39+з.сл.!L39+ивановка!M39+николаев.!M36+огорон!L36+поляк.!L37+снежн.!L39+С.Бор!L39+тунгала!L39+умлек.!L39+хвой.!M39+чалб.!M39+юбил.!L39+С.Октябрьс.!M39+'СДК Овс.'!M39+клепикова!M39 -> 0
B39: N строки | C39: Число помещений, единиц | D39: из общего числа помещений (из гр. 12) | K39: из числа досуговых помещений (из гр. 18) помещения для музейной и библиотечной работы | L39: из общей площади досуговых помещений (из гр. 19)
D40: техническое состояние помещений | F40: арендованных | G40: зрительные залы | I40: Досуговые помещения | L40: площадь, занимаемая музеем | M40: площадь, занимаемая библиотекой
D41: требующих капитального ремонта | E41: аварийных | G41: число зрительных залов, единиц | H41: вместимость зрительных залов, мест | I41: число помещений, единиц | J41: площадь, кв м
B42: 1 | C42: 12 | D42: 13 | E42: 14 | F42: 15 | G42: 16 | H42: 17 | I42: 18 | J42: 19 | K42: 20 | L42: 21 | M42: 22
B43: 1 | C43: ='м. от.'!C46+алгач!D46+'ам-бал'!D46+берег!C46+берез.!D46+бомнак!D46+'В-зск'!C46+Горн.!C46+Гулик!D46+дугда!C46+з.сл.!C46+ивановка!D46+николаев.!D43+огорон!C43+поляк.!C44+снежн.!C46+С.Бор!C46+тунгала!C46+умлек.!C46+хвой.!D46+чалб.!D46+юбил.!C46+С.Октябрьс.!D46+'СДК Овс.'!D46+клепикова!D46 -> 156 | D43: ='м. от.'!D46+алгач!E46+'ам-бал'!E46+берег!D46+берез.!E46+бомнак!E46+'В-зск'!D46+Горн.!D46+Гулик!E46+дугда!D46+з.сл.!D46+ивановка!E46+николаев.!E43+огорон!D43+поляк.!D44+снежн.!D46+С.Бор!D46+тунгала!D46+умлек.!D46+хвой.!E46+чалб.!E46+юбил.!D46+С.Октябрьс.!E46+'СДК Овс.'!E46+клепикова!E46 -> 4 | E43: ='м. от.'!E46+алгач!F46+'ам-бал'!F46+берег!E46+берез.!F46+бомнак!F46+'В-зск'!E46+Горн.!E46+Гулик!F46+дугда!E46+з.сл.!E46+ивановка!F46+николаев.!F43+огорон!E43+поляк.!E44+снежн.!E46+С.Бор!E46+тунгала!E46+умлек.!E46+хвой.!F46+чалб.!F46+юбил.!E46+С.Октябрьс.!F46+'СДК Овс.'!F46+клепикова!F46 -> 0 | F43: ='м. от.'!F46+алгач!G46+'ам-бал'!G46+берег!F46+берез.!G46+бомнак!G46+'В-зск'!F46+Горн.!F46+Гулик!G46+дугда!F46+з.сл.!F46+ивановка!G46+николаев.!G43+огорон!F43+поляк.!F44+снежн.!F46+С.Бор!F46+тунгала!F46+умлек.!F46+хвой.!G46+чалб.!G46+юбил.!F46+С.Октябрьс.!G46+'СДК Овс.'!G46+клепикова!G46 -> 47 | G43: ='м. от.'!G46+алгач!H46+'ам-бал'!H46+берег!G46+берез.!H46+бомнак!H46+'В-зск'!G46+Горн.!G46+Гулик!H46+дугда!G46+з.сл.!G46+ивановка!H46+николаев.!H43+огорон!G43+поляк.!G44+снежн.!G46+С.Бор!G46+тунгала!G46+умлек.!G46+хвой.!H46+чалб.!H46+юбил.!G46+С.Октябрьс.!H46+'СДК Овс.'!H46+клепикова!H46 -> 24 | H43: ='м. от.'!H46+алгач!I46+'ам-бал'!I46+берег!H46+берез.!I46+бомнак!I46+'В-зск'!H46+Горн.!H46+Гулик!I46+дугда!H46+з.сл.!H46+ивановка!I46+николаев.!I43+огорон!H43+поляк.!H44+снежн.!H46+С.Бор!H46+тунгала!H46+умлек.!H46+хвой.!I46+чалб.!I46+юбил.!H46+С.Октябрьс.!I46+'СДК Овс.'!I46+клепикова!I46 -> 2625 | I43: ='м. от.'!I46+алгач!J46+'ам-бал'!J46+берег!I46+берез.!J46+бомнак!J46+'В-зск'!I46+Горн.!I46+Гулик!J46+дугда!I46+з.сл.!I46+ивановка!J46+николаев.!J43+огорон!I43+поляк.!I44+снежн.!I46+С.Бор!I46+тунгала!I46+умлек.!I46+хвой.!J46+чалб.!J46+юбил.!I46+С.Октябрьс.!J46+'СДК Овс.'!J46+клепикова!J46 -> 95 | J43: ='м. от.'!J46+алгач!K46+'ам-бал'!K46+берег!J46+берез.!K46+бомнак!K46+'В-зск'!J46+Горн.!J46+Гулик!K46+дугда!J46+з.сл.!J46+ивановка!K46+николаев.!K43+огорон!J43+поляк.!J44+снежн.!J46+С.Бор!J46+тунгала!J46+умлек.!J46+хвой.!K46+чалб.!K46+юбил.!J46+С.Октябрьс.!K46+'СДК Овс.'!K46+клепикова!K46 -> 4405.9 | ... M43: ='м. от.'!M46+алгач!N46+'ам-бал'!N46+берег!M46+берез.!N46+бомнак!N46+'В-зск'!M46+Горн.!M46+Гулик!N46+дугда!M46+з.сл.!M46+ивановка!N46+николаев.!N43+огорон!M43+поляк.!M44+снежн.!M46+С.Бор!M46+тунгала!M46+умлек.!M46+хвой.!N46+чалб.!N46+юбил.!M46+С.Октябрьс.!N46+'СДК Овс.'!N46+клепикова!N46 -> 0
B45: N строки | C45: Число автоматизированных рабочих мест, единиц | D45: Наличие доступа в Интернет (да - 1, нет - 0) | E45: Наличие доступа в Интернет для посетителей и участников формирований (да - 1, нет - 0) | F45: Наличие собственного Интернет-сайта, (да - 1, нет - 0) | G45: Наличие версии собственного Интернет-сайта, доступной для слепых и слабовидящих (да - 1, нет - 0) | H45: Число специализированного оборудования для инвалидов, единиц | I45: Число специализированных транспортных средств, единиц | J45: Число автоклубов, единиц (из гр. 29) | K45: Число выездов автоклубов в сельские населенные пункты, единиц | L45: Количество населенных пунктов, обслуживаемых автоклубами
B46: 1 | C46: 23 | D46: 24 | E46: 25 | F46: 26 | G46: 27 | H46: 28 | I46: 29 | J46: 30 | K46: 31 | L46: 32
B47: 1 | C47: ='м. от.'!C51+алгач!D51+'ам-бал'!D51+берег!C51+берез.!D51+бомнак!D51+'В-зск'!C51+Горн.!C51+Гулик!D51+дугда!C51+з.сл.!C51+ивановка!D51+николаев.!D48+огорон!C48+поляк.!C49+снежн.!C51+С.Бор!C51+тунгала!C51+умлек.!C51+хвой.!D51+чалб.!D51+юбил.!C51+С.Октябрьс.!D51+'СДК Овс.'!D51+клепикова!D51 -> 56 | D47: ='м. от.'!D51+алгач!E51+'ам-бал'!E51+берег!D51+берез.!E51+бомнак!E51+'В-зск'!D51+Горн.!D51+Гулик!E51+дугда!D51+з.сл.!D51+ивановка!E51+николаев.!E48+огорон!D48+поляк.!D49+снежн.!D51+С.Бор!D51+тунгала!D51+умлек.!D51+хвой.!E51+чалб.!E51+юбил.!D51+С.Октябрьс.!E51+'СДК Овс.'!E51+клепикова!E51 -> 20 | E47: ='м. от.'!E51+алгач!F51+'ам-бал'!F51+берег!E51+берез.!F51+бомнак!F51+'В-зск'!E51+Горн.!E51+Гулик!F51+дугда!E51+з.сл.!E51+ивановка!F51+николаев.!F48+огорон!E48+поляк.!E49+снежн.!E51+С.Бор!E51+тунгала!E51+умлек.!E51+хвой.!F51+чалб.!F51+юбил.!E51+С.Октябрьс.!F51+'СДК Овс.'!F51+клепикова!F51 -> 0 | F47: ='м. от.'!F51+алгач!G51+'ам-бал'!G51+берег!F51+берез.!G51+бомнак!G51+'В-зск'!F51+Горн.!F51+Гулик!G51+дугда!F51+з.сл.!F51+ивановка!G51+николаев.!G48+огорон!F48+поляк.!F49+снежн.!F51+С.Бор!F51+тунгала!F51+умлек.!F51+хвой.!G51+чалб.!G51+юбил.!F51+С.Октябрьс.!G51+'СДК Овс.'!G51+клепикова!G51 -> 1 | G47: ='м. от.'!G51+алгач!H51+'ам-бал'!H51+берег!G51+берез.!H51+бомнак!H51+'В-зск'!G51+Горн.!G51+Гулик!H51+дугда!G51+з.сл.!G51+ивановка!H51+николаев.!H48+огорон!G48+поляк.!G49+снежн.!G51+С.Бор!G51+тунгала!G51+умлек.!G51+хвой.!H51+чалб.!H51+юбил.!G51+С.Октябрьс.!H51+'СДК Овс.'!H51+клепикова!H51 -> 1 | H47: ='м. от.'!H51+алгач!I51+'ам-бал'!I51+берег!H51+берез.!I51+бомнак!I51+'В-зск'!H51+Горн.!H51+Гулик!I51+дугда!H51+з.сл.!H51+ивановка!I51+николаев.!I48+огорон!H48+поляк.!H49+снежн.!H51+С.Бор!H51+тунгала!H51+умлек.!H51+хвой.!I51+чалб.!I51+юбил.!H51+С.Октябрьс.!I51+'СДК Овс.'!I51+клепикова!I51 -> 0 | I47: ='м. от.'!I51+алгач!J51+'ам-бал'!J51+берег!I51+берез.!J51+бомнак!J51+'В-зск'!I51+Горн.!I51+Гулик!J51+дугда!I51+з.сл.!I51+ивановка!J51+николаев.!J48+огорон!I48+поляк.!I49+снежн.!I51+С.Бор!I51+тунгала!I51+умлек.!I51+хвой.!J51+чалб.!J51+юбил.!I51+С.Октябрьс.!J51+'СДК Овс.'!J51+клепикова!J51 -> 0 | J47: ='м. от.'!J51+алгач!K51+'ам-бал'!K51+берег!J51+берез.!K51+бомнак!K51+'В-зск'!J51+Горн.!J51+Гулик!K51+дугда!J51+з.сл.!J51+ивановка!K51+николаев.!K48+огорон!J48+поляк.!J49+снежн.!J51+С.Бор!J51+тунгала!J51+умлек.!J51+хвой.!K51+чалб.!K51+юбил.!J51+С.Октябрьс.!K51+'СДК Овс.'!K51+клепикова!K51 -> 0 | ... L47: ='м. от.'!L51+алгач!M51+'ам-бал'!M51+берег!L51+берез.!M51+бомнак!M51+'В-зск'!L51+Горн.!L51+Гулик!M51+дугда!L51+з.сл.!L51+ивановка!M51+николаев.!M48+огорон!L48+поляк.!L49+снежн.!L51+С.Бор!L51+тунгала!L51+умлек.!L51+хвой.!M51+чалб.!M51+юбил.!L51+С.Октябрьс.!M51+'СДК Овс.'!M51+клепикова!M51 -> 0
B50: Раздел 2. Клубные формирования
B51: Коды по ОКЕИ: единица - 642; человек - 792
C52: N строки | D52: Число клубных формирований, всего (сумма граф 6, 8) | E52: из гр. 3
E53: для детей до 14 лет | F53: для молодежи от 14 до 35 лет | G53: любительские объединения, клубы по интересам | H53: инклюзивные, включающие в состав инвалидов и лиц с ОВЗ | I53: прочие клубные формирования | J53: из них (из гр. 8)
J54: для детей до 14 лет | K54: для молодежи от 14 до 35 лет | L54: формирования/кружки самодеятельного народного творчества | M54: из них (из гр. 11) | P54: формирования/кружки технического творчества | Q54: спортивные формирования/кружки
M55: для детей до 14 лет | N55: для молодежи от 14 до 35 лет | O55: работающих на платной основе
B56: 1 | C56: 2 | D56: 3 | E56: 4 | F56: 5 | G56: 6 | H56: 7 | I56: 8 | J56: 9 | K56: 10 | L56: 11 | M56: 12 | N56: 13 | O56: 14 | P56: 15 | Q56: 16
B57: Всего,
B58: единиц | C58: 2 | D58: ='м. от.'!D62+алгач!E61+'ам-бал'!E62+берег!D62+берез.!E62+бомнак!E62+'В-зск'!D62+Горн.!D62+Гулик!E62+дугда!D62+з.сл.!D62+ивановка!E62+николаев.!E59+огорон!D59+поляк.!D60+снежн.!D62+С.Бор!D62+тунгала!D62+умлек.!D62+хвой.!E62+чалб.!E62+юбил.!D62+С.Октябрьс.!E62+'СДК Овс.'!E62+клепикова!E62 -> 146 | E58: ='м. от.'!E62+алгач!F61+'ам-бал'!F62+берег!E62+берез.!F62+бомнак!F62+'В-зск'!E62+Горн.!E62+Гулик!F62+дугда!E62+з.сл.!E62+ивановка!F62+николаев.!F59+огорон!E59+поляк.!E60+снежн.!E62+С.Бор!E62+тунгала!E62+умлек.!E62+хвой.!F62+чалб.!F62+юбил.!E62+С.Октябрьс.!F62+'СДК Овс.'!F62+клепикова!F62 -> 94 | F58: ='м. от.'!F62+алгач!G61+'ам-бал'!G62+берег!F62+берез.!G62+бомнак!G62+'В-зск'!F62+Горн.!F62+Гулик!G62+дугда!F62+з.сл.!F62+ивановка!G62+николаев.!G59+огорон!F59+поляк.!F60+снежн.!F62+С.Бор!F62+тунгала!F62+умлек.!F62+хвой.!G62+чалб.!G62+юбил.!F62+С.Октябрьс.!G62+'СДК Овс.'!G62+клепикова!G62 -> 15 | G58: ='м. от.'!G62+алгач!H61+'ам-бал'!H62+берег!G62+берез.!H62+бомнак!H62+'В-зск'!G62+Горн.!G62+Гулик!H62+дугда!G62+з.сл.!G62+ивановка!H62+николаев.!H59+огорон!G59+поляк.!G60+снежн.!G62+С.Бор!G62+тунгала!G62+умлек.!G62+хвой.!H62+чалб.!H62+юбил.!G62+С.Октябрьс.!H62+'СДК Овс.'!H62+клепикова!H62 -> 30 | H58: ='м. от.'!H62+алгач!I61+'ам-бал'!I62+берег!H62+берез.!I62+бомнак!I62+'В-зск'!H62+Горн.!H62+Гулик!I62+дугда!H62+з.сл.!H62+ивановка!I62+николаев.!I59+огорон!H59+поляк.!H60+снежн.!H62+С.Бор!H62+тунгала!H62+умлек.!H62+хвой.!I62+чалб.!I62+юбил.!H62+С.Октябрьс.!I62+'СДК Овс.'!I62+клепикова!I62 -> 0 | I58: ='м. от.'!I62+алгач!J61+'ам-бал'!J62+берег!I62+берез.!J62+бомнак!J62+'В-зск'!I62+Горн.!I62+Гулик!J62+дугда!I62+з.сл.!I62+ивановка!J62+николаев.!J59+огорон!I59+поляк.!I60+снежн.!I62+С.Бор!I62+тунгала!I62+умлек.!I62+хвой.!J62+чалб.!J62+юбил.!I62+С.Октябрьс.!J62+'СДК Овс.'!J62+клепикова!J62 -> 116 | J58: ='м. от.'!J62+алгач!K61+'ам-бал'!K62+берег!J62+берез.!K62+бомнак!K62+'В-зск'!J62+Горн.!J62+Гулик!K62+дугда!J62+з.сл.!J62+ивановка!K62+николаев.!K59+огорон!J59+поляк.!J60+снежн.!J62+С.Бор!J62+тунгала!J62+умлек.!J62+хвой.!K62+чалб.!K62+юбил.!J62+С.Октябрьс.!K62+'СДК Овс.'!K62+клепикова!K62 -> 82 | K58: ='м. от.'!K62+алгач!L61+'ам-бал'!L62+берег!K62+берез.!L62+бомнак!L62+'В-зск'!K62+Горн.!K62+Гулик!L62+дугда!K62+з.сл.!K62+ивановка!L62+николаев.!L59+огорон!K59+поляк.!K60+снежн.!K62+С.Бор!K62+тунгала!K62+умлек.!K62+хвой.!L62+чалб.!L62+юбил.!K62+С.Октябрьс.!L62+'СДК Овс.'!L62+клепикова!L62 -> 11 | L58: ='м. от.'!L62+алгач!M61+'ам-бал'!M62+берег!L62+берез.!M62+бомнак!M62+'В-зск'!L62+Гулик!M62+дугда!L62+з.сл.!L62+ивановка!M62+николаев.!M59+огорон!L59+поляк.!L60+снежн.!L62+С.Бор!L62+тунгала!L62+умлек.!L62+хвой.!M62+чалб.!M62+юбил.!L62+С.Октябрьс.!M62+'СДК Овс.'!M62+клепикова!M62+Горн.!L62 -> 116 | M58: ='м. от.'!M62+алгач!N61+'ам-бал'!N62+берег!M62+берез.!N62+бомнак!N62+'В-зск'!M62+Горн.!M62+Гулик!N62+дугда!M62+з.сл.!M62+ивановка!N62+николаев.!N59+огорон!M59+поляк.!M60+снежн.!M62+С.Бор!M62+тунгала!M62+умлек.!M62+хвой.!N62+чалб.!N62+юбил.!M62+С.Октябрьс.!N62+'СДК Овс.'!N62+клепикова!N62 -> 82 | N58: ='м. от.'!N62+алгач!O61+'ам-бал'!O62+берег!N62+берез.!O62+бомнак!O62+'В-зск'!N62+Горн.!N62+Гулик!O62+дугда!N62+з.сл.!N62+ивановка!O62+николаев.!O59+огорон!N59+поляк.!N60+снежн.!N62+С.Бор!N62+тунгала!N62+умлек.!N62+хвой.!O62+чалб.!O62+юбил.!N62+С.Октябрьс.!O62+'СДК Овс.'!O62+клепикова!O62 -> 11 | O58: ='м. от.'!O62+алгач!P61+'ам-бал'!P62+берег!O62+берез.!P62+бомнак!P62+'В-зск'!O62+Горн.!O62+Гулик!P62+дугда!O62+з.сл.!O62+ивановка!P62+николаев.!P59+огорон!O59+поляк.!O60+снежн.!O62+С.Бор!O62+тунгала!O62+умлек.!O62+хвой.!P62+чалб.!P62+юбил.!O62+С.Октябрьс.!P62+'СДК Овс.'!P62+клепикова!P62 -> 0 | P58: ='м. от.'!P62+алгач!Q61+'ам-бал'!Q62+берег!P62+берез.!Q62+бомнак!Q62+'В-зск'!P62+Горн.!P62+Гулик!Q62+дугда!P62+з.сл.!P62+ивановка!Q62+николаев.!Q59+огорон!P59+поляк.!P60+снежн.!P62+С.Бор!P62+тунгала!P62+умлек.!P62+хвой.!Q62+чалб.!Q62+юбил.!P62+С.Октябрьс.!Q62+'СДК Овс.'!Q62+клепикова!Q62 -> 0 | Q58: ='м. от.'!Q62+алгач!R61+'ам-бал'!R62+берег!Q62+берез.!R62+бомнак!R62+'В-зск'!Q62+Горн.!Q62+Гулик!R62+дугда!Q62+з.сл.!Q62+ивановка!R62+николаев.!R59+огорон!Q59+поляк.!Q60+снежн.!Q62+С.Бор!Q62+тунгала!Q62+умлек.!Q62+хвой.!R62+чалб.!R62+юбил.!Q62+С.Октябрьс.!R62+'СДК Овс.'!R62+клепикова!R62 -> 0 | S58: =G58+I58 -> 146
B59: В них участников, человек | C59: 3 | D59: ='м. от.'!D63+алгач!E62+'ам-бал'!E63+берег!D63+берез.!E63+бомнак!E63+'В-зск'!D63+Горн.!D63+Гулик!E63+дугда!D63+з.сл.!D63+ивановка!E63+николаев.!E60+огорон!D60+поляк.!D61+снежн.!D63+С.Бор!D63+тунгала!D63+умлек.!D63+хвой.!E63+чалб.!E63+юбил.!D63+С.Октябрьс.!E63+'СДК Овс.'!E63+клепикова!E63 -> 1755 | E59: ='м. от.'!E63+алгач!F62+'ам-бал'!F63+берег!E63+берез.!F63+бомнак!F63+'В-зск'!E63+Горн.!E63+Гулик!F63+дугда!E63+з.сл.!E63+ивановка!F63+николаев.!F60+огорон!E60+поляк.!E61+снежн.!E63+С.Бор!E63+тунгала!E63+умлек.!E63+хвой.!F63+чалб.!F63+юбил.!E63+С.Октябрьс.!F63+'СДК Овс.'!F63+клепикова!F63 -> 1133 | F59: ='м. от.'!F63+алгач!G62+'ам-бал'!G63+берег!F63+берез.!G63+бомнак!G63+'В-зск'!F63+Горн.!F63+Гулик!G63+дугда!F63+з.сл.!F63+ивановка!G63+николаев.!G60+огорон!F60+поляк.!F61+снежн.!F63+С.Бор!F63+тунгала!F63+умлек.!F63+хвой.!G63+чалб.!G63+юбил.!F63+С.Октябрьс.!G63+'СДК Овс.'!G63+клепикова!G63 -> 189 | G59: ='м. от.'!G63+алгач!H62+'ам-бал'!H63+берег!G63+берез.!H63+бомнак!H63+'В-зск'!G63+Горн.!G63+Гулик!H63+дугда!G63+з.сл.!G63+ивановка!H63+николаев.!H60+огорон!G60+поляк.!G61+снежн.!G63+С.Бор!G63+тунгала!G63+умлек.!G63+хвой.!H63+чалб.!H63+юбил.!G63+С.Октябрьс.!H63+'СДК Овс.'!H63+клепикова!H63 -> 389 | H59: ='м. от.'!H63+алгач!I62+'ам-бал'!I63+берег!H63+берез.!I63+бомнак!I63+'В-зск'!H63+Горн.!H63+Гулик!I63+дугда!H63+з.сл.!H63+ивановка!I63+николаев.!I60+огорон!H60+поляк.!H61+снежн.!H63+С.Бор!H63+тунгала!H63+умлек.!H63+хвой.!I63+чалб.!I63+юбил.!H63+С.Октябрьс.!I63+'СДК Овс.'!I63+клепикова!I63 -> 0 | I59: ='м. от.'!I63+алгач!J62+'ам-бал'!J63+берег!I63+берез.!J63+бомнак!J63+'В-зск'!I63+Горн.!I63+Гулик!J63+дугда!I63+з.сл.!I63+ивановка!J63+николаев.!J60+огорон!I60+поляк.!I61+снежн.!I63+С.Бор!I63+тунгала!I63+умлек.!I63+хвой.!J63+чалб.!J63+юбил.!I63+С.Октябрьс.!J63+'СДК Овс.'!J63+клепикова!J63 -> 1366 | J59: ='м. от.'!J63+алгач!K62+'ам-бал'!K63+берег!J63+берез.!K63+бомнак!K63+'В-зск'!J63+Горн.!J63+Гулик!K63+дугда!J63+з.сл.!J63+ивановка!K63+николаев.!K60+огорон!J60+поляк.!J61+снежн.!J63+С.Бор!J63+тунгала!J63+умлек.!J63+хвой.!K63+чалб.!K63+юбил.!J63+С.Октябрьс.!K63+'СДК Овс.'!K63+клепикова!K63 -> 965 | K59: ='м. от.'!K63+алгач!L62+'ам-бал'!L63+берег!K63+берез.!L63+бомнак!L63+'В-зск'!K63+Гулик!L63+дугда!K63+з.сл.!K63+ивановка!L63+николаев.!L60+огорон!K60+поляк.!K61+снежн.!K63+С.Бор!K63+тунгала!K63+умлек.!K63+хвой.!L63+чалб.!L63+юбил.!K63+С.Октябрьс.!L63+'СДК Овс.'!L63+клепикова!L63+Горн.!K63 -> 133 | L59: ='м. от.'!L63+алгач!M62+'ам-бал'!M63+берег!L63+берез.!M63+бомнак!M63+'В-зск'!L63+Гулик!M63+дугда!L63+з.сл.!L63+ивановка!M63+николаев.!M60+огорон!L60+поляк.!L61+снежн.!L63+С.Бор!L63+тунгала!L63+умлек.!L63+хвой.!M63+чалб.!M63+юбил.!L63+С.Октябрьс.!M63+'СДК Овс.'!M63+клепикова!M63+Горн.!L63 -> 1366 | M59: ='м. от.'!M63+алгач!N62+'ам-бал'!N63+берег!M63+берез.!N63+бомнак!N63+'В-зск'!M63+Гулик!N63+дугда!M63+з.сл.!M63+ивановка!N63+николаев.!N60+огорон!M60+поляк.!M61+снежн.!M63+С.Бор!M63+тунгала!M63+умлек.!M63+хвой.!N63+чалб.!N63+юбил.!M63+С.Октябрьс.!N63+'СДК Овс.'!N63+клепикова!N63+Горн.!M63 -> 965 | N59: ='м. от.'!N63+алгач!O62+'ам-бал'!O63+берег!N63+берез.!O63+бомнак!O63+'В-зск'!N63+Гулик!O63+дугда!N63+з.сл.!N63+ивановка!O63+николаев.!O60+огорон!N60+поляк.!N61+снежн.!N63+С.Бор!N63+тунгала!N63+умлек.!N63+хвой.!O63+чалб.!O63+юбил.!N63+С.Октябрьс.!O63+'СДК Овс.'!O63+клепикова!O63+Горн.!N63 -> 133 | O59: ='м. от.'!O63+алгач!P62+'ам-бал'!P63+берег!O63+берез.!P63+бомнак!P63+'В-зск'!O63+Гулик!P63+дугда!O63+з.сл.!O63+ивановка!P63+николаев.!P60+огорон!O60+поляк.!O61+снежн.!O63+С.Бор!O63+тунгала!O63+умлек.!O63+хвой.!P63+чалб.!P63+юбил.!O63+С.Октябрьс.!P63+'СДК Овс.'!P63+клепикова!P63+Горн.!O63 -> 0 | P59: ='м. от.'!P63+алгач!Q62+'ам-бал'!Q63+берег!P63+берез.!Q63+бомнак!Q63+'В-зск'!P63+Гулик!Q63+дугда!P63+з.сл.!P63+ивановка!Q63+николаев.!Q60+огорон!P60+поляк.!P61+снежн.!P63+С.Бор!P63+тунгала!P63+умлек.!P63+хвой.!Q63+чалб.!Q63+юбил.!P63+С.Октябрьс.!Q63+'СДК Овс.'!Q63+клепикова!Q63+Горн.!P63 -> 0 | Q59: ='м. от.'!Q63+алгач!R62+'ам-бал'!R63+берег!Q63+берез.!R63+бомнак!R63+'В-зск'!Q63+Горн.!Q63+Гулик!R63+дугда!Q63+з.сл.!Q63+ивановка!R63+николаев.!R60+огорон!Q60+поляк.!Q61+снежн.!Q63+С.Бор!Q63+тунгала!Q63+умлек.!Q63+хвой.!R63+чалб.!R63+юбил.!Q63+С.Октябрьс.!R63+'СДК Овс.'!R63+клепикова!R63 -> 0 | S59: =G59+I59 -> 1755
B61: N строки | C61: шш
C62: вокальные | D62: в том числе коллективы (из гр. 17) | K62: хореографические | L62: в том числе коллективы (из гр. 25)
D63: хоры | E63: из них (из гр. 18) | G63: ансамбли | H63: из них (из гр. 21) | J63: студии эстрадного пения | L63: народного танца | M63: классического танца | N63: современного танца | O63: бального и эстрадно-спортивного танца | P63: иные
E64: академические | F64: народные | H64: академические | I64: народные
B65: 2 | C65: 17 | D65: 18 | E65: 19 | F65: 20 | G65: 21 | H65: 22 | I65: 23 | J65: 24 | K65: 25 | L65: 26 | M65: 27 | N65: 28 | O65: 29 | P65: 30
B66: 2 | C66: ='м. от.'!C70+алгач!D69+'ам-бал'!D70+берег!C70+берез.!D70+бомнак!D70+'В-зск'!C70+Горн.!C70+Гулик!D70+дугда!C70+з.сл.!C70+ивановка!D70+николаев.!D67+огорон!C67+поляк.!C68+снежн.!C70+С.Бор!C70+тунгала!C70+умлек.!C70+хвой.!D70+чалб.!D70+юбил.!C70+С.Октябрьс.!D70+'СДК Овс.'!D70+клепикова!D70 -> 2 | D66: ='м. от.'!D70+алгач!E69+'ам-бал'!E70+берег!D70+берез.!E70+бомнак!E70+'В-зск'!D70+Горн.!D70+Гулик!E70+дугда!D70+з.сл.!D70+ивановка!E70+николаев.!E67+огорон!D67+поляк.!D68+снежн.!D70+С.Бор!D70+тунгала!D70+умлек.!D70+хвой.!E70+чалб.!E70+юбил.!D70+С.Октябрьс.!E70+'СДК Овс.'!E70+клепикова!E70 -> 1 | E66: ='м. от.'!E70+алгач!F69+'ам-бал'!F70+берег!E70+берез.!F70+бомнак!F70+'В-зск'!E70+Горн.!E70+Гулик!F70+дугда!E70+з.сл.!E70+ивановка!F70+николаев.!F67+огорон!E67+поляк.!E68+снежн.!E70+С.Бор!E70+тунгала!E70+умлек.!E70+хвой.!F70+чалб.!F70+юбил.!E70+С.Октябрьс.!F70+'СДК Овс.'!F70+клепикова!F70 -> 0 | F66: ='м. от.'!F70+алгач!G69+'ам-бал'!G70+берег!F70+берез.!G70+бомнак!G70+'В-зск'!F70+Горн.!F70+Гулик!G70+дугда!F70+з.сл.!F70+ивановка!G70+николаев.!G67+огорон!F67+поляк.!F68+снежн.!F70+С.Бор!F70+тунгала!F70+умлек.!F70+хвой.!G70+чалб.!G70+юбил.!F70+С.Октябрьс.!G70+'СДК Овс.'!G70+клепикова!G70 -> 1 | G66: ='м. от.'!G70+алгач!H69+'ам-бал'!H70+берег!G70+берез.!H70+бомнак!H70+'В-зск'!G70+Горн.!G70+Гулик!H70+дугда!G70+з.сл.!G70+ивановка!H70+николаев.!H67+огорон!G67+поляк.!G68+снежн.!G70+С.Бор!G70+тунгала!G70+умлек.!G70+хвой.!H70+чалб.!H70+юбил.!G70+С.Октябрьс.!H70+'СДК Овс.'!H70+клепикова!H70 -> 1 | H66: ='м. от.'!H70+алгач!I69+'ам-бал'!I70+берег!H70+берез.!I70+бомнак!I70+'В-зск'!H70+Горн.!H70+Гулик!I70+дугда!H70+з.сл.!H70+ивановка!I70+николаев.!I67+огорон!H67+поляк.!H68+снежн.!H70+С.Бор!H70+тунгала!H70+умлек.!H70+хвой.!I70+чалб.!I70+юбил.!H70+С.Октябрьс.!I70+'СДК Овс.'!I70+клепикова!I70 -> 0 | I66: ='м. от.'!I70+алгач!J69+'ам-бал'!J70+берег!I70+берез.!J70+бомнак!J70+'В-зск'!I70+Горн.!I70+Гулик!J70+дугда!I70+з.сл.!I70+ивановка!J70+николаев.!J67+огорон!I67+поляк.!I68+снежн.!I70+С.Бор!I70+тунгала!I70+умлек.!I70+хвой.!J70+чалб.!J70+юбил.!I70+С.Октябрьс.!J70+'СДК Овс.'!J70+клепикова!J70 -> 1 | J66: ='м. от.'!J70+алгач!K69+'ам-бал'!K70+берег!J70+берез.!K70+бомнак!K70+'В-зск'!J70+Горн.!J70+Гулик!K70+дугда!J70+з.сл.!J70+ивановка!K70+николаев.!K67+огорон!J67+поляк.!J68+снежн.!J70+С.Бор!J70+тунгала!J70+умлек.!J70+хвой.!K70+чалб.!K70+юбил.!J70+С.Октябрьс.!K70+'СДК Овс.'!K70+клепикова!K70 -> 0 | ... P66: ='м. от.'!P70+алгач!Q69+'ам-бал'!Q70+берег!P70+берез.!Q70+бомнак!Q70+'В-зск'!P70+Горн.!P70+Гулик!Q70+дугда!P70+з.сл.!P70+ивановка!Q70+николаев.!Q67+огорон!P67+поляк.!P68+снежн.!P70+С.Бор!P70+тунгала!P70+умлек.!P70+хвой.!Q70+чалб.!Q70+юбил.!P70+С.Октябрьс.!Q70+'СДК Овс.'!Q70+клепикова!Q70 -> 27
B67: 3 | C67: ='м. от.'!C71+алгач!D70+'ам-бал'!D71+берег!C71+берез.!D71+бомнак!D71+'В-зск'!C71+Горн.!C71+Гулик!D71+дугда!C71+з.сл.!C71+ивановка!D71+николаев.!D68+огорон!C68+поляк.!C69+снежн.!C71+С.Бор!C71+тунгала!C71+умлек.!C71+хвой.!D71+чалб.!D71+юбил.!C71+С.Октябрьс.!D71+'СДК Овс.'!D71+клепикова!D71 -> 32 | D67: ='м. от.'!D71+алгач!E70+'ам-бал'!E71+берег!D71+берез.!E71+бомнак!E71+'В-зск'!D71+Горн.!D71+Гулик!E71+дугда!D71+з.сл.!D71+ивановка!E71+николаев.!E68+огорон!D68+поляк.!D69+снежн.!D71+С.Бор!D71+тунгала!D71+умлек.!D71+хвой.!E71+чалб.!E71+юбил.!D71+С.Октябрьс.!E71+'СДК Овс.'!E71+клепикова!E71 -> 16 | E67: ='м. от.'!E71+алгач!F70+'ам-бал'!F71+берег!E71+берез.!F71+бомнак!F71+'В-зск'!E71+Горн.!E71+Гулик!F71+дугда!E71+з.сл.!E71+ивановка!F71+николаев.!F68+огорон!E68+поляк.!E69+снежн.!E71+С.Бор!E71+тунгала!E71+умлек.!E71+хвой.!F71+чалб.!F71+юбил.!E71+С.Октябрьс.!F71+'СДК Овс.'!F71+клепикова!F71 -> 0 | F67: ='м. от.'!F71+алгач!G70+'ам-бал'!G71+берег!F71+берез.!G71+бомнак!G71+'В-зск'!F71+Горн.!F71+Гулик!G71+дугда!F71+з.сл.!F71+ивановка!G71+николаев.!G68+огорон!F68+поляк.!F69+снежн.!F71+С.Бор!F71+тунгала!F71+умлек.!F71+хвой.!G71+чалб.!G71+юбил.!F71+С.Октябрьс.!G71+'СДК Овс.'!G71+клепикова!G71 -> 16 | G67: ='м. от.'!G71+алгач!H70+'ам-бал'!H71+берег!G71+берез.!H71+бомнак!H71+'В-зск'!G71+Горн.!G71+Гулик!H71+дугда!G71+з.сл.!G71+ивановка!H71+николаев.!H68+огорон!G68+поляк.!G69+снежн.!G71+С.Бор!G71+тунгала!G71+умлек.!G71+хвой.!H71+чалб.!H71+юбил.!G71+С.Октябрьс.!H71+'СДК Овс.'!H71+клепикова!H71 -> 16 | H67: ='м. от.'!H71+алгач!I70+'ам-бал'!I71+берег!H71+берез.!I71+бомнак!I71+'В-зск'!H71+Горн.!H71+Гулик!I71+дугда!H71+з.сл.!H71+ивановка!I71+николаев.!I68+огорон!H68+поляк.!H69+снежн.!H71+С.Бор!H71+тунгала!H71+умлек.!H71+хвой.!I71+чалб.!I71+юбил.!H71+С.Октябрьс.!I71+'СДК Овс.'!I71+клепикова!I71 -> 0 | I67: ='м. от.'!I71+алгач!J70+'ам-бал'!J71+берег!I71+берез.!J71+бомнак!J71+'В-зск'!I71+Горн.!I71+Гулик!J71+дугда!I71+з.сл.!I71+ивановка!J71+николаев.!J68+огорон!I68+поляк.!I69+снежн.!I71+С.Бор!I71+тунгала!I71+умлек.!I71+хвой.!J71+чалб.!J71+юбил.!I71+С.Октябрьс.!J71+'СДК Овс.'!J71+клепикова!J71 -> 16 | J67: ='м. от.'!J71+алгач!K70+'ам-бал'!K71+берег!J71+берез.!K71+бомнак!K71+'В-зск'!J71+Горн.!J71+Гулик!K71+дугда!J71+з.сл.!J71+ивановка!K71+николаев.!K68+огорон!J68+поляк.!J69+снежн.!J71+С.Бор!J71+тунгала!J71+умлек.!J71+хвой.!K71+чалб.!K71+юбил.!J71+С.Октябрьс.!K71+'СДК Овс.'!K71+клепикова!K71 -> 0 | ... P67: ='м. от.'!P71+алгач!Q70+'ам-бал'!Q71+берег!P71+берез.!Q71+бомнак!Q71+'В-зск'!P71+Горн.!P71+Гулик!Q71+дугда!P71+з.сл.!P71+ивановка!Q71+николаев.!Q68+огорон!P68+поляк.!P69+снежн.!P71+С.Бор!P71+тунгала!P71+умлек.!P71+хвой.!Q71+чалб.!Q71+юбил.!P71+С.Октябрьс.!Q71+'СДК Овс.'!Q71+клепикова!Q71 -> 340
B69: N строки | C69: в том числе коллективы (из гр. 11)
C70: инструментальные | D70: в том числе коллективы (из гр. 30) | N70: театральные | O70: в том числе коллективы (из гр. 41)
D71: оркестры | E71: из них (из гр. 31) | I71: ансамбли | J71: из них (из гр. 36) | O71: драматические | P71: театры кукол | Q71: музыкальные | R71: театры эстрады
E72: народных инструментов | F72: духовых инструментов | G72: джазовые и эстрадные | H72: симфонические | J72: народных инструментов | K72: духовых инструментов | L72: джазовые и эстрадные | M72: камерные
B73: 2 | C73: 31 | D73: 32 | E73: 33 | F73: 34 | G73: 35 | H73: 36 | I73: 37 | J73: 38 | K73: 39 | L73: 40 | M73: 41 | N73: 42 | O73: 43 | P73: 44 | Q73: 45 | R73: 46
B74: 2 | C74: ='м. от.'!C78+алгач!D77+'ам-бал'!D78+берег!C78+берез.!D78+бомнак!D78+'В-зск'!C78+Горн.!C78+Гулик!D78+дугда!C78+з.сл.!C78+ивановка!D78+николаев.!D75+огорон!C75+поляк.!C76+снежн.!C78+С.Бор!C78+тунгала!C78+умлек.!C78+хвой.!D78+чалб.!D78+юбил.!C78+С.Октябрьс.!D78+'СДК Овс.'!D78+клепикова!D78 -> 0 | D74: ='м. от.'!D78+алгач!E77+'ам-бал'!E78+берег!D78+берез.!E78+бомнак!E78+'В-зск'!D78+Горн.!D78+Гулик!E78+дугда!D78+з.сл.!D78+ивановка!E78+николаев.!E75+огорон!D75+поляк.!D76+снежн.!D78+С.Бор!D78+тунгала!D78+умлек.!D78+хвой.!E78+чалб.!E78+юбил.!D78+С.Октябрьс.!E78+'СДК Овс.'!E78+клепикова!E78 -> 0 | E74: ='м. от.'!E78+алгач!F77+'ам-бал'!F78+берег!E78+берез.!F78+бомнак!F78+'В-зск'!E78+Горн.!E78+Гулик!F78+дугда!E78+з.сл.!E78+ивановка!F78+николаев.!F75+огорон!E75+поляк.!E76+снежн.!E78+С.Бор!E78+тунгала!E78+умлек.!E78+хвой.!F78+чалб.!F78+юбил.!E78+С.Октябрьс.!F78+'СДК Овс.'!F78+клепикова!F78 -> 0 | F74: ='м. от.'!F78+алгач!G77+'ам-бал'!G78+берег!F78+берез.!G78+бомнак!G78+'В-зск'!F78+Горн.!F78+Гулик!G78+дугда!F78+з.сл.!F78+ивановка!G78+николаев.!G75+огорон!F75+поляк.!F76+снежн.!F78+С.Бор!F78+тунгала!F78+умлек.!F78+хвой.!G78+чалб.!G78+юбил.!F78+С.Октябрьс.!G78+'СДК Овс.'!G78+клепикова!G78 -> 0 | G74: ='м. от.'!G78+алгач!H77+'ам-бал'!H78+берег!G78+берез.!H78+бомнак!H78+'В-зск'!G78+Горн.!G78+Гулик!H78+дугда!G78+з.сл.!G78+ивановка!H78+николаев.!H75+огорон!G75+поляк.!G76+снежн.!G78+С.Бор!G78+тунгала!G78+умлек.!G78+хвой.!H78+чалб.!H78+юбил.!G78+С.Октябрьс.!H78+'СДК Овс.'!H78+клепикова!H78 -> 0 | H74: ='м. от.'!H78+алгач!I77+'ам-бал'!I78+берег!H78+берез.!I78+бомнак!I78+'В-зск'!H78+Горн.!H78+Гулик!I78+дугда!H78+з.сл.!H78+ивановка!I78+николаев.!I75+огорон!H75+поляк.!H76+снежн.!H78+С.Бор!H78+тунгала!H78+умлек.!H78+хвой.!I78+чалб.!I78+юбил.!H78+С.Октябрьс.!I78+'СДК Овс.'!I78+клепикова!I78 -> 0 | I74: ='м. от.'!I78+алгач!J77+'ам-бал'!J78+берег!I78+берез.!J78+бомнак!J78+'В-зск'!I78+Горн.!I78+Гулик!J78+дугда!I78+з.сл.!I78+ивановка!J78+николаев.!J75+огорон!I75+поляк.!I76+снежн.!I78+С.Бор!I78+тунгала!I78+умлек.!I78+хвой.!J78+чалб.!J78+юбил.!I78+С.Октябрьс.!J78+'СДК Овс.'!J78+клепикова!J78 -> 0 | J74: ='м. от.'!J78+алгач!K77+'ам-бал'!K78+берег!J78+берез.!K78+бомнак!K78+'В-зск'!J78+Горн.!J78+Гулик!K78+дугда!J78+з.сл.!J78+ивановка!K78+николаев.!K75+огорон!J75+поляк.!J76+снежн.!J78+С.Бор!J78+тунгала!J78+умлек.!J78+хвой.!K78+чалб.!K78+юбил.!J78+С.Октябрьс.!K78+'СДК Овс.'!K78+клепикова!K78 -> 0 | ... R74: ='м. от.'!R78+алгач!S77+'ам-бал'!S78+берег!R78+берез.!S78+бомнак!S78+'В-зск'!R78+Горн.!R78+Гулик!S78+дугда!R78+з.сл.!R78+ивановка!S78+николаев.!S75+огорон!R75+поляк.!R76+снежн.!R78+С.Бор!R78+тунгала!R78+умлек.!R78+хвой.!S78+чалб.!S78+юбил.!R78+С.Октябрьс.!S78+'СДК Овс.'!S78+клепикова!S78 -> 0
B75: 3 | C75: ='м. от.'!C79+алгач!D78+'ам-бал'!D79+берег!C79+берез.!D79+бомнак!D79+'В-зск'!C79+Горн.!C79+Гулик!D79+дугда!C79+з.сл.!C79+ивановка!D79+николаев.!D76+огорон!C76+поляк.!C77+снежн.!C79+С.Бор!C79+тунгала!C79+умлек.!C79+хвой.!D79+чалб.!D79+юбил.!C79+С.Октябрьс.!D79+'СДК Овс.'!D79+клепикова!D79 -> 0 | D75: ='м. от.'!D79+алгач!E78+'ам-бал'!E79+берег!D79+берез.!E79+бомнак!E79+'В-зск'!D79+Горн.!D79+Гулик!E79+дугда!D79+з.сл.!D79+ивановка!E79+николаев.!E76+огорон!D76+поляк.!D77+снежн.!D79+С.Бор!D79+тунгала!D79+умлек.!D79+хвой.!E79+чалб.!E79+юбил.!D79+С.Октябрьс.!E79+'СДК Овс.'!E79+клепикова!E79 -> 0 | E75: ='м. от.'!E79+алгач!F78+'ам-бал'!F79+берег!E79+берез.!F79+бомнак!F79+'В-зск'!E79+Горн.!E79+Гулик!F79+дугда!E79+з.сл.!E79+ивановка!F79+николаев.!F76+огорон!E76+поляк.!E77+снежн.!E79+С.Бор!E79+тунгала!E79+умлек.!E79+хвой.!F79+чалб.!F79+юбил.!E79+С.Октябрьс.!F79+'СДК Овс.'!F79+клепикова!F79 -> 0 | F75: ='м. от.'!F79+алгач!G78+'ам-бал'!G79+берег!F79+берез.!G79+бомнак!G79+'В-зск'!F79+Горн.!F79+Гулик!G79+дугда!F79+з.сл.!F79+ивановка!G79+николаев.!G76+огорон!F76+поляк.!F77+снежн.!F79+С.Бор!F79+тунгала!F79+умлек.!F79+хвой.!G79+чалб.!G79+юбил.!F79+С.Октябрьс.!G79+'СДК Овс.'!G79+клепикова!G79 -> 0 | G75: ='м. от.'!G79+алгач!H78+'ам-бал'!H79+берег!G79+берез.!H79+бомнак!H79+'В-зск'!G79+Горн.!G79+Гулик!H79+дугда!G79+з.сл.!G79+ивановка!H79+николаев.!H76+огорон!G76+поляк.!G77+снежн.!G79+С.Бор!G79+тунгала!G79+умлек.!G79+хвой.!H79+чалб.!H79+юбил.!G79+С.Октябрьс.!H79+'СДК Овс.'!H79+клепикова!H79 -> 0 | H75: ='м. от.'!H79+алгач!I78+'ам-бал'!I79+берег!H79+берез.!I79+бомнак!I79+'В-зск'!H79+Горн.!H79+Гулик!I79+дугда!H79+з.сл.!H79+ивановка!I79+николаев.!I76+огорон!H76+поляк.!H77+снежн.!H79+С.Бор!H79+тунгала!H79+умлек.!H79+хвой.!I79+чалб.!I79+юбил.!H79+С.Октябрьс.!I79+'СДК Овс.'!I79+клепикова!I79 -> 0 | I75: ='м. от.'!I79+алгач!J78+'ам-бал'!J79+берег!I79+берез.!J79+бомнак!J79+'В-зск'!I79+Горн.!I79+Гулик!J79+дугда!I79+з.сл.!I79+ивановка!J79+николаев.!J76+огорон!I76+поляк.!I77+снежн.!I79+С.Бор!I79+тунгала!I79+умлек.!I79+хвой.!J79+чалб.!J79+юбил.!I79+С.Октябрьс.!J79+'СДК Овс.'!J79+клепикова!J79 -> 0 | J75: ='м. от.'!J79+алгач!K78+'ам-бал'!K79+берег!J79+берез.!K79+бомнак!K79+'В-зск'!J79+Горн.!J79+Гулик!K79+дугда!J79+з.сл.!J79+ивановка!K79+николаев.!K76+огорон!J76+поляк.!J77+снежн.!J79+С.Бор!J79+тунгала!J79+умлек.!J79+хвой.!K79+чалб.!K79+юбил.!J79+С.Октябрьс.!K79+'СДК Овс.'!K79+клепикова!K79 -> 0 | ... R75: ='м. от.'!R79+алгач!S78+'ам-бал'!S79+берег!R79+берез.!S79+бомнак!S79+'В-зск'!R79+Горн.!R79+Гулик!S79+дугда!R79+з.сл.!R79+ивановка!S79+николаев.!S76+огорон!R76+поляк.!R77+снежн.!R79+С.Бор!R79+тунгала!R79+умлек.!R79+хвой.!S79+чалб.!S79+юбил.!R79+С.Октябрьс.!S79+'СДК Овс.'!S79+клепикова!S79 -> 0
B77: N строки | C77: в том числе коллективы (из гр. 11)
C78: фольклорные | D78: изобразительного искусства | E78: декоративно-прикладного искусства | F78: кино-фото-видео-любителей | G78: циркового искусства | H78: прочие
B79: 2 | C79: 47 | D79: 48 | E79: 49 | F79: 50 | G79: 51 | H79: 52
B80: 2 | C80: ='м. от.'!C84+алгач!D83+'ам-бал'!D84+берег!C84+берез.!D84+бомнак!D84+'В-зск'!C84+Горн.!C84+Гулик!D84+дугда!C84+з.сл.!C84+ивановка!D84+николаев.!D81+огорон!C81+поляк.!C82+снежн.!C84+С.Бор!C84+тунгала!C84+умлек.!C84+хвой.!D84+чалб.!D84+юбил.!C84+С.Октябрьс.!D84+'СДК Овс.'!D84+клепикова!D84 -> 0 | D80: ='м. от.'!D84+алгач!E83+'ам-бал'!E84+берег!D84+берез.!E84+бомнак!E84+'В-зск'!D84+Горн.!D84+Гулик!E84+дугда!D84+з.сл.!D84+ивановка!E84+николаев.!E81+огорон!D81+поляк.!D82+снежн.!D84+С.Бор!D84+тунгала!D84+умлек.!D84+хвой.!E84+чалб.!E84+юбил.!D84+С.Октябрьс.!E84+'СДК Овс.'!E84+клепикова!E84 -> 2 | E80: ='м. от.'!E84+алгач!F83+'ам-бал'!F84+берег!E84+берез.!F84+бомнак!F84+'В-зск'!E84+Горн.!E84+Гулик!F84+дугда!E84+з.сл.!E84+ивановка!F84+николаев.!F81+огорон!E81+поляк.!E82+снежн.!E84+С.Бор!E84+тунгала!E84+умлек.!E84+хвой.!F84+чалб.!F84+юбил.!E84+С.Октябрьс.!F84+'СДК Овс.'!F84+клепикова!F84 -> 25 | F80: ='м. от.'!F84+алгач!G83+'ам-бал'!G84+берег!F84+берез.!G84+бомнак!G84+'В-зск'!F84+Горн.!F84+Гулик!G84+дугда!F84+з.сл.!F84+ивановка!G84+николаев.!G81+огорон!F81+поляк.!F82+снежн.!F84+С.Бор!F84+тунгала!F84+умлек.!F84+хвой.!G84+чалб.!G84+юбил.!F84+С.Октябрьс.!G84+'СДК Овс.'!G84+клепикова!G84 -> 0 | G80: ='м. от.'!G84+алгач!H83+'ам-бал'!H84+берег!G84+берез.!H84+бомнак!H84+'В-зск'!G84+Горн.!G84+Гулик!H84+дугда!G84+з.сл.!G84+ивановка!H84+николаев.!H81+огорон!G81+поляк.!G82+снежн.!G84+С.Бор!G84+тунгала!G84+умлек.!G84+хвой.!H84+чалб.!H84+юбил.!G84+С.Октябрьс.!H84+'СДК Овс.'!H84+клепикова!H84 -> 0 | H80: ='м. от.'!H84+алгач!I83+'ам-бал'!I84+берег!H84+берез.!I84+бомнак!I84+'В-зск'!H84+Горн.!H84+Гулик!I84+дугда!H84+з.сл.!H84+ивановка!I84+николаев.!I81+огорон!H81+поляк.!H82+снежн.!H84+С.Бор!H84+тунгала!H84+умлек.!H84+хвой.!I84+чалб.!I84+юбил.!H84+С.Октябрьс.!I84+'СДК Овс.'!I84+клепикова!I84 -> 36
B81: 3 | C81: ='м. от.'!C85+алгач!D84+'ам-бал'!D85+берег!C85+берез.!D85+бомнак!D85+'В-зск'!C85+Горн.!C85+Гулик!D85+дугда!C85+з.сл.!C85+ивановка!D85+николаев.!D82+огорон!C82+поляк.!C83+снежн.!C85+С.Бор!C85+тунгала!C85+умлек.!C85+хвой.!D85+чалб.!D85+юбил.!C85+С.Октябрьс.!D85+'СДК Овс.'!D85+клепикова!D85 -> 0 | D81: ='м. от.'!D85+алгач!E84+'ам-бал'!E85+берег!D85+берез.!E85+бомнак!E85+'В-зск'!D85+Горн.!D85+Гулик!E85+дугда!D85+з.сл.!D85+ивановка!E85+николаев.!E82+огорон!D82+поляк.!D83+снежн.!D85+С.Бор!D85+тунгала!D85+умлек.!D85+хвой.!E85+чалб.!E85+юбил.!D85+С.Октябрьс.!E85+'СДК Овс.'!E85+клепикова!E85 -> 23 | E81: ='м. от.'!E85+алгач!F84+'ам-бал'!F85+берег!E85+берез.!F85+бомнак!F85+'В-зск'!E85+Горн.!E85+Гулик!F85+дугда!E85+з.сл.!E85+ивановка!F85+николаев.!F82+огорон!E82+поляк.!E83+снежн.!E85+С.Бор!E85+тунгала!E85+умлек.!E85+хвой.!F85+чалб.!F85+юбил.!E85+С.Октябрьс.!F85+'СДК Овс.'!F85+клепикова!F85 -> 279 | F81: ='м. от.'!F85+алгач!G84+'ам-бал'!G85+берег!F85+берез.!G85+бомнак!G85+'В-зск'!F85+Горн.!F85+Гулик!G85+дугда!F85+з.сл.!F85+ивановка!G85+николаев.!G82+огорон!F82+поляк.!F83+снежн.!F85+С.Бор!F85+тунгала!F85+умлек.!F85+хвой.!G85+чалб.!G85+юбил.!F85+С.Октябрьс.!G85+'СДК Овс.'!G85+клепикова!G85 -> 0 | G81: ='м. от.'!G85+алгач!H84+'ам-бал'!H85+берег!G85+берез.!H85+бомнак!H85+'В-зск'!G85+Горн.!G85+Гулик!H85+дугда!G85+з.сл.!G85+ивановка!H85+николаев.!H82+огорон!G82+поляк.!G83+снежн.!G85+С.Бор!G85+тунгала!G85+умлек.!G85+хвой.!H85+чалб.!H85+юбил.!G85+С.Октябрьс.!H85+'СДК Овс.'!H85+клепикова!H85 -> 0 | H81: ='м. от.'!H85+алгач!I84+'ам-бал'!I85+берег!H85+берез.!I85+бомнак!I85+'В-зск'!H85+Горн.!H85+Гулик!I85+дугда!H85+з.сл.!H85+ивановка!I85+николаев.!I82+огорон!H82+поляк.!H83+снежн.!H85+С.Бор!H85+тунгала!H85+умлек.!H85+хвой.!I85+чалб.!I85+юбил.!H85+С.Октябрьс.!I85+'СДК Овс.'!I85+клепикова!I85 -> 383
B84: N строки | C84: число коллективов, имеющих звание (из гр. 8)
C85: народный | D85: образцовый | E85: заслуженный коллектив народного творчества | F85: лауреат международного конкурса (фестиваля) | G85: лауреат всероссийского конкурса (фестиваля) | H85: лауреат регионального конкурса (фестиваля)
B86: 2 | C86: 53 | D86: 54 | E86: 55 | F86: 56 | G86: 57 | H86: 58
B87: 2 | C87: ='м. от.'!C91+алгач!D90+'ам-бал'!D91+берег!C91+берез.!D91+бомнак!D91+'В-зск'!C91+Горн.!C91+Гулик!D91+дугда!C91+з.сл.!C91+ивановка!D91+николаев.!D88+огорон!C88+поляк.!C89+снежн.!C91+С.Бор!C91+тунгала!C91+умлек.!C91+хвой.!D91+чалб.!D91+юбил.!C91+С.Октябрьс.!D91+'СДК Овс.'!D91+клепикова!D91 -> 4 | D87: ='м. от.'!D91+алгач!E90+'ам-бал'!E91+берег!D91+берез.!E91+бомнак!E91+'В-зск'!D91+Горн.!D91+Гулик!E91+дугда!D91+з.сл.!D91+ивановка!E91+николаев.!E88+огорон!D88+поляк.!D89+снежн.!D91+С.Бор!D91+тунгала!D91+умлек.!D91+хвой.!E91+чалб.!E91+юбил.!D91+С.Октябрьс.!E91+'СДК Овс.'!E91+клепикова!E91 -> 2 | E87: ='м. от.'!E91+алгач!F90+'ам-бал'!F91+берег!E91+берез.!F91+бомнак!F91+'В-зск'!E91+Горн.!E91+Гулик!F91+дугда!E91+з.сл.!E91+ивановка!F91+николаев.!F88+огорон!E88+поляк.!E89+снежн.!E91+С.Бор!E91+тунгала!E91+умлек.!E91+хвой.!F91+чалб.!F91+юбил.!E91+С.Октябрьс.!F91+'СДК Овс.'!F91+клепикова!F91 -> 0 | F87: ='м. от.'!F91+алгач!G90+'ам-бал'!G91+берег!F91+берез.!G91+бомнак!G91+'В-зск'!F91+Горн.!F91+Гулик!G91+дугда!F91+з.сл.!F91+ивановка!G91+николаев.!G88+огорон!F88+поляк.!F89+снежн.!F91+С.Бор!F91+тунгала!F91+умлек.!F91+хвой.!G91+чалб.!G91+юбил.!F91+С.Октябрьс.!G91+'СДК Овс.'!G91+клепикова!G91 -> 0 | G87: ='м. от.'!G91+алгач!H90+'ам-бал'!H91+берег!G91+берез.!H91+бомнак!H91+'В-зск'!G91+Горн.!G91+Гулик!H91+дугда!G91+з.сл.!G91+ивановка!H91+николаев.!H88+огорон!G88+поляк.!G89+снежн.!G91+С.Бор!G91+тунгала!G91+умлек.!G91+хвой.!H91+чалб.!H91+юбил.!G91+С.Октябрьс.!H91+'СДК Овс.'!H91+клепикова!H91 -> 0 | H87: ='м. от.'!H91+алгач!I90+'ам-бал'!I91+берег!H91+берез.!I91+бомнак!I91+'В-зск'!H91+Горн.!H91+Гулик!I91+дугда!H91+з.сл.!H91+ивановка!I91+николаев.!I88+огорон!H88+поляк.!H89+снежн.!H91+С.Бор!H91+тунгала!H91+умлек.!H91+хвой.!I91+чалб.!I91+юбил.!H91+С.Октябрьс.!I91+'СДК Овс.'!I91+клепикова!I91 -> 0
B88: 3 | C88: ='м. от.'!C92+алгач!D91+'ам-бал'!D92+берег!C92+берез.!D92+бомнак!D92+'В-зск'!C92+Горн.!C92+Гулик!D92+дугда!C92+з.сл.!C92+ивановка!D92+николаев.!D89+огорон!C89+поляк.!C90+снежн.!C92+С.Бор!C92+тунгала!C92+умлек.!C92+хвой.!D92+чалб.!D92+юбил.!C92+С.Октябрьс.!D92+'СДК Овс.'!D92+клепикова!D92 -> 66 | D88: ='м. от.'!D92+алгач!E91+'ам-бал'!E92+берег!D92+берез.!E92+бомнак!E92+'В-зск'!D92+Горн.!D92+Гулик!E92+дугда!D92+з.сл.!D92+ивановка!E92+николаев.!E89+огорон!D89+поляк.!D90+снежн.!D92+С.Бор!D92+тунгала!D92+умлек.!D92+хвой.!E92+чалб.!E92+юбил.!D92+С.Октябрьс.!E92+'СДК Овс.'!E92+клепикова!E92 -> 40 | E88: ='м. от.'!E92+алгач!F91+'ам-бал'!F92+берег!E92+берез.!F92+бомнак!F92+'В-зск'!E92+Горн.!E92+Гулик!F92+дугда!E92+з.сл.!E92+ивановка!F92+николаев.!F89+огорон!E89+поляк.!E90+снежн.!E92+С.Бор!E92+тунгала!E92+умлек.!E92+хвой.!F92+чалб.!F92+юбил.!E92+С.Октябрьс.!F92+'СДК Овс.'!F92+клепикова!F92 -> 0 | F88: ='м. от.'!F92+алгач!G91+'ам-бал'!G92+берег!F92+берез.!G92+бомнак!G92+'В-зск'!F92+Горн.!F92+Гулик!G92+дугда!F92+з.сл.!F92+ивановка!G92+николаев.!G89+огорон!F89+поляк.!F90+снежн.!F92+С.Бор!F92+тунгала!F92+умлек.!F92+хвой.!G92+чалб.!G92+юбил.!F92+С.Октябрьс.!G92+'СДК Овс.'!G92+клепикова!G92 -> 0 | G88: ='м. от.'!G92+алгач!H91+'ам-бал'!H92+берег!G92+берез.!H92+бомнак!H92+'В-зск'!G92+Горн.!G92+Гулик!H92+дугда!G92+з.сл.!G92+ивановка!H92+николаев.!H89+огорон!G89+поляк.!G90+снежн.!G92+С.Бор!G92+тунгала!G92+умлек.!G92+хвой.!H92+чалб.!H92+юбил.!G92+С.Октябрьс.!H92+'СДК Овс.'!H92+клепикова!H92 -> 0 | H88: ='м. от.'!H92+алгач!I91+'ам-бал'!I92+берег!H92+берез.!I92+бомнак!I92+'В-зск'!H92+Горн.!H92+Гулик!I92+дугда!H92+з.сл.!H92+ивановка!I92+николаев.!I89+огорон!H89+поляк.!H90+снежн.!H92+С.Бор!H92+тунгала!H92+умлек.!H92+хвой.!I92+чалб.!I92+юбил.!H92+С.Октябрьс.!I92+'СДК Овс.'!I92+клепикова!I92 -> 0
B90: Раздел 3. Культурно-массовые мероприятия
B91: Коды по ОКЕИ: единица - 642; человек - 792
C92: N строки | D92: Культурно-массовые мероприятия, всего | E92: из них (из гр. 3) | G92: из общего числа мероприятий (гр. 3)
E93: для детей до 14 лет | F93: для молодежи от 14 до 35 лет | G93: культурно-досуговые мероприятия (из гр. 3) | H93: из них (из гр. 6) | J93: с участием инвалидов и лиц с ОВЗ | K93: доступные для восприятия инвалидами и лицами с ОВЗ | L93: с применением специализированных транспортных средств
H94: для детей до 14 лет | I94: для молодежи от 14 до 35 лет
B95: 1 | C95: 2 | D95: 3 | E95: 4 | F95: 5 | G95: 6 | H95: 7 | I95: 8 | J95: 9 | K95: 10 | L95: 11
B96: Число мероприятий, единиц | C96: 4 | D96: ='м. от.'!D99+алгач!E99+'ам-бал'!E100+берег!D100+берез.!E100+бомнак!E100+'В-зск'!D100+Горн.!D100+Гулик!E100+дугда!D100+з.сл.!D100+ивановка!E100+николаев.!E97+огорон!D97+поляк.!D98+снежн.!D100+С.Бор!D100+тунгала!D100+умлек.!D100+хвой.!E100+чалб.!E100+юбил.!D100+С.Октябрьс.!E100+'СДК Овс.'!E100+клепикова!E100 -> 6065 | E96: ='м. от.'!E99+алгач!F99+'ам-бал'!F100+берег!E100+берез.!F100+бомнак!F100+'В-зск'!E100+Горн.!E100+Гулик!F100+дугда!E100+з.сл.!E100+ивановка!F100+николаев.!F97+огорон!E97+поляк.!E98+снежн.!E100+С.Бор!E100+тунгала!E100+умлек.!E100+хвой.!F100+чалб.!F100+юбил.!E100+С.Октябрьс.!F100+'СДК Овс.'!F100+клепикова!F100 -> 3649 | F96: ='м. от.'!F99+алгач!G99+'ам-бал'!G100+берег!F100+берез.!G100+бомнак!G100+'В-зск'!F100+Горн.!F100+Гулик!G100+дугда!F100+з.сл.!F100+ивановка!G100+николаев.!G97+огорон!F97+поляк.!F98+снежн.!F100+С.Бор!F100+тунгала!F100+умлек.!F100+хвой.!G100+чалб.!G100+юбил.!F100+С.Октябрьс.!G100+'СДК Овс.'!G100+клепикова!G100 -> 1279 | G96: ='м. от.'!G99+алгач!H99+'ам-бал'!H100+берег!G100+берез.!H100+бомнак!H100+'В-зск'!G100+Горн.!G100+Гулик!H100+дугда!G100+з.сл.!G100+ивановка!H100+николаев.!H97+огорон!G97+поляк.!G98+снежн.!G100+С.Бор!G100+тунгала!G100+умлек.!G100+хвой.!H100+чалб.!H100+юбил.!G100+С.Октябрьс.!H100+'СДК Овс.'!H100+клепикова!H100 -> 4385 | H96: ='м. от.'!H99+алгач!I99+'ам-бал'!I100+берег!H100+берез.!I100+бомнак!I100+'В-зск'!H100+Горн.!H100+Гулик!I100+дугда!H100+з.сл.!H100+ивановка!I100+николаев.!I97+огорон!H97+поляк.!H98+снежн.!H100+С.Бор!H100+тунгала!H100+умлек.!H100+хвой.!I100+чалб.!I100+юбил.!H100+С.Октябрьс.!I100+'СДК Овс.'!I100+клепикова!I100 -> 2344 | I96: ='м. от.'!I99+алгач!J99+'ам-бал'!J100+берег!I100+берез.!J100+бомнак!J100+'В-зск'!I100+Горн.!I100+Гулик!J100+дугда!I100+з.сл.!I100+ивановка!J100+николаев.!J97+огорон!I97+поляк.!I98+снежн.!I100+С.Бор!I100+тунгала!I100+умлек.!I100+хвой.!J100+чалб.!J100+юбил.!I100+С.Октябрьс.!J100+'СДК Овс.'!J100+клепикова!J100 -> 1078 | J96: ='м. от.'!J99+алгач!K99+'ам-бал'!K100+берег!J100+берез.!K100+бомнак!K100+'В-зск'!J100+Горн.!J100+Гулик!K100+дугда!J100+з.сл.!J100+ивановка!K100+николаев.!K97+огорон!J97+поляк.!J98+снежн.!J100+С.Бор!J100+тунгала!J100+умлек.!J100+хвой.!K100+чалб.!K100+юбил.!J100+С.Октябрьс.!K100+'СДК Овс.'!K100+клепикова!K100 -> 0 | K96: ='м. от.'!K99+алгач!L99+'ам-бал'!L100+берег!K100+берез.!L100+бомнак!L100+'В-зск'!K100+Горн.!K100+Гулик!L100+дугда!K100+з.сл.!K100+ивановка!L100+николаев.!L97+огорон!K97+поляк.!K98+снежн.!K100+С.Бор!K100+тунгала!K100+умлек.!K100+хвой.!L100+чалб.!L100+юбил.!K100+С.Октябрьс.!L100+'СДК Овс.'!L100+клепикова!L100 -> 0 | L96: ='м. от.'!L99+алгач!M99+'ам-бал'!M100+берег!L100+берез.!M100+бомнак!M100+'В-зск'!L100+Горн.!L100+Гулик!M100+дугда!L100+з.сл.!L100+ивановка!M100+николаев.!M97+огорон!L97+поляк.!L98+снежн.!L100+С.Бор!L100+тунгала!L100+умлек.!L100+хвой.!M100+чалб.!M100+юбил.!L100+С.Октябрьс.!M100+'СДК Овс.'!M100+клепикова!M100 -> 0
B97: из них
B98: платных мероприятий | C98: 5 | D98: ='м. от.'!D101+алгач!E101+'ам-бал'!E102+берег!D102+берез.!E102+бомнак!E102+'В-зск'!D102+Горн.!D102+Гулик!E102+дугда!D102+з.сл.!D102+ивановка!E102+николаев.!E99+огорон!D99+поляк.!D100+снежн.!D102+С.Бор!D102+тунгала!D102+умлек.!D102+хвой.!E102+чалб.!E102+юбил.!D102+С.Октябрьс.!E102+'СДК Овс.'!E102+клепикова!E102 -> 1048 | E98: ='м. от.'!E101+алгач!F101+'ам-бал'!F102+берег!E102+берез.!F102+бомнак!F102+'В-зск'!E102+Горн.!E102+Гулик!F102+дугда!E102+з.сл.!E102+ивановка!F102+николаев.!F99+огорон!E99+поляк.!E100+снежн.!E102+С.Бор!E102+тунгала!E102+умлек.!E102+хвой.!F102+чалб.!F102+юбил.!E102+С.Октябрьс.!F102+'СДК Овс.'!F102+клепикова!F102 -> 299 | F98: ='м. от.'!F101+алгач!G101+'ам-бал'!G102+берег!F102+берез.!G102+бомнак!G102+'В-зск'!F102+Горн.!F102+Гулик!G102+дугда!F102+з.сл.!F102+ивановка!G102+николаев.!G99+огорон!F99+поляк.!F100+снежн.!F102+С.Бор!F102+тунгала!F102+умлек.!F102+хвой.!G102+чалб.!G102+юбил.!F102+С.Октябрьс.!G102+'СДК Овс.'!G102+клепикова!G102 -> 625 | G98: ='м. от.'!G101+алгач!H101+'ам-бал'!H102+берег!G102+берез.!H102+бомнак!H102+'В-зск'!G102+Горн.!G102+Гулик!H102+дугда!G102+з.сл.!G102+ивановка!H102+николаев.!H99+огорон!G99+поляк.!G100+снежн.!G102+С.Бор!G102+тунгала!G102+умлек.!G102+хвой.!H102+чалб.!H102+юбил.!G102+С.Октябрьс.!H102+'СДК Овс.'!H102+клепикова!H102 -> 1048 | H98: ='м. от.'!H101+алгач!I101+'ам-бал'!I102+берег!H102+берез.!I102+бомнак!I102+'В-зск'!H102+Горн.!H102+Гулик!I102+дугда!H102+з.сл.!H102+ивановка!I102+николаев.!I99+огорон!H99+поляк.!H100+снежн.!H102+С.Бор!H102+тунгала!H102+умлек.!H102+хвой.!I102+чалб.!I102+юбил.!H102+С.Октябрьс.!I102+'СДК Овс.'!I102+клепикова!I102 -> 299 | I98: ='м. от.'!I101+алгач!J101+'ам-бал'!J102+берег!I102+берез.!J102+бомнак!J102+'В-зск'!I102+Горн.!I102+Гулик!J102+дугда!I102+з.сл.!I102+ивановка!J102+николаев.!J99+огорон!I99+поляк.!I100+снежн.!I102+С.Бор!I102+тунгала!I102+умлек.!I102+хвой.!J102+чалб.!J102+юбил.!I102+С.Октябрьс.!J102+'СДК Овс.'!J102+клепикова!J102 -> 625 | J98: ='м. от.'!J101+алгач!K101+'ам-бал'!K102+берег!J102+берез.!K102+бомнак!K102+'В-зск'!J102+Горн.!J102+Гулик!K102+дугда!J102+з.сл.!J102+ивановка!K102+николаев.!K99+огорон!J99+поляк.!J100+снежн.!J102+С.Бор!J102+тунгала!J102+умлек.!J102+хвой.!K102+чалб.!K102+юбил.!J102+С.Октябрьс.!K102+'СДК Овс.'!K102+клепикова!K102 -> 0 | K98: ='м. от.'!K101+алгач!L101+'ам-бал'!L102+берег!K102+берез.!L102+бомнак!L102+'В-зск'!K102+Горн.!K102+Гулик!L102+дугда!K102+з.сл.!K102+ивановка!L102+николаев.!L99+огорон!K99+поляк.!K100+снежн.!K102+С.Бор!K102+тунгала!K102+умлек.!K102+хвой.!L102+чалб.!L102+юбил.!K102+С.Октябрьс.!L102+'СДК Овс.'!L102+клепикова!L102 -> 0 | L98: ='м. от.'!L101+алгач!M101+'ам-бал'!M102+берег!L102+берез.!M102+бомнак!M102+'В-зск'!L102+Горн.!L102+Гулик!M102+дугда!L102+з.сл.!L102+ивановка!M102+николаев.!M99+огорон!L99+поляк.!L100+снежн.!L102+С.Бор!L102+тунгала!L102+умлек.!L102+хвой.!M102+чалб.!M102+юбил.!L102+С.Октябрьс.!M102+'СДК Овс.'!M102+клепикова!M102 -> 0
B99: Посещения на мероприятиях, человек | C99: 6 | D99: ='м. от.'!D102+алгач!E102+'ам-бал'!E103+берег!D103+берез.!E103+бомнак!E103+'В-зск'!D103+Горн.!D103+Гулик!E103+дугда!D103+з.сл.!D103+ивановка!E103+николаев.!E100+огорон!D100+поляк.!D101+снежн.!D103+С.Бор!D103+тунгала!D103+умлек.!D103+хвой.!E103+чалб.!E103+юбил.!D103+С.Октябрьс.!E103+'СДК Овс.'!E103+клепикова!E103 -> 226900 | E99: ='м. от.'!E102+алгач!F102+'ам-бал'!F103+берег!E103+берез.!F103+бомнак!F103+'В-зск'!E103+Горн.!E103+Гулик!F103+дугда!E103+з.сл.!E103+ивановка!F103+николаев.!F100+огорон!E100+поляк.!E101+снежн.!E103+С.Бор!E103+тунгала!E103+умлек.!E103+хвой.!F103+чалб.!F103+юбил.!E103+С.Октябрьс.!F103+'СДК Овс.'!F103+клепикова!F103 -> 72984 | F99: ='м. от.'!F102+алгач!G102+'ам-бал'!G103+берег!F103+берез.!G103+бомнак!G103+'В-зск'!F103+Горн.!F103+Гулик!G103+дугда!F103+з.сл.!F103+ивановка!G103+николаев.!G100+огорон!F100+поляк.!F101+снежн.!F103+С.Бор!F103+тунгала!F103+умлек.!F103+хвой.!G103+чалб.!G103+юбил.!F103+С.Октябрьс.!G103+'СДК Овс.'!G103+клепикова!G103 -> 54503 | G99: ='м. от.'!G102+алгач!H102+'ам-бал'!H103+берег!G103+берез.!H103+бомнак!H103+'В-зск'!G103+Горн.!G103+Гулик!H103+дугда!G103+з.сл.!G103+ивановка!H103+николаев.!H100+огорон!G100+поляк.!G101+снежн.!G103+С.Бор!G103+тунгала!G103+умлек.!G103+хвой.!H103+чалб.!H103+юбил.!G103+С.Октябрьс.!H103+'СДК Овс.'!H103+клепикова!H103 -> 188527 | H99: ='м. от.'!H102+алгач!I102+'ам-бал'!I103+берег!H103+берез.!I103+бомнак!I103+'В-зск'!H103+Горн.!H103+Гулик!I103+дугда!H103+з.сл.!H103+ивановка!I103+николаев.!I100+огорон!H100+поляк.!H101+снежн.!H103+С.Бор!H103+тунгала!H103+умлек.!H103+хвой.!I103+чалб.!I103+юбил.!H103+С.Октябрьс.!I103+'СДК Овс.'!I103+клепикова!I103 -> 51840 | I99: ='м. от.'!I102+алгач!J102+'ам-бал'!J103+берег!I103+берез.!J103+бомнак!J103+'В-зск'!I103+Горн.!I103+Гулик!J103+дугда!I103+з.сл.!I103+ивановка!J103+николаев.!J100+огорон!I100+поляк.!I101+снежн.!I103+С.Бор!I103+тунгала!I103+умлек.!I103+хвой.!J103+чалб.!J103+юбил.!I103+С.Октябрьс.!J103+'СДК Овс.'!J103+клепикова!J103 -> 48322 | J99: x | K99: x | L99: ='м. от.'!L102+алгач!M102+'ам-бал'!M103+берег!L103+берез.!M103+бомнак!M103+'В-зск'!L103+Горн.!L103+Гулик!M103+дугда!L103+з.сл.!L103+ивановка!M103+николаев.!M100+огорон!L100+поляк.!L101+снежн.!L103+С.Бор!L103+тунгала!L103+умлек.!L103+хвой.!M103+чалб.!M103+юбил.!L103+С.Октябрьс.!M103+'СДК Овс.'!M103+клепикова!M103 -> 0
B100: из них
B101: на платных мероприятиях | C101: 7 | D101: ='м. от.'!D104+алгач!E104+'ам-бал'!E105+берег!D105+берез.!E105+бомнак!E105+'В-зск'!D105+Горн.!D105+Гулик!E105+дугда!D105+з.сл.!D105+ивановка!E105+николаев.!E102+огорон!D102+поляк.!D103+снежн.!D105+С.Бор!D105+тунгала!D105+умлек.!D105+хвой.!E105+чалб.!E105+юбил.!D105+С.Октябрьс.!E105+'СДК Овс.'!E105+клепикова!E105 -> 15268 | E101: ='м. от.'!E104+алгач!F104+'ам-бал'!F105+берег!E105+берез.!F105+бомнак!F105+'В-зск'!E105+Горн.!E105+Гулик!F105+дугда!E105+з.сл.!E105+ивановка!F105+николаев.!F102+огорон!E102+поляк.!E103+снежн.!E105+С.Бор!E105+тунгала!E105+умлек.!E105+хвой.!F105+чалб.!F105+юбил.!E105+С.Октябрьс.!F105+'СДК Овс.'!F105+клепикова!F105 -> 3196 | F101: ='м. от.'!F104+алгач!G104+'ам-бал'!G105+берег!F105+берез.!G105+бомнак!G105+'В-зск'!F105+Горн.!F105+Гулик!G105+дугда!F105+з.сл.!F105+ивановка!G105+николаев.!G102+огорон!F102+поляк.!F103+снежн.!F105+С.Бор!F105+тунгала!F105+умлек.!F105+хвой.!G105+чалб.!G105+юбил.!F105+С.Октябрьс.!G105+'СДК Овс.'!G105+клепикова!G105 -> 9669 | G101: ='м. от.'!G104+алгач!H104+'ам-бал'!H105+берег!G105+берез.!H105+бомнак!H105+'В-зск'!G105+Горн.!G105+Гулик!H105+дугда!G105+з.сл.!G105+ивановка!H105+николаев.!H102+огорон!G102+поляк.!G103+снежн.!G105+С.Бор!G105+тунгала!G105+умлек.!G105+хвой.!H105+чалб.!H105+юбил.!G105+С.Октябрьс.!H105+'СДК Овс.'!H105+клепикова!H105 -> 15268 | H101: ='м. от.'!H104+алгач!I104+'ам-бал'!I105+берег!H105+берез.!I105+бомнак!I105+'В-зск'!H105+Горн.!H105+Гулик!I105+дугда!H105+з.сл.!H105+ивановка!I105+николаев.!I102+огорон!H102+поляк.!H103+снежн.!H105+С.Бор!H105+тунгала!H105+умлек.!H105+хвой.!I105+чалб.!I105+юбил.!H105+С.Октябрьс.!I105+'СДК Овс.'!I105+клепикова!I105 -> 3196 | I101: ='м. от.'!I104+алгач!J104+'ам-бал'!J105+берег!I105+берез.!J105+бомнак!J105+'В-зск'!I105+Горн.!I105+Гулик!J105+дугда!I105+з.сл.!I105+ивановка!J105+николаев.!J102+огорон!I102+поляк.!I103+снежн.!I105+С.Бор!I105+тунгала!I105+умлек.!I105+хвой.!J105+чалб.!J105+юбил.!I105+С.Октябрьс.!J105+'СДК Овс.'!J105+клепикова!J105 -> 9669 | J101: x | K101: x | L101: ='м. от.'!L104+алгач!M104+'ам-бал'!M105+берег!L105+берез.!M105+бомнак!M105+'В-зск'!L105+Горн.!L105+Гулик!M105+дугда!L105+з.сл.!L105+ивановка!M105+николаев.!M102+огорон!L102+поляк.!L103+снежн.!L105+С.Бор!L105+тунгала!L105+умлек.!L105+хвой.!M105+чалб.!M105+юбил.!L105+С.Октябрьс.!M105+'СДК Овс.'!M105+клепикова!M105 -> 0
B104: Раздел 4. Персонал организации (на конец года)
B106: № | C106: Численность работников – всего | D106: из них (из графы 2) | J106: из численности в профильных организацияхработников, относящихся к основному персоналу имеютобразование(из графы 4) | L106: из численностиштатных работников (графы 3)имеют стаж работыв профильных организациях
D107: штатных | E107: работников, относящихсяк основному персоналу | F107: прошли обучение (инструктирование) по вопросам, связанным с предоставлением услуг инвалидами лицам с ОВЗ | G107: прошли повышение квалификации/ профессиональную переподготовку | H107: из графы 6в рамкахреализации Национального проекта «Культура» | I107: имеющих инвалид-ность | J107: высшее | K107: среднеепрофессио-нальное | L107: до 3 лет | M107: от 3 до 10 лет | N107: свыше 10 лет
B108: 1 | C108: 2 | D108: 3 | E108: 4 | F108: 5 | G108: 6 | H108: 7 | I108: 8 | J108: 9 | K108: 10 | L108: 11 | M108: 12 | N108: 13
B109: 8 | C109: ='м. от.'!C111+алгач!D112+'ам-бал'!D113+берег!C113+берез.!D113+бомнак!D113+'В-зск'!C113+Горн.!C113+Гулик!D113+дугда!B113+з.сл.!C113+ивановка!D113+николаев.!D110+огорон!C110+поляк.!C111+снежн.!C113+С.Бор!C113+тунгала!C113+умлек.!C113+хвой.!D113+чалб.!D113+юбил.!C113+С.Октябрьс.!D113+'СДК Овс.'!D113+клепикова!D113 -> 53 | D109: ='м. от.'!D111+алгач!E112+'ам-бал'!E113+берег!D113+берез.!E113+бомнак!E113+'В-зск'!D113+Горн.!D113+Гулик!E113+дугда!C113+з.сл.!D113+ивановка!E113+николаев.!E110+огорон!D110+поляк.!D111+снежн.!D113+С.Бор!D113+тунгала!D113+умлек.!D113+хвой.!E113+чалб.!E113+юбил.!D113+С.Октябрьс.!E113+'СДК Овс.'!E113+клепикова!E113 -> 53 | E109: ='м. от.'!E111+алгач!F112+'ам-бал'!F113+берег!E113+берез.!F113+бомнак!F113+'В-зск'!E113+Горн.!E113+Гулик!F113+дугда!D113+з.сл.!E113+ивановка!F113+николаев.!F110+огорон!E110+поляк.!E111+снежн.!E113+С.Бор!E113+тунгала!E113+умлек.!E113+хвой.!F113+чалб.!F113+юбил.!E113+С.Октябрьс.!F113+'СДК Овс.'!F113+клепикова!F113 -> 52 | F109: ='м. от.'!F111+алгач!G112+'ам-бал'!G113+берег!F113+берез.!G113+бомнак!G113+'В-зск'!F113+Горн.!F113+Гулик!G113+дугда!E113+з.сл.!F113+ивановка!G113+николаев.!G110+огорон!F110+поляк.!F111+снежн.!F113+С.Бор!F113+тунгала!F113+умлек.!F113+хвой.!G113+чалб.!G113+юбил.!F113+С.Октябрьс.!G113+'СДК Овс.'!G113+клепикова!G113 -> 0 | G109: ='м. от.'!G111+алгач!H112+'ам-бал'!H113+берег!G113+берез.!H113+бомнак!H113+'В-зск'!G113+Горн.!G113+Гулик!H113+дугда!F113+з.сл.!G113+ивановка!H113+николаев.!H110+огорон!G110+поляк.!G111+снежн.!G113+С.Бор!G113+тунгала!G113+умлек.!G113+хвой.!H113+чалб.!H113+юбил.!G113+С.Октябрьс.!H113+'СДК Овс.'!H113+клепикова!H113 -> 3 | H109: ='м. от.'!H111+алгач!I112+'ам-бал'!I113+берег!H113+берез.!I113+бомнак!I113+'В-зск'!H113+Горн.!H113+Гулик!I113+дугда!G113+з.сл.!H113+ивановка!I113+николаев.!I110+огорон!H110+поляк.!H111+снежн.!H113+С.Бор!H113+тунгала!H113+умлек.!H113+хвой.!I113+чалб.!I113+юбил.!H113+С.Октябрьс.!I113+'СДК Овс.'!I113+клепикова!I113 -> 0 | I109: ='м. от.'!I111+алгач!J112+'ам-бал'!J113+берег!I113+берез.!J113+бомнак!J113+'В-зск'!I113+Горн.!I113+Гулик!J113+дугда!H113+з.сл.!I113+ивановка!J113+николаев.!J110+огорон!I110+поляк.!I111+снежн.!I113+С.Бор!I113+тунгала!I113+умлек.!I113+хвой.!J113+чалб.!J113+юбил.!I113+С.Октябрьс.!J113+'СДК Овс.'!J113+клепикова!J113 -> 1 | J109: ='м. от.'!J111+алгач!K112+'ам-бал'!K113+берег!J113+берез.!K113+бомнак!K113+'В-зск'!J113+Горн.!J113+Гулик!K113+дугда!I113+з.сл.!J113+ивановка!K113+николаев.!K110+огорон!J110+поляк.!J111+снежн.!J113+С.Бор!J113+тунгала!J113+умлек.!J113+хвой.!K113+чалб.!K113+юбил.!J113+С.Октябрьс.!K113+'СДК Овс.'!K113+клепикова!K113 -> 2 | ... N109: ='м. от.'!N111+алгач!O112+'ам-бал'!O113+берег!N113+берез.!O113+бомнак!O113+'В-зск'!N113+Горн.!N113+Гулик!O113+дугда!M113+з.сл.!N113+ивановка!O113+николаев.!O110+огорон!N110+поляк.!N111+снежн.!N113+С.Бор!N113+тунгала!N113+умлек.!N113+хвой.!O113+чалб.!O113+юбил.!N113+С.Октябрьс.!O113+'СДК Овс.'!O113+клепикова!O113 -> 23
B118: Раздел 5. Поступление и использование финансовых средств
B119: Код по ОКЕИ: тысяча рублей - 384
B120: N строки | C120: Поступило за год всего (сумма граф 3, 4, 5, 9) | D120: из них (из гр. 2)
D121: бюджетные ассигнования учредителя | E121: финансирование из бюджетов других уровней | F121: от предпринимательской и иной приносящей доход деятельности | G121: из них (из гр. 5) | J121: от сдачи имущества в аренду
G122: от основных видов уставной деятельности | H122: благотворительные и спонсорские вклады | I122: от предпринимательской деятельности
B123: 1 | C123: 2 | D123: 3 | E123: 4 | F123: 5 | G123: 6 | H123: 7 | I123: 8 | J123: 9
B124: 9 | C124: 82273 | D124: 54881 | E124: 25315 | F124: 1986 | G124: 1779 | H124: 207 | I124: 0 | J124: 546
B127: N строки | C127: Израсходовано, всего | D127: из них (из гр. 10)
D128: расходы на оплату труда | H128: на капитальный ремонт и реставрацию | J128: на приобретение (замену) оборудования | M128: на социально значимые мероприятия
D129: всего | E129: из них за счет собственных средств | F129: из общих расходов на оплату труда - основному персоналу (из гр. 11) | G129: из них за счет собственных средств (из гр. 13) | H129: всего | I129: из них за счет собственных средств (из гр. 15) | J129: всего | K129: из них для улучшения условий доступности для лиц с ОВЗ (из гр. 17) | L129: из них за счет собственных средств (из гр. 17) | M129: всего | N129: из них за счет собственных средств (из гр. 20)
B130: 1 | C130: 10 | D130: 11 | E130: 12 | F130: 13 | G130: 14 | H130: 15 | I130: 16 | J130: 17 | K130: 18 | L130: 19 | M130: 20 | N130: 21
B131: 9 | C131: 79364 | D131: ='м. от.'!D126+алгач!E128+'ам-бал'!E129+берег!D129+берез.!E129+бомнак!E129+'В-зск'!D129+Горн.!D129+Гулик!E129+дугда!D129+з.сл.!D129+ивановка!E129+николаев.!E126+огорон!D126+поляк.!D127+снежн.!D129+С.Бор!D129+тунгала!D129+умлек.!D129+хвой.!E129+чалб.!E129+юбил.!D129+С.Октябрьс.!E129+'СДК Овс.'!E129+клепикова!E129 -> 46715 | E131: 0 | F131: ='м. от.'!F126+алгач!G128+'ам-бал'!G129+берег!F129+берез.!G129+бомнак!G129+'В-зск'!F129+Горн.!F129+Гулик!G129+дугда!F129+з.сл.!F129+ивановка!G129+николаев.!G126+огорон!F126+поляк.!F127+снежн.!F129+С.Бор!F129+тунгала!F129+умлек.!F129+хвой.!G129+чалб.!G129+юбил.!F129+С.Октябрьс.!G129+'СДК Овс.'!G129+клепикова!G129 -> 40739 | G131: 0 | H131: 4051 | I131: 0 | J131: 1146 | K131: 0 | L131: 81 | M131: 1336 | N131: 788
...

Sheet м. от.
B2: ФЕДЕРАЛЬНОЕ СТАТИСТИЧЕСКОЕ НАБЛЮДЕНИЕ
B4: КОНФИДЕНЦИАЛЬНОСТЬ ГАРАНТИРУЕТСЯ ПОЛУЧАТЕЛЕМ ИНФОРМАЦИИ
B6: Нарушение порядка предоставления первичных статистических данных или несвоевременное предоставление этих данных, либо предоставление недостоверных первичных статистических данных влечет ответственность, установленную Кодексом Российской Федерации об административных правонарушениях
B8: ВОЗМОЖНО ПРЕДОСТАВЛЕНИЕ В ЭЛЕКТРОННОМ ВИДЕ
B10: СВЕДЕНИЯ ОБ ОРГАНИЗАЦИИ КУЛЬТУРНО-ДОСУГОВОГО ТИПА
B11: за 2023 год
B13: Предоставляют: | I13: Сроки предоставления | M13: Форма N 7-НК
B14: юридические лица - организации культурно-досугового типа, юридические лица - организации, имеющие в своем составе обособленные структурные подразделения, осуществляющие культурно-досуговую деятельность (полный перечень респондентов приведен в указаниях по заполнению формы федерального статистического наблюдения): | I14: 15 февраля | M14: Приказ Росстата: Об утверждении форм от 18.10.2021 № 713
B15: - Министерству культуры Российской Федерации | M15: О внесении изменений (при наличии)
M16: от __________ N ___
M17: от __________ N ___
M18: Годовая
B19: Наименование отчитывающейся организации | H19: Отдел по методике клубной работы МАУ СКЦ Зейского муниципального округа
B20: Почтовый адрес: 676244 Амурская область г.Зея ул.Мухина , 160 оф.111
B21: Код формы по ОКУД | E21: Код
E22: отчитывающейся организации по ОКПО (для территориально обособленного подразделения юридического лица - идентификационный номер)
B23: 1 | E23: 2 | K23: 3 | O23: 4
B24: 609522 | E24: 10347839
B26: Наименование учредителя МКУ "Отдел культуры, архивного дела, молодежной политики и спорта администрации Зейского муниципального округа"
B27: Направление основной деятельности головной организации: деятельность в области культуры и искусства
B28: Число организаций, включенных в сводную форму
B29: (заполняется органами исполнительной власти субъекта Российской Федерации)
B33: Раздел 1. Материально-техническая база
B34: Коды по ОКЕИ: единица - 642; место - 698; квадратный метр - 055
B35: N строки | C35: Число зданий, единиц | D35: из них (из гр. 2) число собственных зданий | E35: из них (из гр. 2) доступны для лиц с нарушением | H35: из общего числа зданий (из гр. 2)
H36: техническое состояние зданий | J36: из них по форме пользования
E37: зрения | F37: слуха | G37: опорно-двигательного аппарата | H37: требуют капитального ремонта | I37: аварийные | J37: в оперативном управлении или хозяйственном ведении | K37: арендованные | L37: прочие
B38: 1 | C38: 2 | D38: 3 | E38: 4 | F38: 5 | G38: 6 | H38: 7 | I38: 8 | J38: 9 | K38: 10 | L38: 11
B39: 1 | C39: 0 | D39: 0 | E39: 0 | F39: 0 | G39: 0 | H39: 0 | I39: 0 | J39: 0 | K39: 0 | L39: 0
B42: N строки | C42: Число помещений, единиц | D42: из общего числа помещений (из гр. 12) | K42: из числа досуговых помещений (из гр. 18) помещения для музейной и библиотечной работы | L42: из общей площади досуговых помещений (из гр. 19)
D43: техническое состояние помещений | F43: арендованных | G43: зрительные залы | I43: Досуговые помещения | L43: площадь, занимаемая музеем | M43: площадь, занимаемая библиотекой
D44: требующих капитального ремонта | E44: аварийных | G44: число зрительных залов, единиц | H44: вместимость зрительных залов, мест | I44: число помещений, единиц | J44: площадь, кв м
B45: 1 | C45: 12 | D45: 13 | E45: 14 | F45: 15 | G45: 16 | H45: 17 | I45: 18 | J45: 19 | K45: 20 | L45: 21 | M45: 22
B46: 1 | C46: 2 | D46: 0 | E46: 0 | F46: 0 | G46: 0 | H46: 0 | I46: 0 | J46: 0 | K46: 0 | L46: 0 | M46: 0
B49: N строки | C49: Число автоматизированных рабочих мест, единиц | D49: Наличие доступа в Интернет (да - 1, нет - 0) | E49: Наличие доступа в Интернет для посетителей и участников формирований (да - 1, нет - 0) | F49: Наличие собственного Интернет-сайта, (да - 1, нет - 0) | G49: Наличие версии собственного Интернет-сайта, доступной для слепых и слабовидящих (да - 1, нет - 0) | H49: Число специализированного оборудования для инвалидов, единиц | I49: Число специализированных транспортных средств, единиц | J49: Число автоклубов, единиц (из гр. 29) | K49: Число выездов автоклубов в сельские населенные пункты, единиц | L49: Количество населенных пунктов, обслуживаемых автоклубами
B50: 1 | C50: 23 | D50: 24 | E50: 25 | F50: 26 | G50: 27 | H50: 28 | I50: 29 | J50: 30 | K50: 31 | L50: 32
B51: 1 | C51: 7 | D51: 1 | E51: 0 | F51: 1 | G51: 1 | H51: 0 | I51: 0 | J51: 0 | K51: 0 | L51: 0
B54: Раздел 2. Клубные формирования
B55: Коды по ОКЕИ: единица - 642; человек - 792
C56: N строки | D56: Число клубных формирований, всего (сумма граф 6, 8) | E56: из гр. 3
E57: для детей до 14 лет | F57: для молодежи от 14 до 35 лет | G57: любительские объединения, клубы по интересам | H57: инклюзивные, включающие в состав инвалидов и лиц с ОВЗ | I57: прочие клубные формирования | J57: из них (из гр. 8)
J58: для детей до 14 лет | K58: для молодежи от 14 до 35 лет | L58: формирования/кружки самодеятельного народного творчества | M58: из них (из гр. 11) | P58: формирования/кружки технического творчества | Q58: спортивные формирования/кружки
M59: для детей до 14 лет | N59: для молодежи от 14 до 35 лет | O59: работающих на платной основе
B60: 1 | C60: 2 | D60: 3 | E60: 4 | F60: 5 | G60: 6 | H60: 7 | I60: 8 | J60: 9 | K60: 10 | L60: 11 | M60: 12 | N60: 13 | O60: 14 | P60: 15 | Q60: 16
B61: Всего,
B62: единиц | C62: 2 | D62: =G62+I62 -> 0 | E62: 0 | F62: 0 | G62: 0 | H62: 0 | I62: 0 | J62: 0 | K62: 0 | L62: 0 | M62: 0 | N62: 0 | O62: 0 | P62: 0 | Q62: 0
B63: В них участников, человек | C63: 3 | D63: =G63+I63 -> 0 | E63: 0 | F63: 0 | G63: 0 | H63: 0 | I63: 0 | J63: 0 | K63: 0 | L63: 0 | M63: 0 | N63: 0 | O63: 0 | P63: 0 | Q63: 0
B65: N строки | C65: в том числе коллективы (из гр. 11)
C66: вокальные | D66: в том числе коллективы (из гр. 17) | K66: хореографические | L66: в том числе коллективы (из гр. 25)
D67: хоры | E67: из них (из гр. 18) | G67: ансамбли | H67: из них (из гр. 21) | J67: студии эстрадного пения | L67: народного танца | M67: классического танца | N67: современного танца | O67: бального и эстрадно-спортивного танца | P67: иные
E68: академические | F68: народные | H68: академические | I68: народные
B69: 2 | C69: 17 | D69: 18 | E69: 19 | F69: 20 | G69: 21 | H69: 22 | I69: 23 | J69: 24 | K69: 25 | L69: 26 | M69: 27 | N69: 28 | O69: 29 | P69: 30
B70: 2 | C70: 0 | D70: 0 | E70: 0 | F70: 0 | G70: 0 | H70: 0 | I70: 0 | J70: 0 | K70: 0 | L70: 0 | M70: 0 | N70: 0 | O70: 0 | P70: 0
B71: 3 | C71: 0 | D71: 0 | E71: 0 | F71: 0 | G71: 0 | H71: 0 | I71: 0 | J71: 0 | K71: 0 | L71: 0 | M71: 0 | N71: 0 | O71: 0 | P71: 0
B73: N строки | C73: в том числе коллективы (из гр. 11)
C74: инструментальные | D74: в том числе коллективы (из гр. 30) | N74: театральные | O74: в том числе коллективы (из гр. 41)
D75: оркестры | E75: из них (из гр. 31) | I75: ансамбли | J75: из них (из гр. 36) | O75: драматические | P75: театры кукол | Q75: музыкальные | R75: театры эстрады
E76: народных инструментов | F76: духовых инструментов | G76: джазовые и эстрадные | H76: симфонические | J76: народных инструментов | K76: духовых инструментов | L76: джазовые и эстрадные | M76: камерные
B77: 2 | C77: 31 | D77: 32 | E77: 33 | F77: 34 | G77: 35 | H77: 36 | I77: 37 | J77: 38 | K77: 39 | L77: 40 | M77: 41 | N77: 42 | O77: 43 | P77: 44 | Q77: 45 | R77: 46
B78: 2 | C78: 0 | D78: 0 | E78: 0 | F78: 0 | G78: 0 | H78: 0 | I78: 0 | J78: 0 | K78: 0 | L78: 0 | M78: 0 | N78: 0 | O78: 0 | P78: 0 | Q78: 0
B79: 3 | C79: 0 | D79: 0 | E79: 0 | F79: 0 | G79: 0 | H79: 0 | I79: 0 | J79: 0 | K79: 0 | L79: 0 | M79: 0 | N79: 0 | O79: 0 | P79: 0 | Q79: 0 | R79: 0
B81: N строки | C81: в том числе коллективы (из гр. 11)
C82: фольклорные | D82: изобразительного искусства | E82: декоративно-прикладного искусства | F82: кино-фото-видео-любителей | G82: циркового искусства | H82: прочие
B83: 2 | C83: 47 | D83: 48 | E83: 49 | F83: 50 | G83: 51 | H83: 52
B84: 2 | C84: 0 | D84: 0 | E84: 0 | F84: 0 | G84: 0 | H84: 0
B85: 3 | C85: 0 | D85: 0 | E85: 0 | F85: 0 | G85: 0 | H85: 0
B88: N строки | C88: число коллективов, имеющих звание (из гр. 8)
C89: народный | D89: образцовый | E89: заслуженный коллектив народного творчества | F89: лауреат международного конкурса (фестиваля) | G89: лауреат всероссийского конкурса (фестиваля) | H89: лауреат регионального конкурса (фестиваля)
B90: 2 | C90: 53 | D90: 54 | E90: 55 | F90: 56 | G90: 57 | H90: 58
B91: 2 | C91: 0 | D91: 0 | E91: 0 | F91: 0 | G91: 0 | H91: 0
B92: 3 | C92: 0 | D92: 0 | E92: 0 | F92: 0 | G92: 0 | H92: 0
B93: Раздел 3. Культурно-массовые мероприятия
B94: Коды по ОКЕИ: единица - 642; человек - 792
C95: N строки | D95: Культурно-массовые мероприятия, всего | E95: из них (из гр. 3) | G95: из общего числа мероприятий (гр. 3)
E96: для детей до 14 лет | F96: для молодежи от 14 до 35 лет | G96: культурно-досуговые мероприятия (из гр. 3) | H96: из них (из гр. 6) | J96: с участием инвалидов и лиц с ОВЗ | K96: доступные для восприятия инвалидами и лицами с ОВЗ | L96: с применением специализированных транспортных средств
H97: для детей до 14 лет | I97: для молодежи от 14 до 35 лет
B98: 1 | C98: 2 | D98: 3 | E98: 4 | F98: 5 | G98: 6 | H98: 7 | I98: 8 | J98: 9 | K98: 10 | L98: 11
B99: Число мероприятий, единиц | C99: 4 | D99: 70 | E99: 16 | F99: 23 | G99: 67 | H99: 16 | I99: 20 | J99: 0 | K99: 0 | L99: 0
B100: из них
B101: платных мероприятий | C101: 5 | D101: 7 | E101: 4 | F101: 1 | G101: 7 | H101: 4 | I101: 1 | J101: 0 | K101: 0 | L101: 0
B102: Посещения на мероприятиях, человек | C102: 6 | D102: 11497 | E102: 1222 | F102: 4204 | G102: 11437 | H102: 1222 | I102: 4144 | J102: х | K102: х | L102: 0
B103: из них
B104: на платных мероприятиях | C104: 7 | D104: 202 | E104: 85 | F104: 11 | G104: 202 | H104: 85 | I104: 11 | J104: х | K104: х | L104: 0
B106: Раздел 4. Персонал организации (на конец года)
B107: Коды по ОКЕИ: человек - 792
B108: № | C108: Численность работников – всего | D108: из них (из графы 2) | J108: из численности в профильных организацияхработников, относящихся к основному персоналу имеютобразование(из графы 4) | L108: из численностиштатных работников (графы 3)имеют стаж работыв профильных организациях
D109: штатных | E109: работников, относящихсяк основному персоналу | F109: прошли обучение (инструктирование) по вопросам, связанным с предоставлением услуг инвалидами лицам с ОВЗ | G109: прошли повышение квалификации/ профессиональную переподготовку | H109: из графы 6в рамкахреализации Национального проекта «Культура» | I109: имеющих инвалид-ность | J109: высшее | K109: среднеепрофессио-нальное | L109: до 3 лет | M109: от 3 до 10 лет | N109: свыше 10 лет
B110: 1 | C110: 2 | D110: 3 | E110: 4 | F110: 5 | G110: 6 | H110: 7 | I110: 8 | J110: 9 | K110: 10 | L110: 11 | M110: 12 | N110: 13
B111: 8 | C111: 7 | D111: 7 | E111: 6 | F111: 0 | G111: 1 | H111: 0 | I111: 0 | J111: 0 | K111: 2 | L111: 3 | M111: 1 | N111: 1
B113: Раздел 5. Поступление и использование финансовых средств
B114: Код по ОКЕИ: тысяча рублей - 384
B115: N строки | C115: Поступило за год всего (сумма граф 3, 4, 5, 9) | D115: из них (из гр. 2)
D116: бюджетные ассигнования учредителя | E116: финансирование из бюджетов других уровней | F116: от предпринимательской и иной приносящей доход деятельности | G116: из них (из гр. 5) | J116: от сдачи имущества в аренду
G117: от основных видов уставной деятельности | H117: благотворительные и спонсорские вклады | I117: от предпринимательской деятельности
B118: 1 | C118: 2 | D118: 3 | E118: 4 | F118: 5 | G118: 6 | H118: 7 | I118: 8 | J118: 9
B119: 9 | C119: 6643 | D119: 6643
B122: N строки | C122: Израсходовано, всего | D122: из них (из гр. 10)
D123: расходы на оплату труда | H123: на капитальный ремонт и реставрацию | J123: на приобретение (замену) оборудования | M123: на социально значимые мероприятия
D124: всего | E124: из них за счет собственных средств | F124: из общих расходов на оплату труда - основному персоналу (из гр. 11) | G124: из них за счет собственных средств (из гр. 13) | H124: всего | I124: из них за счет собственных средств (из гр. 15) | J124: всего | K124: из них для улучшения условий доступности для лиц с ОВЗ (из гр. 17) | L124: из них за счет собственных средств (из гр. 17) | M124: всего | N124: из них за счет собственных средств (из гр. 20)
B125: 1 | C125: 10 | D125: 11 | E125: 12 | F125: 13 | G125: 14 | H125: 15 | I125: 16 | J125: 17 | K125: 18 | L125: 19 | M125: 20 | N125: 21
...

Sheet алгач
C2: ФЕДЕРАЛЬНОЕ СТАТИСТИЧЕСКОЕ НАБЛЮДЕНИЕ
C4: КОНФИДЕНЦИАЛЬНОСТЬ ГАРАНТИРУЕТСЯ ПОЛУЧАТЕЛЕМ ИНФОРМАЦИИ
C6: Нарушение порядка предоставления первичных статистических данных или несвоевременное предоставление этих данных, либо предоставление недостоверных первичных статистических данных влечет ответственность, установленную Кодексом Российской Федерации об административных правонарушениях
C8: ВОЗМОЖНО ПРЕДОСТАВЛЕНИЕ В ЭЛЕКТРОННОМ ВИДЕ
C10: СВЕДЕНИЯ ОБ ОРГАНИЗАЦИИ КУЛЬТУРНО-ДОСУГОВОГО ТИПА
C11: за 2023 год
C13: Предоставляют: | J13: Сроки предоставления | N13: Форма N 7-НК
C14: юридические лица - организации культурно-досугового типа, юридические лица - организации, имеющие в своем составе обособленные структурные подразделения, осуществляющие культурно-досуговую деятельность (полный перечень респондентов приведен в указаниях по заполнению формы федерального статистического наблюдения): | J14: 15 февраля | N14: Приказ Росстата: Об утверждении формы от 18.10.2021 № 713
C15: - Министерству культуры Российской Федерации | N15: О внесении изменений (при наличии)
N16: от __________ N ___
N17: от __________ N ___
N18: Годовая
C19: Дом культуры п. Алгач | I19: МАУ СКЦ Зейского муниципального округа
C20: Почтовый адрес: 676212 Амурская область Зейский район, пер. Сосновый ,14
C21: Код формы по ОКУД | F21: Код
F22: отчитывающейся организации по ОКПО (для территориально обособленного подразделения юридического лица - идентификационный номер)
C23: 1 | F23: 2 | L23: 3 | P23: 4
C24: 609522 | F24: 10347839
C26: Наименование учредителя МКУ "Отдел культуры, архивного дела, молодежной политики и спорта Зейского муниципального округа"
C27: Направление основной деятельности головной организации: деятельность в области культуры и искусства
C28: Число организаций, включенных в сводную форму
C29: (заполняется органами исполнительной власти субъекта Российской Федерации)
A33: Раздел 1. Материально-техническая база
A34: Коды по ОКЕИ: единица - 642; место - 698; квадратный метр - 055
C35: N строки | D35: Число зданий, единиц | E35: из них (из гр. 2) число собственных зданий | F35: из них (из гр. 2) доступны для лиц с нарушением | I35: из общего числа зданий (из гр. 2)
I36: техническое состояние зданий | K36: из них по форме пользования
F37: зрения | G37: слуха | H37: опорно-двигательного аппарата | I37: требуют капитального ремонта | J37: аварийные | K37: в оператив-ном управлении или хозяйственном ведении | L37: арендованные | M37: прочие
C38: 1 | D38: 2 | E38: 3 | F38: 4 | G38: 5 | H38: 6 | I38: 7 | J38: 8 | K38: 9 | L38: 10 | M38: 11
C39: 1 | D39: 1 | E39: 1 | F39: 0 | G39: 0 | H39: 1 | I39: 0 | J39: 0 | K39: 1 | L39: 0 | M39: 0
C42: N строки | D42: Число помещений, единиц | E42: из общего числа помещений (из гр. 12) | L42: из числа досуговых помещений (из гр. 18) помещения для музейной и библиотечной работы | M42: из общей площади досуговых помещений (из гр. 19)
E43: техническое состояние помещений | G43: арендованных | H43: зрительные залы | J43: Досуговые помещения | M43: площадь, занимаемая музеем | N43: площадь, занимаемая библиотекой
E44: требующих капитального ремонта | F44: аварийных | H44: число зрительных залов, единиц | I44: вместимость зрительных залов, мест | J44: число помещений, единиц | K44: площадь, кв м
C45: 1 | D45: 12 | E45: 13 | F45: 14 | G45: 15 | H45: 16 | I45: 17 | J45: 18 | K45: 19 | L45: 20 | M45: 21 | N45: 22
C46: 1 | D46: 11 | E46: 0 | F46: 0 | G46: 0 | H46: 1 | I46: 120 | J46: 3 | K46: 220 | L46: 0 | M46: 0 | N46: 0
C49: N строки | D49: Число автоматизированных рабочих мест, единиц | E49: Наличие доступа в Интернет (да - 1, нет - 0) | F49: Наличие доступа в Интернет для посетителей и участников формирований (да - 1, нет - 0) | G49: Наличие собственного Интернет-сайта, (да - 1, нет - 0) | H49: Наличие версии собственного Интернет-сайта, доступной для слепых и слабовидящих (да - 1, нет - 0) | I49: Число специализированного оборудования для инвалидов, единиц | J49: Число специализированных транспортных средств, единиц | K49: Число автоклубов, единиц (из гр. 29) | L49: Число выездов автоклубов в сельские населенные пункты, единиц | M49: Количество населенных пунктов, обслуживаемых автоклубами
C50: 1 | D50: 23 | E50: 24 | F50: 25 | G50: 26 | H50: 27 | I50: 28 | J50: 29 | K50: 30 | L50: 31 | M50: 32
C51: 1 | D51: 1 | E51: 1 | F51: 0 | G51: 0 | H51: 0 | I51: 0 | J51: 0 | K51: 0 | L51: 0 | M51: 0
C53: Раздел 2. Клубные формирования
A54: Коды по ОКЕИ: единица - 642; человек - 792
D55: N строки | E55: Число клубных формирований, всего (сумма граф 6, 8) | F55: из гр. 3
F56: для детей до 14 лет | G56: для молодежи от 14 до 35 лет | H56: любительские объединения, клубы по интересам | I56: инклюзивные, включающие в состав инвалидов и лиц с ОВЗ | J56: прочие клубные формирования | K56: из них (из гр. 8)
K57: для детей до 14 лет | L57: для молодежи от 14 до 35 лет | M57: формирования/кружки самодеятельного народного творчества | N57: из них (из гр. 11) | Q57: формирования/кружки технического творчества | R57: спортивные формирования/кружки
N58: для детей до 14 лет | O58: для молодежи от 14 до 35 лет | P58: работающих на платной основе
C59: 1 | D59: 2 | E59: 3 | F59: 4 | G59: 5 | H59: 6 | I59: 7 | J59: 8 | K59: 9 | L59: 10 | M59: 11 | N59: 12 | O59: 13 | P59: 14 | Q59: 15 | R59: 16
C60: Всего,
C61: единиц | E61: 5 | F61: 5 | G61: 0 | H61: 1 | I61: 0 | J61: 4 | K61: 4 | L61: 0 | M61: 4 | N61: 4 | O61: 0 | P61: 0 | Q61: 0 | R61: 0
C62: В них участников, человек | E62: 50 | F62: 50 | G62: 0 | H62: 9 | I62: 0 | J62: 41 | K62: 41 | L62: 0 | M62: 41 | N62: 41 | O62: 0 | P62: 0 | Q62: 0 | R62: 0
C64: N строки | D64: в том числе коллективы (из гр. 11)
D65: вокальные | E65: в том числе коллективы (из гр. 17) | L65: хореографические | M65: в том числе коллективы (из гр. 25)
E66: хоры | F66: из них (из гр. 18) | H66: ансамбли | I66: из них (из гр. 21) | K66: студии эстрадного пения | M66: народного танца | N66: классического танца | O66: современного танца | P66: бального и эстрадно-спортивного танца | Q66: иные
F67: академические | G67: народные | I67: академические | J67: народные
C68: 2 | D68: 17 | E68: 18 | F68: 19 | G68: 20 | H68: 21 | I68: 22 | J68: 23 | K68: 24 | L68: 25 | M68: 26 | N68: 27 | O68: 28 | P68: 29 | Q68: 30
C69: 2 | D69: 0 | E69: 0 | F69: 0 | G69: 0 | H69: 0 | I69: 0 | J69: 0 | K69: 0 | L69: 1 | M69: 0 | N69: 0 | O69: 0 | P69: 0 | Q69: 1
C70: 3 | D70: 0 | E70: 0 | F70: 0 | G70: 0 | H70: 0 | I70: 0 | J70: 0 | K70: 0 | L70: 10 | M70: 0 | N70: 0 | O70: 0 | P70: 0 | Q70: 10
C72: N строки | D72: в том числе коллективы (из гр. 11)
D73: инструментальные | E73: в том числе коллективы (из гр. 30) | O73: театральные | P73: в том числе коллективы (из гр. 41)
E74: оркестры | F74: из них (из гр. 31) | J74: ансамбли | K74: из них (из гр. 36) | P74: драматические | Q74: театры кукол | R74: музыкальные | S74: театры эстрады
F75: народных инструментов | G75: духовых инструментов | H75: джазовые и эстрадные | I75: симфонические | K75: народных инструментов | L75: духовых инструментов | M75: джазовые и эстрадные | N75: камерные
C76: 2 | D76: 31 | E76: 32 | F76: 33 | G76: 34 | H76: 35 | I76: 36 | J76: 37 | K76: 38 | L76: 39 | M76: 40 | N76: 41 | O76: 42 | P76: 43 | Q76: 44 | R76: 45 | S76: 46
C77: 2 | D77: 0 | E77: 0 | F77: 0 | G77: 0 | H77: 0 | I77: 0 | J77: 0 | K77: 0 | L77: 0 | M77: 0 | N77: 0 | O77: 0 | P77: 0 | Q77: 0 | R77: 0 | S77: 0
C78: 3 | D78: 0 | E78: 0 | F78: 0 | G78: 0 | H78: 0 | I78: 0 | J78: 0 | K78: 0 | L78: 0 | M78: 0 | N78: 0 | O78: 0 | P78: 0 | Q78: 0 | R78: 0 | S78: 0
C80: N строки | D80: в том числе коллективы (из гр. 11)
D81: фольклорные | E81: изобразительного искусства | F81: декоративно-прикладного искусства | G81: кино-фото-видео-любителей | H81: циркового искусства | I81: прочие
C82: 2 | D82: 47 | E82: 48 | F82: 49 | G82: 50 | H82: 51 | I82: 52
C83: 2 | D83: 0 | E83: 0 | F83: 3 | G83: 0 | H83: 0 | I83: 0
C84: 3 | D84: 0 | E84: 0 | F84: 31 | G84: 0 | H84: 0 | I84: 0
C87: N строки | D87: число коллективов, имеющих звание (из гр. 8)
D88: народный | E88: образцовый | F88: заслуженный коллектив народного творчества | G88: лауреат международного конкурса (фестиваля) | H88: лауреат всероссийского конкурса (фестиваля) | I88: лауреат регионального конкурса (фестиваля)
C89: 2 | D89: 53 | E89: 54 | F89: 55 | G89: 56 | H89: 57 | I89: 58
C90: 2 | D90: 0 | E90: 0 | F90: 0 | G90: 0 | H90: 0 | I90: 0
C91: 3 | D91: 0 | E91: 0 | F91: 0 | G91: 0 | H91: 0 | I91: 0
A93: Раздел 3. Культурно-массовые мероприятия
A94: Коды по ОКЕИ: единица - 642; человек - 792
D95: N строки | E95: Культурно-массовые мероприятия, всего | F95: из них (из гр. 3) | H95: из общего числа мероприятий (гр. 3)
F96: для детей до 14 лет | G96: для молодежи от 14 до 35 лет | H96: культурно-досуговые мероприятия (из гр. 3) | I96: из них (из гр. 6) | K96: с участием инвалидов и лиц с ОВЗ | L96: доступные для восприятия инвалидами и лицами с ОВЗ | M96: с применением специализированных транспортных средств
I97: для детей до 14 лет | J97: для молодежи от 14 до 35 лет
C98: 1 | D98: 2 | E98: 3 | F98: 4 | G98: 5 | H98: 6 | I98: 7 | J98: 8 | K98: 9 | L98: 10 | M98: 11
C99: Число мероприятий, единиц | D99: 4 | E99: 316 | F99: 149 | G99: 138 | H99: 224 | I99: 94 | J99: 110 | K99: 0 | L99: 0 | M99: 0
C100: из них
C101: платных мероприятий | D101: 5 | E101: 84 | F101: 0 | G101: 84 | H101: 84 | I101: 0 | J101: 84 | K101: 0 | L101: 0 | M101: 0
C102: Посещения на мероприятиях, человек | D102: 6 | E102: 5055 | F102: 2401 | G102: 1502 | H102: 3401 | I102: 1584 | J102: 993 | K102: x | L102: x | M102: 0
C103: из них
C104: на платных мероприятиях | D104: 7 | E104: 461 | F104: 0 | G104: 461 | H104: 461 | I104: 0 | J104: 461 | K104: x | L104: x | M104: 0
A107: Раздел 4. Персонал организации (на конец года)
A108: Коды по ОКЕИ: человек - 792
C109: № | D109: Числен-ность работников – всего | E109: из них (из графы 2) | K109: из численности в профильных организацияхработников, относящихся к основному персоналу имеютобразование(из графы 4) | M109: из численностиштатных работников (графы 3)имеют стаж работыв профильных организациях
E110: штатных | F110: работников, относящихсяк основному персоналу | G110: прошли обучение (инструктирование) по вопросам, связанным с предоставлением услуг инвалидами лицам с ОВЗ | H110: прошли повышение квалификации/ профессиональную переподготовку | I110: из графы 6в рамкахреализации Национального проекта «Культура» | J110: имеющих инвалид-ность | K110: высшее | L110: среднеепрофессио-нальное | M110: до 3 лет | N110: от 3 до 10 лет | O110: свыше 10 лет
C111: 1 | D111: 2 | E111: 3 | F111: 4 | G111: 5 | H111: 6 | I111: 7 | J111: 8 | K111: 9 | L111: 10 | M111: 11 | N111: 12 | O111: 13
C112: 8 | D112: 2 | E112: 2 | F112: 2 | G112: 0 | H112: 0 | I112: 0 | J112: 0 | K112: 0 | L112: 1 | M112: 0 | N112: 2 | O112: 0
A115: Раздел 5. Поступление и использование финансовых средств
A116: Код по ОКЕИ: тысяча рублей - 384
C117: N строки | D117: Поступило за год всего (сумма граф 3, 4, 5, 9) | E117: из них (из гр. 2)
E118: бюджетные ассигнования учредителя | F118: финансирование из бюджетов других уровней | G118: от предпринимательской и иной приносящей доход деятельности | H118: из них (из гр. 5) | K118: от сдачи имущества в аренду
H119: от основных видов уставной деятельности | I119: благотворительные и спонсорские вклады | J119: от предпринимательской деятельности
C120: 1 | D120: 2 | E120: 3 | F120: 4 | G120: 5 | H120: 6 | I120: 7 | J120: 8 | K120: 9
C121: 9 | D121: 1555 | E121: 1555
C124: N строки | D124: Израсходовано, всего | E124: из них (из гр. 10)
E125: расходы на оплату труда | I125: на капитальный ремонт и реставрацию | K125: на приобретение (замену) оборудования | N125: на социально значимые мероприятия
E126: всего | F126: из них за счет собственных средств | G126: из общих расходов на оплату труда - основному персоналу (из гр. 11) | H126: из них за счет собственных средств (из гр. 13) | I126: всего | J126: из них за счет собственных средств (из гр. 15) | K126: всего | L126: из них для улучшения условий доступности для лиц с ОВЗ (из гр. 17) | M126: из них за счет собственных средств (из гр. 17) | N126: всего | O126: из них за счет собственных средств (из гр. 20)
C127: 1 | D127: 10 | E127: 11 | F127: 12 | G127: 13 | H127: 14 | I127: 15 | J127: 16 | K127: 17 | L127: 18 | M127: 19 | N127: 20 | O127: 21
...

Sheet ам-бал
C2: ФЕДЕРАЛЬНОЕ СТАТИСТИЧЕСКОЕ НАБЛЮДЕНИЕ
C4: КОНФИДЕНЦИАЛЬНОСТЬ ГАРАНТИРУЕТСЯ ПОЛУЧАТЕЛЕМ ИНФОРМАЦИИ
C6: Нарушение порядка предоставления первичных статистических данных или несвоевременное предоставление этих данных, либо предоставление недостоверных первичных статистических данных влечет ответственность, установленную Кодексом Российской Федерации об административных правонарушениях
C8: ВОЗМОЖНО ПРЕДОСТАВЛЕНИЕ В ЭЛЕКТРОННОМ ВИДЕ
C10: СВЕДЕНИЯ ОБ ОРГАНИЗАЦИИ КУЛЬТУРНО-ДОСУГОВОГО ТИПА
C11: за 2023 год
C13: Предоставляют: | J13: Сроки предоставления | N13: Форма N 7-НК
C14: юридические лица - организации культурно-досугового типа, юридические лица - организации, имеющие в своем составе обособленные структурные подразделения, осуществляющие культурно-досуговую деятельность (полный перечень респондентов приведен в указаниях по заполнению формы федерального статистического наблюдения): | J14: 15 февраля | N14: Приказ Росстата: Об утверждении формы от 18.10.2021 № 713
C15: - Министерству культуры Российской Федерации | N15: О внесении изменений (при наличии)
N16: от __________ N ___
N17: от __________ N ___
N18: Годовая
C19: Наименование отчитывающейся организации | I19: Дом культуры с. Амуро-Балтийск МАУ СКЦ Зейского муниципального округа
C20: Почтовый адрес: 676206 Амурская область Зейский район с. Амуро-Балтийск, ул. Юбилейная, 17
C21: Код формы по ОКУД | F21: Код
F22: отчитывающейся организации по ОКПО (для территориально обособленного подразделения юридического лица - идентификационный номер)
C23: 1 | F23: 2 | L23: 3 | P23: 4
C24: 609522 | F24: 10347839
C26: Наименование учредителя МКУ Отдел культуры, архивного дела, молодежной политики и спорта администрации Зейского муниципального округа
C27: Направление основной деятельности головной организации: деятельность в области культуры и искусства
C28: Число организаций, включенных в сводную форму
C29: (заполняется органами исполнительной власти субъекта Российской Федерации)
A33: Раздел 1. Материально-техническая база
A34: Коды по ОКЕИ: единица - 642; место - 698; квадратный метр - 055
C35: N строки | D35: Число зданий, единиц | E35: из них (из гр. 2) число собственных зданий | F35: из них (из гр. 2) доступны для лиц с нарушением | I35: из общего числа зданий (из гр. 2)
I36: техническое состояние зданий | K36: из них по форме пользования
F37: зрения | G37: слуха | H37: опорно-двигательного аппарата | I37: требуют капитального ремонта | J37: аварийные | K37: в оперативном управлении или хозяйственном ведении | L37: арендованные | M37: прочие
C38: 1 | D38: 2 | E38: 3 | F38: 4 | G38: 5 | H38: 6 | I38: 7 | J38: 8 | K38: 9 | L38: 10 | M38: 11
C39: 1 | D39: 1 | E39: 1 | F39: 0 | G39: 0 | H39: 0 | I39: 1 | J39: 0 | K39: 1 | L39: 0 | M39: 0
C42: N строки | D42: Число помещений, единиц | E42: из общего числа помещений (из гр. 12) | L42: из числа досуговых помещений (из гр. 18) помещения для музейной и библиотечной работы | M42: из общей площади досуговых помещений (из гр. 19)
E43: техническое состояние помещений | G43: арендованных | H43: зрительные залы | J43: Досуговые помещения | M43: площадь, занимаемая музеем | N43: площадь, занимаемая библиотекой
E44: требующих капитального ремонта | F44: аварийных | H44: число зрительных залов, единиц | I44: вместимость зрительных залов, мест | J44: число помещений, единиц | K44: площадь, кв м
C45: 1 | D45: 12 | E45: 13 | F45: 14 | G45: 15 | H45: 16 | I45: 17 | J45: 18 | K45: 19 | L45: 20 | M45: 21 | N45: 22
C46: 1 | D46: 4 | E46: 4 | F46: 0 | G46: 0 | H46: 1 | I46: 100 | J46: 3 | K46: 56 | L46: 0 | M46: 0 | N46: 0
C49: N строки | D49: Число автоматизированных рабочих мест, единиц | E49: Наличие доступа в Интернет (да - 1, нет - 0) | F49: Наличие доступа в Интернет для посетителей и участников формирований (да - 1, нет - 0) | G49: Наличие собственного Интернет-сайта, (да - 1, нет - 0) | H49: Наличие версии собственного Интернет-сайта, доступной для слепых и слабовидящих (да - 1, нет - 0) | I49: Число специализированного оборудования для инвалидов, единиц | J49: Число специализированных транспортных средств, единиц | K49: Число автоклубов, единиц (из гр. 29) | L49: Число выездов автоклубов в сельские населенные пункты, единиц | M49: Количество населенных пунктов, обслуживаемых автоклубами
C50: 1 | D50: 23 | E50: 24 | F50: 25 | G50: 26 | H50: 27 | I50: 28 | J50: 29 | K50: 30 | L50: 31 | M50: 32
C51: 1 | D51: 2 | E51: 0 | F51: 0 | G51: 0 | H51: 0 | I51: 0 | J51: 0 | K51: 0 | L51: 0 | M51: 0
C54: Раздел 2. Клубные формирования
A55: Коды по ОКЕИ: единица - 642; человек - 792
D56: N строки | E56: Число клубных формирований, всего (сумма граф 6, 8) | F56: из гр. 3
F57: для детей до 14 лет | G57: для молодежи от 14 до 35 лет | H57: любительские объединения, клубы по интересам | I57: инклюзивные, включающие в состав инвалидов и лиц с ОВЗ | J57: прочие клубные формирования | K57: из них (из гр. 8)
K58: для детей до 14 лет | L58: для молодежи от 14 до 35 лет | M58: формирования/кружки самодеятельного народного творчества | N58: из них (из гр. 11) | Q58: формирования/кружки технического творчества | R58: спортивные формирования/кружки
N59: для детей до 14 лет | O59: для молодежи от 14 до 35 лет | P59: работающих на платной основе
C60: 1 | D60: 2 | E60: 3 | F60: 4 | G60: 5 | H60: 6 | I60: 7 | J60: 8 | K60: 9 | L60: 10 | M60: 11 | N60: 12 | O60: 13 | P60: 14 | Q60: 15 | R60: 16
C61: Всего,
C62: единиц | D62: 2 | E62: =H62+J62 -> 2 | F62: 2 | G62: 0 | H62: 0 | I62: 0 | J62: 2 | K62: 2 | L62: 0 | M62: 2 | N62: 2 | O62: 0 | P62: 0 | Q62: 0 | R62: 0
C63: В них участников, человек | D63: 3 | E63: 34 | F63: 34 | G63: 0 | H63: 0 | I63: 0 | J63: 34 | K63: 34 | L63: 0 | M63: 34 | N63: 34 | O63: 0 | P63: 0 | Q63: 0 | R63: 0
C65: N строки | D65: в том числе коллективы (из гр. 11)
D66: вокальные | E66: в том числе коллективы (из гр. 17) | L66: хореографические | M66: в том числе коллективы (из гр. 25)
E67: хоры | F67: из них (из гр. 18) | H67: ансамбли | I67: из них (из гр. 21) | K67: студии эстрадного пения | M67: народного танца | N67: классического танца | O67: современного танца | P67: бального и эстрадно-спортивного танца | Q67: иные
F68: академические | G68: народные | I68: академические | J68: народные
C69: 2 | D69: 17 | E69: 18 | F69: 19 | G69: 20 | H69: 21 | I69: 22 | J69: 23 | K69: 24 | L69: 25 | M69: 26 | N69: 27 | O69: 28 | P69: 29 | Q69: 30
C70: 2 | D70: 0 | E70: 0 | F70: 0 | G70: 0 | H70: 0 | I70: 0 | J70: 0 | K70: 0 | L70: 0 | M70: 0 | N70: 0 | O70: 0 | P70: 0 | Q70: ='м. от.'!Q74+алгач!R73+'ам-бал'!R74+берег!Q74+берез.!R74+бомнак!R74+'В-зск'!Q74+Горн.!Q74+Гулик!R74+дугда!Q74+з.сл.!Q74+ивановка!R74+николаев.!R71+огорон!Q71+поляк.!Q72+снежн.!Q74+С.Бор!Q74+тунгала!Q74+умлек.!Q74+хвой.!R74+чалб.!R74+юбил.!Q74+С.Октябрьс.!R74+'СДК Овс.'!R74+клепикова!R74 -> 0
C71: 3 | D71: 0 | E71: 0 | F71: 0 | G71: 0 | H71: 0 | I71: 0 | J71: 0 | K71: 0 | L71: 0 | M71: 0 | N71: 0 | O71: 0 | P71: 0 | Q71: 0
C73: N строки | D73: в том числе коллективы (из гр. 11)
D74: инструментальные | E74: в том числе коллективы (из гр. 30) | O74: театральные | P74: в том числе коллективы (из гр. 41)
E75: оркестры | F75: из них (из гр. 31) | J75: ансамбли | K75: из них (из гр. 36) | P75: драматические | Q75: театры кукол | R75: музыкальные | S75: театры эстрады
F76: народных инструментов | G76: духовых инструментов | H76: джазовые и эстрадные | I76: симфонические | K76: народных инструментов | L76: духовых инструментов | M76: джазовые и эстрадные | N76: камерные
C77: 2 | D77: 31 | E77: 32 | F77: 33 | G77: 34 | H77: 35 | I77: 36 | J77: 37 | K77: 38 | L77: 39 | M77: 40 | N77: 41 | O77: 42 | P77: 43 | Q77: 44 | R77: 45 | S77: 46
C78: 2 | D78: 0 | E78: 0 | F78: 0 | G78: 0 | H78: 0 | I78: 0 | J78: 0 | K78: 0 | L78: 0 | M78: 0 | N78: 0 | O78: 1 | P78: 1 | Q78: 0 | R78: 0 | S78: 0
C79: 3 | D79: 0 | E79: 0 | F79: 0 | G79: 0 | H79: 0 | I79: 0 | J79: 0 | K79: 0 | L79: 0 | M79: 0 | N79: 0 | O79: 17 | P79: 17 | Q79: 0 | R79: 0 | S79: 0
C81: N строки | D81: в том числе коллективы (из гр. 11)
D82: фольклорные | E82: изобразительного искусства | F82: декоративно-прикладного искусства | G82: кино-фото-видео-любителей | H82: циркового искусства | I82: прочие
C83: 2 | D83: 47 | E83: 48 | F83: 49 | G83: 50 | H83: 51 | I83: 52
C84: 2 | D84: 0 | E84: 0 | F84: 0 | G84: 0 | H84: 0 | I84: 1
C85: 3 | D85: 0 | E85: 0 | F85: 0 | G85: 0 | H85: 0 | I85: 17
C88: N строки | D88: число коллективов, имеющих звание (из гр. 8)
D89: народный | E89: образцовый | F89: заслуженный коллектив народного творчества | G89: лауреат международного конкурса (фестиваля) | H89: лауреат всероссийского конкурса (фестиваля) | I89: лауреат регионального конкурса (фестиваля)
C90: 2 | D90: 53 | E90: 54 | F90: 55 | G90: 56 | H90: 57 | I90: 58
C91: 2 | D91: 0 | E91: 0 | F91: 0 | G91: 0 | H91: 0 | I91: 0
C92: 3 | D92: 0 | E92: 0 | F92: 0 | G92: 0 | H92: 0 | I92: 0
A94: Раздел 3. Культурно-массовые мероприятия
A95: Коды по ОКЕИ: единица - 642; человек - 792
D96: N строки | E96: Культурно-массовые мероприятия, всего | F96: из них (из гр. 3) | H96: из общего числа мероприятий (гр. 3)
F97: для детей до 14 лет | G97: для молодежи от 14 до 35 лет | H97: культурно-досуговые мероприятия (из гр. 3) | I97: из них (из гр. 6) | K97: с участием инвалидов и лиц с ОВЗ | L97: доступные для восприятия инвалидами и лицами с ОВЗ | M97: с применением специализированных транспортных средств
I98: для детей до 14 лет | J98: для молодежи от 14 до 35 лет
C99: 1 | D99: 2 | E99: 3 | F99: 4 | G99: 5 | H99: 6 | I99: 7 | J99: 8 | K99: 9 | L99: 10 | M99: 11
C100: Число мероприятий, единиц | D100: 4 | E100: 289 | F100: 256 | G100: 16 | H100: 207 | I100: 175 | J100: 16 | K100: 0 | L100: 0 | M100: 0
C101: из них | D101: 5
C102: платных мероприятий | D102: 0 | E102: 156 | F102: 150 | G102: 5 | H102: 156 | I102: 150 | J102: 5 | K102: 0 | L102: 0 | M102: 0
C103: Посещения на мероприятиях, человек | D103: 6 | E103: 3820 | F103: 3056 | G103: 439 | H103: 2895 | I103: 2141 | J103: 439 | K103: x | L103: x | M103: 0
C104: из них | D104: 7
C105: на платных мероприятиях | D105: 0 | E105: 815 | F105: 700 | G105: 79 | H105: 815 | I105: 700 | J105: 79 | K105: x | L105: x | M105: 0
A108: Раздел 4. Персонал организации (на конец года)
A109: Коды по ОКЕИ: человек - 792
C110: № | D110: Численность работников – всего | E110: из них (из графы 2) | K110: из численности в профильных организацияхработников, относящихся к основному персоналу имеютобразование(из графы 4) | M110: из численностиштатных работников (графы 3)имеют стаж работыв профильных организациях
E111: штатных | F111: работников, относящихсяк основному персоналу | G111: прошли обучение (инструктирование) по вопросам, связанным с предоставлением услуг инвалидами лицам с ОВЗ | H111: прошли повышение квалификации/ профессиональную переподготовку | I111: из графы 6в рамкахреализации Национального проекта «Культура» | J111: имеющих инвалид-ность | K111: высшее | L111: среднеепрофессио-нальное | M111: до 3 лет | N111: от 3 до 10 лет | O111: свыше 10 лет
C112: 1 | D112: 2 | E112: 3 | F112: 4 | G112: 5 | H112: 6 | I112: 7 | J112: 8 | K112: 9 | L112: 10 | M112: 11 | N112: 12 | O112: 13
C113: 8 | D113: 1 | E113: 1 | F113: 1 | G113: 0 | H113: 0 | I113: 0 | J113: 1 | K113: 0 | L113: 0 | M113: 0 | N113: 0 | O113: 1
A116: Раздел 5. Поступление и использование финансовых средств
A117: Код по ОКЕИ: тысяча рублей - 384
C118: N строки | D118: Поступило за год всего (сумма граф 3, 4, 5, 9) | E118: из них (из гр. 2)
E119: бюджетные ассигнования учредителя | F119: финансирование из бюджетов других уровней | G119: от предпринимательской и иной приносящей доход деятельности | H119: из них (из гр. 5) | K119: от сдачи имущества в аренду
H120: от основных видов уставной деятельности | I120: благотворительные и спонсорские вклады | J120: от предпринимательской деятельности
C121: 1 | D121: 2 | E121: 3 | F121: 4 | G121: 5 | H121: 6 | I121: 7 | J121: 8 | K121: 9
C122: 9 | D122: 784 | E122: 784
C125: N строки | D125: Израсходовано, всего | E125: из них (из гр. 10)
E126: расходы на оплату труда | I126: на капитальный ремонт и реставрацию | K126: на приобретение (замену) оборудования | N126: на социально значимые мероприятия
E127: всего | F127: из них за счет собственных средств | G127: из общих расходов на оплату труда - основному персоналу (из гр. 11) | H127: из них за счет собственных средств (из гр. 13) | I127: всего | J127: из них за счет собственных средств (из гр. 15) | K127: всего | L127: из них для улучшения условий доступности для лиц с ОВЗ (из гр. 17) | M127: из них за счет собственных средств (из гр. 17) | N127: всего | O127: из них за счет собственных средств (из гр. 20)
C128: 1 | D128: 10 | E128: 11 | F128: 12 | G128: 13 | H128: 14 | I128: 15 | J128: 16 | K128: 17 | L128: 18 | M128: 19 | N128: 20 | O128: 21
...

Sheet берег
B2: ФЕДЕРАЛЬНОЕ СТАТИСТИЧЕСКОЕ НАБЛЮДЕНИЕ
B4: КОНФИДЕНЦИАЛЬНОСТЬ ГАРАНТИРУЕТСЯ ПОЛУЧАТЕЛЕМ ИНФОРМАЦИИ
B6: Нарушение порядка предоставления первичных статистических данных или несвоевременное предоставление этих данных, либо предоставление недостоверных первичных статистических данных влечет ответственность, установленную Кодексом Российской Федерации об административных правонарушениях
B8: ВОЗМОЖНО ПРЕДОСТАВЛЕНИЕ В ЭЛЕКТРОННОМ ВИДЕ
B10: СВЕДЕНИЯ ОБ ОРГАНИЗАЦИИ КУЛЬТУРНО-ДОСУГОВОГО ТИПА
B11: за 2023 год
B13: Предоставляют: | I13: Сроки предоставления | M13: Форма N 7-НК
B14: юридические лица - организации культурно-досугового типа, юридические лица - организации, имеющие в своем составе обособленные структурные подразделения, осуществляющие культурно-досуговую деятельность (полный перечень респондентов приведен в указаниях по заполнению формы федерального статистического наблюдения): | I14: 15 февраля | M14: Приказ Росстата: Об утверждении формы от 18.10.2021 № 713
B15: - Министерству культуры Российской Федерации | M15: О внесении изменений (при наличии)
M16: от __________ N ___
M17: от __________ N ___
M18: Годовая
B19: Наименование отчитывающейся организации | H19: Дом культуры п. Береговой МАУ СКЦ Зейского муниципального округа
B20: Почтовый адрес : 676208 Амурская область, Зейский район п. Береговой, ул. Ленина, 6
B21: Код формы по ОКУД | E21: Код
E22: отчитывающейся организации по ОКПО (для территориально обособленного подразделения юридического лица - идентификационный номер)
B23: 1 | E23: 2 | K23: 3 | O23: 4
B24: 609522 | E24: 10347839
B26: Наименование учредителя МКУ "Отдел культуры, архивного дела, молодежной политики и спорта Зейского муниципального округа"
B27: Направление основной деятельности головной организации: деятельность в области культуры и искусства
B28: Число организаций, включенных в сводную форму
B29: (заполняется органами исполнительной власти субъекта Российской Федерации)
A33: Раздел 1. Материально-техническая база
A34: Коды по ОКЕИ: единица - 642; место - 698; квадратный метр - 055
B35: N строки | C35: Число зданий, единиц | D35: из них (из гр. 2) число собственных зданий | E35: из них (из гр. 2) доступны для лиц с нарушением | H35: из общего числа зданий (из гр. 2)
H36: техническое состояние зданий | J36: из них по форме пользования
E37: зрения | F37: слуха | G37: опорно-двигательного аппарата | H37: требуют капитального ремонта | I37: аварийные | J37: в оперативном управлении или хозяйственном ведении | K37: арендованные | L37: прочие
B38: 1 | C38: 2 | D38: 3 | E38: 4 | F38: 5 | G38: 6 | H38: 7 | I38: 8 | J38: 9 | K38: 10 | L38: 11
B39: 1 | C39: 1 | D39: 0 | E39: 0 | F39: 0 | G39: 1 | H39: 0 | I39: 0 | J39: 0 | K39: 1 | L39: 0
B42: N строки | C42: Число помещений, единиц | D42: из общего числа помещений (из гр. 12) | K42: из числа досуговых помещений (из гр. 18) помещения для музейной и библиотечной работы | L42: из общей площади досуговых помещений (из гр. 19)
D43: техническое состояние помещений | F43: арендованных | G43: зрительные залы | I43: Досуговые помещения | L43: площадь, занимаемая музеем | M43: площадь, занимаемая библиотекой
D44: требующих капитального ремонта | E44: аварийных | G44: число зрительных залов, единиц | H44: вместимость зрительных залов, мест | I44: число помещений, единиц | J44: площадь, кв м
B45: 1 | C45: 12 | D45: 13 | E45: 14 | F45: 15 | G45: 16 | H45: 17 | I45: 18 | J45: 19 | K45: 20 | L45: 21 | M45: 22
B46: 1 | C46: 8 | D46: 0 | E46: 0 | F46: 8 | G46: 1 | H46: 120 | I46: 6 | J46: 334 | K46: 0 | L46: 0 | M46: 0
B49: N строки | C49: Число автоматизированных рабочих мест, единиц | D49: Наличие доступа в Интернет (да - 1, нет - 0) | E49: Наличие доступа в Интернет для посетителей и участников формирований (да - 1, нет - 0) | F49: Наличие собственного Интернет-сайта, (да - 1, нет - 0) | G49: Наличие версии собственного Интернет-сайта, доступной для слепых и слабовидящих (да - 1, нет - 0) | H49: Число специализированного оборудования для инвалидов, единиц | I49: Число специализированных транспортных средств, единиц | J49: Число автоклубов, единиц (из гр. 29) | K49: Число выездов автоклубов в сельские населенные пункты, единиц | L49: Количество населенных пунктов, обслуживаемых автоклубами
B50: 1 | C50: 23 | D50: 24 | E50: 25 | F50: 26 | G50: 27 | H50: 28 | I50: 29 | J50: 30 | K50: 31 | L50: 32
B51: 1 | C51: 3 | D51: 1 | E51: 0 | F51: 0 | G51: 0 | H51: 0 | I51: 0 | J51: 0 | K51: 0 | L51: 0
B54: Раздел 2. Клубные формирования
A55: Коды по ОКЕИ: единица - 642; человек - 792
C56: N строки | D56: Число клубных формирований, всего (сумма граф 6, 8) | E56: из гр. 3
E57: для детей до 14 лет | F57: для молодежи от 14 до 35 лет | G57: любительские объединения, клубы по интересам | H57: инклюзивные, включающие в состав инвалидов и лиц с ОВЗ | I57: прочие клубные формирования | J57: из них (из гр. 8)
J58: для детей до 14 лет | K58: для молодежи от 14 до 35 лет | L58: формирования/кружки самодеятельного народного творчества | M58: из них (из гр. 11) | P58: формирования/кружки технического творчества | Q58: спортивные формирования/кружки
M59: для детей до 14 лет | N59: для молодежи от 14 до 35 лет | O59: работающих на платной основе
B60: 1 | C60: 2 | D60: 3 | E60: 4 | F60: 5 | G60: 6 | H60: 7 | I60: 8 | J60: 9 | K60: 10 | L60: 11 | M60: 12 | N60: 13 | O60: 14 | P60: 15 | Q60: 16
B61: Всего,
B62: единиц | C62: 2 | D62: 11 | E62: 7 | F62: 2 | G62: 1 | H62: 0 | I62: 10 | J62: 7 | K62: 2 | L62: 10 | M62: 7 | N62: 2 | O62: 0 | P62: 0 | Q62: 0
B63: В них участников, человек | C63: 3 | D63: 138 | E63: 94 | F63: 22 | G63: 10 | H63: 0 | I63: 128 | J63: 94 | K63: 22 | L63: 128 | M63: 94 | N63: 22 | O63: 0 | P63: 0 | Q63: 0
B65: N строки | C65: в том числе коллективы (из гр. 11)
C66: вокальные | D66: в том числе коллективы (из гр. 17) | K66: хореографические | L66: в том числе коллективы (из гр. 25)
D67: хоры | E67: из них (из гр. 18) | G67: ансамбли | H67: из них (из гр. 21) | J67: студии эстрадного пения | L67: народного танца | M67: классического танца | N67: современного танца | O67: бального и эстрадно-спортивного танца | P67: иные
E68: академические | F68: народные | H68: академические | I68: народные
B69: 2 | C69: 17 | D69: 18 | E69: 19 | F69: 20 | G69: 21 | H69: 22 | I69: 23 | J69: 24 | K69: 25 | L69: 26 | M69: 27 | N69: 28 | O69: 29 | P69: 30
B70: 2 | C70: 0 | D70: 0 | E70: 0 | F70: 0 | G70: 0 | H70: 0 | I70: 0 | J70: 0 | K70: 6 | L70: 2 | M70: 0 | N70: 0 | O70: 0 | P70: 4
B71: 3 | C71: 0 | D71: 0 | E71: 0 | F71: 0 | G71: 0 | H71: 0 | I71: 0 | J71: 0 | K71: 81 | L71: 22 | M71: 0 | N71: 0 | O71: 0 | P71: 59
B73: N строки | C73: в том числе коллективы (из гр. 11)
C74: инструментальные | D74: в том числе коллективы (из гр. 30) | N74: театральные | O74: в том числе коллективы (из гр. 41)
D75: оркестры | E75: из них (из гр. 31) | I75: ансамбли | J75: из них (из гр. 36) | O75: драматические | P75: театры кукол | Q75: музыкальные | R75: театры эстрады
E76: народных инструментов | F76: духовых инструментов | G76: джазовые и эстрадные | H76: симфонические | J76: народных инструментов | K76: духовых инструментов | L76: джазовые и эстрадные | M76: камерные
B77: 2 | C77: 31 | D77: 32 | E77: 33 | F77: 34 | G77: 35 | H77: 36 | I77: 37 | J77: 38 | K77: 39 | L77: 40 | M77: 41 | N77: 42 | O77: 43 | P77: 44 | Q77: 45 | R77: 46
B78: 2 | C78: 0 | D78: 0 | E78: 0 | F78: 0 | G78: 0 | H78: 0 | I78: 0 | J78: 0 | K78: 0 | L78: 0 | M78: 0 | N78: 2 | O78: 1 | P78: 1 | Q78: 0 | R78: 0
B79: 3 | C79: 0 | D79: 0 | E79: 0 | F79: 0 | G79: 0 | H79: 0 | I79: 0 | J79: 0 | K79: 0 | L79: 0 | M79: 0 | N79: 22 | O79: 11 | P79: 11 | Q79: 0 | R79: 0
B81: N строки | C81: в том числе коллективы (из гр. 11)
C82: фольклорные | D82: изобразительного искусства | E82: декоративно-прикладного искусства | F82: кино-фото-видео-любителей | G82: циркового искусства | H82: прочие
B83: 2 | C83: 47 | D83: 48 | E83: 49 | F83: 50 | G83: 51 | H83: 52
B84: 2 | C84: 0 | D84: 0 | E84: 0 | F84: 0 | G84: 0 | H84: 2
B85: 3 | C85: 0 | D85: 0 | E85: 0 | F85: 0 | G85: 0 | H85: 25
B88: N строки | C88: число коллективов, имеющих звание (из гр. 8)
C89: народный | D89: образцовый | E89: заслуженный коллектив народного творчества | F89: лауреат международного конкурса (фестиваля) | G89: лауреат всероссийского конкурса (фестиваля) | H89: лауреат регионального конкурса (фестиваля)
B90: 2 | C90: 53 | D90: 54 | E90: 55 | F90: 56 | G90: 57 | H90: 58
B91: 2 | C91: 0 | D91: 0 | E91: 0 | F91: 0 | G91: 0 | H91: 0
B92: 3 | C92: 0 | D92: 0 | E92: 0 | F92: 0 | G92: 0 | H92: 0
A94: Раздел 3. Культурно-массовые мероприятия
A95: Коды по ОКЕИ: единица - 642; человек - 792
C96: N строки | D96: Культурно-массовые мероприятия, всего | E96: из них (из гр. 3) | G96: из общего числа мероприятий (гр. 3)
E97: для детей до 14 лет | F97: для молодежи от 14 до 35 лет | G97: культурно-досуговые мероприятия (из гр. 3) | H97: из них (из гр. 6) | J97: с участием инвалидов и лиц с ОВЗ | K97: доступные для восприятия инвалидами и лицами с ОВЗ | L97: с применением специализированных транспортных средств
H98: для детей до 14 лет | I98: для молодежи от 14 до 35 лет
B99: 1 | C99: 2 | D99: 3 | E99: 4 | F99: 5 | G99: 6 | H99: 7 | I99: 8 | J99: 9 | K99: 10 | L99: 11
B100: Число мероприятий, единиц | C100: 4 | D100: 441 | E100: 220 | F100: 64 | G100: 336 | H100: 132 | I100: 52 | J100: 0 | K100: 0 | L100: 0
B101: из них
B102: платных мероприятий | C102: 5 | D102: 65 | E102: 11 | F102: 10 | G102: 65 | H102: 11 | I102: 10 | J102: 0 | K102: 0 | L102: 0
B103: Посещения на мероприятиях, человек | C103: 6 | D103: 28783 | E103: 9203 | F103: 4993 | G103: 25488 | H103: 6910 | I103: 4419 | J103: x | K103: x | L103: 0
B104: из них
B105: на платных мероприятиях | C105: 7 | D105: 1335 | E105: 425 | F105: 171 | G105: 1335 | H105: 425 | I105: 171 | J105: x | K105: x | L105: 0
A108: Раздел 4. Персонал организации (на конец года)
A109: Коды по ОКЕИ: человек - 792
B110: № | C110: Численность работников – всего | D110: из них (из графы 2) | J110: из численности в профильных организацияхработников, относящихся к основному персоналу имеютобразование(из графы 4) | L110: из численностиштатных работников (графы 3)имеют стаж работыв профильных организациях
D111: штатных | E111: работников, относящихсяк основному персоналу | F111: прошли обучение (инструктирование) по вопросам, связанным с предоставлением услуг инвалидами лицам с ОВЗ | G111: прошли повышение квалификации/ профессиональную переподготовку | H111: из графы 6в рамкахреализации Национального проекта «Культура» | I111: имеющих инвалид-ность | J111: высшее | K111: среднеепрофессио-нальное | L111: до 3 лет | M111: от 3 до 10 лет | N111: свыше 10 лет
B112: 1 | C112: 2 | D112: 3 | E112: 4 | F112: 5 | G112: 6 | H112: 7 | I112: 8 | J112: 9 | K112: 10 | L112: 11 | M112: 12 | N112: 13
B113: 8 | C113: 4 | D113: 4 | E113: 4 | F113: 0 | G113: 0 | H113: 0 | I113: 0 | J113: 1 | K113: 3 | L113: 0 | M113: 2 | N113: 2
A116: Раздел 5. Поступление и использование финансовых средств
A117: Код по ОКЕИ: тысяча рублей - 384
B118: N строки | C118: Поступило за год всего (сумма граф 3, 4, 5, 9) | D118: из них (из гр. 2)
D119: бюджетные ассигнования учредителя | E119: финансирование из бюджетов других уровней | F119: от предпринимательской и иной приносящей доход деятельности | G119: из них (из гр. 5) | J119: от сдачи имущества в аренду
G120: от основных видов уставной деятельности | H120: благотворительные и спонсорские вклады | I120: от предпринимательской деятельности
B121: 1 | C121: 2 | D121: 3 | E121: 4 | F121: 5 | G121: 6 | H121: 7 | I121: 8 | J121: 9
B122: 9 | C122: 3596 | D122: 3596
B125: N строки | C125: Израсходовано, всего | D125: из них (из гр. 10)
D126: расходы на оплату труда | H126: на капитальный ремонт и реставрацию | J126: на приобретение (замену) оборудования | M126: на социально значимые мероприятия
D127: всего | E127: из них за счет собственных средств | F127: из общих расходов на оплату труда - основному персоналу (из гр. 11) | G127: из них за счет собственных средств (из гр. 13) | H127: всего | I127: из них за счет собственных средств (из гр. 15) | J127: всего | K127: из них для улучшения условий доступности для лиц с ОВЗ (из гр. 17) | L127: из них за счет собственных средств (из гр. 17) | M127: всего | N127: из них за счет собственных средств (из гр. 20)
B128: 1 | C128: 10 | D128: 11 | E128: 12 | F128: 13 | G128: 14 | H128: 15 | I128: 16 | J128: 17 | K128: 18 | L128: 19 | M128: 20 | N128: 21
...

Sheet берез.
C2: ФЕДЕРАЛЬНОЕ СТАТИСТИЧЕСКОЕ НАБЛЮДЕНИЕ
C4: КОНФИДЕНЦИАЛЬНОСТЬ ГАРАНТИРУЕТСЯ ПОЛУЧАТЕЛЕМ ИНФОРМАЦИИ
C6: Нарушение порядка предоставления первичных статистических данных или несвоевременное предоставление этих данных, либо предоставление недостоверных первичных статистических данных влечет ответственность, установленную Кодексом Российской Федерации об административных правонарушениях
C8: ВОЗМОЖНО ПРЕДОСТАВЛЕНИЕ В ЭЛЕКТРОННОМ ВИДЕ
C10: СВЕДЕНИЯ ОБ ОРГАНИЗАЦИИ КУЛЬТУРНО-ДОСУГОВОГО ТИПА
C11: за 2023 год
C13: Предоставляют: | J13: Сроки предоставления | N13: Форма N 7-НК
C14: юридические лица - организации культурно-досугового типа, юридические лица - организации, имеющие в своем составе обособленные структурные подразделения, осуществляющие культурно-досуговую деятельность (полный перечень респондентов приведен в указаниях по заполнению формы федерального статистического наблюдения): | J14: 15 февраля | N14: Приказ Росстата: Об утверждении формы от 18.10.2021 № 713
C15: - Министерству культуры Российской Федерации | N15: О внесении изменений (при наличии)
N16: от __________ N ___
N17: от __________ N ___
N18: Годовая
C19: Наименование отчитывающейся организации | I19: Сельский клуб с.Березовка МАУ СКЦ Зейского муниципального округа
C20: Почтовый адрес: Амурская область г.Зейский район с. Березовка 676211 Ул. Почтовая,8
C21: Код формы по ОКУД | F21: Код
F22: отчитывающейся организации по ОКПО (для территориально обособленного подразделения юридического лица - идентификационный номер)
C23: 1 | F23: 2 | L23: 3 | P23: 4
C24: 609522 | F24: 10347839
C26: Наименование учредителя МКУ "Отдел культуры, архивного дела, молодежной политики и спорта Зейского муниципального округа"
C27: Направление основной деятельности головной организации: деятельность в области культуры и искусства
C28: Число организаций, включенных в сводную форму
C29: (заполняется органами исполнительной власти субъекта Российской Федерации)
A33: Раздел 1. Материально-техническая база
A34: Коды по ОКЕИ: единица - 642; место - 698; квадратный метр - 055
C35: N строки | D35: Число зданий, единиц | E35: из них (из гр. 2) число собственных зданий | F35: из них (из гр. 2) доступны для лиц с нарушением | I35: из общего числа зданий (из гр. 2)
I36: техническое состояние зданий | K36: из них по форме пользования
F37: зрения | G37: слуха | H37: опорно-двигательного аппарата | I37: требуют капитального ремонта | J37: аварийные | K37: в оперативном управлении или хозяйственном ведении | L37: арендованные | M37: прочие
C38: 1 | D38: 2 | E38: 3 | F38: 4 | G38: 5 | H38: 6 | I38: 7 | J38: 8 | K38: 9 | L38: 10 | M38: 11
C39: 1 | D39: 1 | E39: 1 | F39: 0 | G39: 0 | H39: 0 | I39: 0 | J39: 0 | K39: 1 | L39: 0 | M39: 0
C42: N строки | D42: Число помещений, единиц | E42: из общего числа помещений (из гр. 12) | L42: из числа досуговых помещений (из гр. 18) помещения для музейной и библиотечной работы | M42: из общей площади досуговых помещений (из гр. 19)
E43: техническое состояние помещений | G43: арендованных | H43: зрительные залы | J43: Досуговые помещения | M43: площадь, занимаемая музеем | N43: площадь, занимаемая библиотекой
E44: требующих капитального ремонта | F44: аварийных | H44: число зрительных залов, единиц | I44: вместимость зрительных залов, мест | J44: число помещений, единиц | K44: площадь, кв м
C45: 1 | D45: 12 | E45: 13 | F45: 14 | G45: 15 | H45: 16 | I45: 17 | J45: 18 | K45: 19 | L45: 20 | M45: 21 | N45: 22
C46: 1 | D46: 4 | E46: 0 | F46: 0 | G46: 0 | H46: 1 | I46: 80 | J46: 3 | K46: 148 | L46: 0 | M46: 0 | N46: 0
C49: N строки | D49: Число автоматизированных рабочих мест, единиц | E49: Наличие доступа в Интернет (да - 1, нет - 0) | F49: Наличие доступа в Интернет для посетителей и участников формирований (да - 1, нет - 0) | G49: Наличие собственного Интернет-сайта, (да - 1, нет - 0) | H49: Наличие версии собственного Интернет-сайта, доступной для слепых и слабовидящих (да - 1, нет - 0) | I49: Число специализированного оборудования для инвалидов, единиц | J49: Число специализированных транспортных средств, единиц | K49: Число автоклубов, единиц (из гр. 29) | L49: Число выездов автоклубов в сельские населенные пункты, единиц | M49: Количество населенных пунктов, обслуживаемых автоклубами
C50: 1 | D50: 23 | E50: 24 | F50: 25 | G50: 26 | H50: 27 | I50: 28 | J50: 29 | K50: 30 | L50: 31 | M50: 32
C51: 1 | D51: 1 | E51: 0 | F51: 0 | G51: 0 | H51: 0 | I51: 0 | J51: 0 | K51: 0 | L51: 0 | M51: 0
C54: Раздел 2. Клубные формирования
A55: Коды по ОКЕИ: единица - 642; человек - 792
D56: N строки | E56: Число клубных формирований, всего (сумма граф 6, 8) | F56: из гр. 3
F57: для детей до 14 лет | G57: для молодежи от 14 до 35 лет | H57: любительские объединения, клубы по интересам | I57: инклюзивные, включающие в состав инвалидов и лиц с ОВЗ | J57: прочие клубные формирования | K57: из них (из гр. 8)
K58: для детей до 14 лет | L58: для молодежи от 14 до 35 лет | M58: формирования/кружки самодеятельного народного творчества | N58: из них (из гр. 11) | Q58: формирования/кружки технического творчества | R58: спортивные формирования/кружки
N59: для детей до 14 лет | O59: для молодежи от 14 до 35 лет | P59: работающих на платной основе
C60: 1 | D60: 2 | E60: 3 | F60: 4 | G60: 5 | H60: 6 | I60: 7 | J60: 8 | K60: 9 | L60: 10 | M60: 11 | N60: 12 | O60: 13 | P60: 14 | Q60: 15 | R60: 16
C61: Всего,
C62: единиц | D62: 2 | E62: 3 | F62: 3 | G62: 0 | H62: 0 | I62: 0 | J62: 3 | K62: 3 | L62: 0 | M62: 3 | N62: 3 | O62: 0 | P62: 0 | Q62: 0 | R62: 0
C63: В них участников, человек | D63: 3 | E63: 26 | F63: 26 | G63: 0 | H63: 0 | I63: 0 | J63: 26 | K63: 26 | L63: 0 | M63: 26 | N63: 26 | O63: 0 | P63: 0 | Q63: 0 | R63: 0
C65: N строки | D65: в том числе коллективы (из гр. 11)
D66: вокальные | E66: в том числе коллективы (из гр. 17) | L66: хореографические | M66: в том числе коллективы (из гр. 25)
E67: хоры | F67: из них (из гр. 18) | H67: ансамбли | I67: из них (из гр. 21) | K67: студии эстрадного пения | M67: народного танца | N67: классического танца | O67: современного танца | P67: бального и эстрадно-спортивного танца | Q67: иные
F68: академические | G68: народные | I68: академические | J68: народные
C69: 2 | D69: 17 | E69: 18 | F69: 19 | G69: 20 | H69: 21 | I69: 22 | J69: 23 | K69: 24 | L69: 25 | M69: 26 | N69: 27 | O69: 28 | P69: 29 | Q69: 30
C70: 2 | D70: 0 | E70: 0 | F70: 0 | G70: 0 | H70: 0 | I70: 0 | J70: 0 | K70: 0 | L70: 0 | M70: 0 | N70: 0 | O70: 0 | P70: 0 | Q70: ='м. от.'!Q74+алгач!R73+'ам-бал'!R74+берег!Q74+берез.!R74+бомнак!R74+'В-зск'!Q74+Горн.!Q74+Гулик!R74+дугда!Q74+з.сл.!Q74+ивановка!R74+николаев.!R71+огорон!Q71+поляк.!Q72+снежн.!Q74+С.Бор!Q74+тунгала!Q74+умлек.!Q74+хвой.!R74+чалб.!R74+юбил.!Q74+С.Октябрьс.!R74+'СДК Овс.'!R74+клепикова!R74 -> 0
C71: 3 | D71: 0 | E71: 0 | F71: 0 | G71: 0 | H71: 0 | I71: 0 | J71: 0 | K71: 0 | L71: 0 | M71: 0 | N71: 0 | O71: 0 | P71: 0 | Q71: 0
C73: N строки | D73: в том числе коллективы (из гр. 11)
D74: инструментальные | E74: в том числе коллективы (из гр. 30) | O74: театральные | P74: в том числе коллективы (из гр. 41)
E75: оркестры | F75: из них (из гр. 31) | J75: ансамбли | K75: из них (из гр. 36) | P75: драматические | Q75: театры кукол | R75: музыкальные | S75: театры эстрады
F76: народных инструментов | G76: духовых инструментов | H76: джазовые и эстрадные | I76: симфонические | K76: народных инструментов | L76: духовых инструментов | M76: джазовые и эстрадные | N76: камерные
C77: 2 | D77: 31 | E77: 32 | F77: 33 | G77: 34 | H77: 35 | I77: 36 | J77: 37 | K77: 38 | L77: 39 | M77: 40 | N77: 41 | O77: 42 | P77: 43 | Q77: 44 | R77: 45 | S77: 46
C78: 2 | D78: 0 | E78: 0 | F78: 0 | G78: 0 | H78: 0 | I78: 0 | J78: 0 | K78: 0 | L78: 0 | M78: 0 | N78: 0 | O78: 0 | P78: 0 | Q78: 0 | R78: 0 | S78: 0
C79: 3 | D79: 0 | E79: 0 | F79: 0 | G79: 0 | H79: 0 | I79: 0 | J79: 0 | K79: 0 | L79: 0 | M79: 0 | N79: 0 | O79: 0 | P79: 0 | Q79: 0 | R79: 0 | S79: 0
C81: N строки | D81: в том числе коллективы (из гр. 11)
D82: фольклорные | E82: изобразительного искусства | F82: декоративно-прикладного искусства | G82: кино-фото-видео-любителей | H82: циркового искусства | I82: прочие
C83: 2 | D83: 47 | E83: 48 | F83: 49 | G83: 50 | H83: 51 | I83: 52
C84: 2 | D84: 0 | E84: 0 | F84: 2 | G84: 0 | H84: 0 | I84: 1
C85: 3 | D85: 0 | E85: 0 | F85: 18 | G85: 0 | H85: 0 | I85: 8
C88: N строки | D88: число коллективов, имеющих звание (из гр. 8)
D89: народный | E89: образцовый | F89: заслуженный коллектив народного творчества | G89: лауреат международного конкурса (фестиваля) | H89: лауреат всероссийского конкурса (фестиваля) | I89: лауреат регионального конкурса (фестиваля)
C90: 2 | D90: 53 | E90: 54 | F90: 55 | G90: 56 | H90: 57 | I90: 58
C91: 2 | D91: 0 | E91: 0 | F91: 0 | G91: 0 | H91: 0 | I91: 0
C92: 3 | D92: 0 | E92: 0 | F92: 0 | G92: 0 | H92: 0 | I92: 0
A94: Раздел 3. Культурно-массовые мероприятия
A95: Коды по ОКЕИ: единица - 642; человек - 792
D96: N строки | E96: Культурно-массовые мероприятия, всего | F96: из них (из гр. 3) | H96: из общего числа мероприятий (гр. 3)
F97: для детей до 14 лет | G97: для молодежи от 14 до 35 лет | H97: культурно-досуговые мероприятия (из гр. 3) | I97: из них (из гр. 6) | K97: с участием инвалидов и лиц с ОВЗ | L97: доступные для восприятия инвалидами и лицами с ОВЗ | M97: с применением специализированных транспортных средств
I98: для детей до 14 лет | J98: для молодежи от 14 до 35 лет
C99: 1 | D99: 2 | E99: 3 | F99: 4 | G99: 5 | H99: 6 | I99: 7 | J99: 8 | K99: 9 | L99: 10 | M99: 11
C100: Число мероприятий, единиц | D100: 4 | E100: 265 | F100: 225 | G100: 3 | H100: 182 | I100: 150 | J100: 3 | K100: 0 | L100: 0 | M100: 0
C101: из них
C102: платных мероприятий | D102: 5 | E102: 2 | F102: 0 | G102: 2 | H102: 2 | I102: 0 | J102: 2 | K102: 0 | L102: 0 | M102: 0
C103: Посещения на мероприятиях, человек | D103: 6 | E103: 4100 | F103: 3011 | G103: 43 | H103: 2922 | I103: 2029 | J103: 43 | K103: x | L103: x | M103: 0
C104: из них
C105: на платных мероприятиях | D105: 7 | E105: 20 | F105: 0 | G105: 20 | H105: 20 | I105: 0 | J105: 20 | K105: x | L105: x | M105: 0
A108: Раздел 4. Персонал организации (на конец года)
A109: Коды по ОКЕИ: человек - 792
C110: № | D110: Численность работников – всего | E110: из них (из графы 2) | K110: из численности в профильных организацияхработников, относящихся к основному персоналу имеютобразование(из графы 4) | M110: из численностиштатных работников (графы 3)имеют стаж работыв профильных организациях
E111: штатных | F111: работников, относящихсяк основному персоналу | G111: прошли обучение (инструктирование) по вопросам, связанным с предоставлением услуг инвалидами лицам с ОВЗ | H111: прошли повышение квалификации/ профессиональную переподготовку | I111: из графы 6в рамкахреализации Национального проекта «Культура» | J111: имеющих инвалид-ность | K111: высшее | L111: среднеепрофессио-нальное | M111: до 3 лет | N111: от 3 до 10 лет | O111: свыше 10 лет
C112: 1 | D112: 2 | E112: 3 | F112: 4 | G112: 5 | H112: 6 | I112: 7 | J112: 8 | K112: 9 | L112: 10 | M112: 11 | N112: 12 | O112: 13
C113: 8 | D113: 1 | E113: 1 | F113: 1 | G113: 0 | H113: 0 | I113: 0 | J113: 0 | K113: 0 | L113: 1 | M113: 0 | N113: 0 | O113: 1
A116: Раздел 5. Поступление и использование финансовых средств
A117: Код по ОКЕИ: тысяча рублей - 384
C118: N строки | D118: Поступило за год всего (сумма граф 3, 4, 5, 9) | E118: из них (из гр. 2)
E119: бюджетные ассигнования учредителя | F119: финансирование из бюджетов других уровней | G119: от предпринимательской и иной приносящей доход деятельности | H119: из них (из гр. 5) | K119: от сдачи имущества в аренду
H120: от основных видов уставной деятельности | I120: благотворительные и спонсорские вклады | J120: от предпринимательской деятельности
C121: 1 | D121: 2 | E121: 3 | F121: 4 | G121: 5 | H121: 6 | I121: 7 | J121: 8 | K121: 9
C122: 9 | D122: 1414 | E122: 1414
C125: N строки | D125: Израсходовано, всего | E125: из них (из гр. 10)
E126: расходы на оплату труда | I126: на капитальный ремонт и реставрацию | K126: на приобретение (замену) оборудования | N126: на социально значимые мероприятия
E127: всего | F127: из них за счет собственных средств | G127: из общих расходов на оплату труда - основному персоналу (из гр. 11) | H127: из них за счет собственных средств (из гр. 13) | I127: всего | J127: из них за счет собственных средств (из гр. 15) | K127: всего | L127: из них для улучшения условий доступности для лиц с ОВЗ (из гр. 17) | M127: из них за счет собственных средств (из гр. 17) | N127: всего | O127: из них за счет собственных средств (из гр. 20)
C128: 1 | D128: 10 | E128: 11 | F128: 12 | G128: 13 | H128: 14 | I128: 15 | J128: 16 | K128: 17 | L128: 18 | M128: 19 | N128: 20 | O128: 21
...

Sheet бомнак
C2: ФЕДЕРАЛЬНОЕ СТАТИСТИЧЕСКОЕ НАБЛЮДЕНИЕ
C4: КОНФИДЕНЦИАЛЬНОСТЬ ГАРАНТИРУЕТСЯ ПОЛУЧАТЕЛЕМ ИНФОРМАЦИИ
C6: Нарушение порядка предоставления первичных статистических данных или несвоевременное предоставление этих данных, либо предоставление недостоверных первичных статистических данных влечет ответственность, установленную Кодексом Российской Федерации об административных правонарушениях
C8: ВОЗМОЖНО ПРЕДОСТАВЛЕНИЕ В ЭЛЕКТРОННОМ ВИДЕ
C10: СВЕДЕНИЯ ОБ ОРГАНИЗАЦИИ КУЛЬТУРНО-ДОСУГОВОГО ТИПА
C11: за 2023 год
C13: Предоставляют: | J13: Сроки предоставления | N13: Форма N 7-НК
C14: юридические лица - организации культурно-досугового типа, юридические лица - организации, имеющие в своем составе обособленные структурные подразделения, осуществляющие культурно-досуговую деятельность (полный перечень респондентов приведен в указаниях по заполнению формы федерального статистического наблюдения): | J14: 15 февраля | N14: Приказ Росстата: Об утверждении формы от 18.10.2021 № 713
C15: - Министерству культуры Российской Федерации | N15: О внесении изменений (при наличии)
N16: от __________ N ___
N17: от __________ N ___
N18: Годовая
C19: Наименование отчитывающейся организации | I19: Дом культуры п. Бомнак МАУ СКЦ Зейского муниципального округа
C20: Почтовый адрес: 676226 Амурская область Зейский район с. Бомнак пер. Набережный, 7 а
C21: Код формы по ОКУД | F21: Код
F22: отчитывающейся организации по ОКПО (для территориально обособленного подразделения юридического лица - идентификационный номер)
C23: 1 | F23: 2 | L23: 3 | P23: 4
C24: 609522 | F24: 10347839
C26: Наименование учредителя: МКУ " Отдел культуры, архивного дела, молодежной политики и спорта администрации Зейского округа"
C27: Направление основной деятельности головной организации: деятельность в области культуры и искусства
C28: Число организаций, включенных в сводную форму
C29: (заполняется органами исполнительной власти субъекта Российской Федерации)
A33: Раздел 1. Материально-техническая база
A34: Коды по ОКЕИ: единица - 642; место - 698; квадратный метр - 055
C35: N строки | D35: Число зданий, единиц | E35: из них (из гр. 2) число собственных зданий | F35: из них (из гр. 2) доступны для лиц с нарушением | I35: из общего числа зданий (из гр. 2)
I36: техническое состояние зданий | K36: из них по форме пользования
F37: зрения | G37: слуха | H37: опорно-двигательного аппарата | I37: требуют капитального ремонта | J37: аварийные | K37: в оперативном управлении или хозяйственном ведении | L37: арендованные | M37: прочие
C38: 1 | D38: 2 | E38: 3 | F38: 4 | G38: 5 | H38: 6 | I38: 7 | J38: 8 | K38: 9 | L38: 10 | M38: 11
C39: 1 | D39: 1 | E39: 1 | F39: 0 | G39: 0 | H39: 0 | I39: 0 | J39: 0 | K39: 1 | L39: 0 | M39: 0
C42: N строки | D42: Число помещений, единиц | E42: из общего числа помещений (из гр. 12) | L42: из числа досуговых помещений (из гр. 18) помещения для музейной и библиотечной работы | M42: из общей площади досуговых помещений (из гр. 19)
E43: техническое состояние помещений | G43: арендованных | H43: зрительные залы | J43: Досуговые помещения | M43: площадь, занимаемая музеем | N43: площадь, занимаемая библиотекой
E44: требующих капитального ремонта | F44: аварийных | H44: число зрительных залов, единиц | I44: вместимость зрительных залов, мест | J44: число помещений, единиц | K44: площадь, кв м
C45: 1 | D45: 12 | E45: 13 | F45: 14 | G45: 15 | H45: 16 | I45: 17 | J45: 18 | K45: 19 | L45: 20 | M45: 21 | N45: 22
C46: 1 | D46: 6 | E46: 0 | F46: 0 | G46: 0 | H46: 1 | I46: 100 | J46: 4 | K46: 149 | L46: 0 | M46: 0 | N46: 0
C49: N строки | D49: Число автоматизированных рабочих мест, единиц | E49: Наличие доступа в Интернет (да - 1, нет - 0) | F49: Наличие доступа в Интернет для посетителей и участников формирований (да - 1, нет - 0) | G49: Наличие собственного Интернет-сайта, (да - 1, нет - 0) | H49: Наличие версии собственного Интернет-сайта, доступной для слепых и слабовидящих (да - 1, нет - 0) | I49: Число специализированного оборудования для инвалидов, единиц | J49: Число специализированных транспортных средств, единиц | K49: Число автоклубов, единиц (из гр. 29) | L49: Число выездов автоклубов в сельские населенные пункты, единиц | M49: Количество населенных пунктов, обслуживаемых автоклубами
C50: 1 | D50: 23 | E50: 24 | F50: 25 | G50: 26 | H50: 27 | I50: 28 | J50: 29 | K50: 30 | L50: 31 | M50: 32
C51: 1 | D51: 2 | E51: 1 | F51: 0 | G51: 0 | H51: 0 | I51: 0 | J51: 0 | K51: 0 | L51: 0 | M51: 0
C54: Раздел 2. Клубные формирования
A55: Коды по ОКЕИ: единица - 642; человек - 792
D56: N строки | E56: Число клубных формирований, всего (сумма граф 6, 8) | F56: из гр. 3
F57: для детей до 14 лет | G57: для молодежи от 14 до 35 лет | H57: любительские объединения, клубы по интересам | I57: инклюзивные, включающие в состав инвалидов и лиц с ОВЗ | J57: прочие клубные формирования | K57: из них (из гр. 8)
K58: для детей до 14 лет | L58: для молодежи от 14 до 35 лет | M58: формирования/кружки самодеятельного народного творчества | N58: из них (из гр. 11) | Q58: формирования/кружки технического творчества | R58: спортивные формирования/кружки
N59: для детей до 14 лет | O59: для молодежи от 14 до 35 лет | P59: работающих на платной основе
C60: 1 | D60: 2 | E60: 3 | F60: 4 | G60: 5 | H60: 6 | I60: 7 | J60: 8 | K60: 9 | L60: 10 | M60: 11 | N60: 12 | O60: 13 | P60: 14 | Q60: 15 | R60: 16
C61: Всего,
C62: единиц | D62: 2 | E62: =H62+J62 -> 8 | F62: 5 | G62: 2 | H62: 1 | I62: 0 | J62: 7 | K62: 5 | L62: 1 | M62: 7 | N62: 5 | O62: 1 | P62: 0 | Q62: 0 | R62: 0
C63: В них участников, человек | D63: 3 | E63: 101 | F63: 58 | G63: 33 | H63: 20 | I63: 0 | J63: 81 | K63: 58 | L63: 13 | M63: 81 | N63: 58 | O63: 13 | P63: 0 | Q63: 0 | R63: 0
C65: N строки | D65: в том числе коллективы (из гр. 11)
D66: вокальные | E66: в том числе коллективы (из гр. 17) | L66: хореографические | M66: в том числе коллективы (из гр. 25)
E67: хоры | F67: из них (из гр. 18) | H67: ансамбли | I67: из них (из гр. 21) | K67: студии эстрадного пения | M67: народного танца | N67: классического танца | O67: современного танца | P67: бального и эстрадно-спортивного танца | Q67: иные
F68: академические | G68: народные | I68: академические | J68: народные
C69: 2 | D69: 17 | E69: 18 | F69: 19 | G69: 20 | H69: 21 | I69: 22 | J69: 23 | K69: 24 | L69: 25 | M69: 26 | N69: 27 | O69: 28 | P69: 29 | Q69: 30
C70: 2 | D70: 0 | E70: 0 | F70: 0 | G70: 0 | H70: 0 | I70: 0 | J70: 0 | K70: 0 | L70: 2 | M70: 2 | N70: 0 | O70: 0 | P70: 0 | Q70: ='м. от.'!Q74+алгач!R73+'ам-бал'!R74+берег!Q74+берез.!R74+бомнак!R74+'В-зск'!Q74+Горн.!Q74+Гулик!R74+дугда!Q74+з.сл.!Q74+ивановка!R74+николаев.!R71+огорон!Q71+поляк.!Q72+снежн.!Q74+С.Бор!Q74+тунгала!Q74+умлек.!Q74+хвой.!R74+чалб.!R74+юбил.!Q74+С.Октябрьс.!R74+'СДК Овс.'!R74+клепикова!R74 -> 0
C71: 3 | D71: 0 | E71: 0 | F71: 0 | G71: 0 | H71: 0 | I71: 0 | J71: 0 | K71: 0 | L71: 25 | M71: 25 | N71: 0 | O71: 0 | P71: 0 | Q71: 0
C73: N строки | D73: в том числе коллективы (из гр. 11)
D74: инструментальные | E74: в том числе коллективы (из гр. 30) | O74: театральные | P74: в том числе коллективы (из гр. 41)
E75: оркестры | F75: из них (из гр. 31) | J75: ансамбли | K75: из них (из гр. 36) | P75: драматические | Q75: театры кукол | R75: музыкальные | S75: театры эстрады
F76: народных инструментов | G76: духовых инструментов | H76: джазовые и эстрадные | I76: симфонические | K76: народных инструментов | L76: духовых инструментов | M76: джазовые и эстрадные | N76: камерные
C77: 2 | D77: 31 | E77: 32 | F77: 33 | G77: 34 | H77: 35 | I77: 36 | J77: 37 | K77: 38 | L77: 39 | M77: 40 | N77: 41 | O77: 42 | P77: 43 | Q77: 44 | R77: 45 | S77: 46
C78: 2 | D78: 0 | E78: 0 | F78: 0 | G78: 0 | H78: 0 | I78: 0 | J78: 0 | K78: 0 | L78: 0 | M78: 0 | N78: 0 | O78: 0 | P78: 0 | Q78: 0 | R78: 0 | S78: 0
C79: 3 | D79: 0 | E79: 0 | F79: 0 | G79: 0 | H79: 0 | I79: 0 | J79: 0 | K79: 0 | L79: 0 | M79: 0 | N79: 0 | O79: 0 | P79: 0 | Q79: 0 | R79: 0 | S79: 0
C81: N строки | D81: в том числе коллективы (из гр. 11)
D82: фольклорные | E82: изобразительного искусства | F82: декоративно-прикладного искусства | G82: кино-фото-видео-любителей | H82: циркового искусства | I82: прочие
C83: 2 | D83: 47 | E83: 48 | F83: 49 | G83: 50 | H83: 51 | I83: 52
C84: 2 | D84: 0 | E84: 0 | F84: 3 | G84: 0 | H84: 0 | I84: 2
C85: 3 | D85: 0 | E85: 0 | F85: 35 | G85: 0 | H85: 0 | I85: 21
C88: N строки | D88: число коллективов, имеющих звание (из гр. 8)
D89: народный | E89: образцовый | F89: заслуженный коллектив народного творчества | G89: лауреат международного конкурса (фестиваля) | H89: лауреат всероссийского конкурса (фестиваля) | I89: лауреат регионального конкурса (фестиваля)
C90: 2 | D90: 53 | E90: 54 | F90: 55 | G90: 56 | H90: 57 | I90: 58
C91: 2 | D91: 0 | E91: 0 | F91: 0 | G91: 0 | H91: 0 | I91: 0
C92: 3 | D92: 0 | E92: 0 | F92: 0 | G92: 0 | H92: 0 | I92: 0
A94: Раздел 3. Культурно-массовые мероприятия
A95: Коды по ОКЕИ: единица - 642; человек - 792
D96: N строки | E96: Культурно-массовые мероприятия, всего | F96: из них (из гр. 3) | H96: из общего числа мероприятий (гр. 3)
F97: для детей до 14 лет | G97: для молодежи от 14 до 35 лет | H97: культурно-досуговые мероприятия (из гр. 3) | I97: из них (из гр. 6) | K97: с участием инвалидов и лиц с ОВЗ | L97: доступные для восприятия инвалидами и лицами с ОВЗ | M97: с применением специализированных транспортных средств
I98: для детей до 14 лет | J98: для молодежи от 14 до 35 лет
C99: 1 | D99: 2 | E99: 3 | F99: 4 | G99: 5 | H99: 6 | I99: 7 | J99: 8 | K99: 9 | L99: 10 | M99: 11
C100: Число мероприятий, единиц | D100: 4 | E100: 245 | F100: 108 | G100: 90 | H100: 193 | I100: 68 | J100: 81 | K100: 0 | L100: 0 | M100: 0
C101: из них
C102: платных мероприятий | D102: 5 | E102: 58 | F102: 0 | G102: 51 | H102: 58 | I102: 0 | J102: 51 | K102: 0 | L102: 0 | M102: 0
C103: Посещения на мероприятиях, человек | D103: 6 | E103: 8400 | F103: 1600 | G103: 3064 | H103: 6961 | I103: 1089 | J103: 2265 | K103: x | L103: x | M103: 0
C104: из них
C105: на платных мероприятиях | D105: 7 | E105: 602 | F105: 0 | G105: 464 | H105: 602 | I105: 0 | J105: 464 | K105: x | L105: x | M105: 0
A108: Раздел 4. Персонал организации (на конец года)
A109: Коды по ОКЕИ: человек - 792
C110: № | D110: Численность работников – всего | E110: из них (из графы 2) | K110: из численности в профильных организацияхработников, относящихся к основному персоналу имеютобразование(из графы 4) | M110: из численностиштатных работников (графы 3)имеют стаж работыв профильных организациях
E111: штатных | F111: работников, относящихсяк основному персоналу | G111: прошли обучение (инструктирование) по вопросам, связанным с предоставлением услуг инвалидами лицам с ОВЗ | H111: прошли повышение квалификации/ профессиональную переподготовку | I111: из графы 6в рамкахреализации Национального проекта «Культура» | J111: имеющих инвалид-ность | K111: высшее | L111: среднеепрофессио-нальное | M111: до 3 лет | N111: от 3 до 10 лет | O111: свыше 10 лет
C112: 1 | D112: 2 | E112: 3 | F112: 4 | G112: 5 | H112: 6 | I112: 7 | J112: 8 | K112: 9 | L112: 10 | M112: 11 | N112: 12 | O112: 13
C113: 8 | D113: 4 | E113: 4 | F113: 4 | G113: 0 | H113: 0 | I113: 0 | J113: 0 | K113: 0 | L113: 1 | M113: 3 | N113: 0 | O113: 1
A116: Раздел 5. Поступление и использование финансовых средств
A117: Код по ОКЕИ: тысяча рублей - 384
C118: N строки | D118: Поступило за год всего (сумма граф 3, 4, 5, 9) | E118: из них (из гр. 2)
E119: бюджетные ассигнования учредителя | F119: финансирование из бюджетов других уровней | G119: от предпринимательской и иной приносящей доход деятельности | H119: из них (из гр. 5) | K119: от сдачи имущества в аренду
H120: от основных видов уставной деятельности | I120: благотворительные и спонсорские вклады | J120: от предпринимательской деятельности
C121: 1 | D121: 2 | E121: 3 | F121: 4 | G121: 5 | H121: 6 | I121: 7 | J121: 8 | K121: 9
C122: 9 | D122: 2138 | E122: 1888
C125: N строки | D125: Израсходовано, всего | E125: из них (из гр. 10)
E126: расходы на оплату труда | I126: на капитальный ремонт и реставрацию | K126: на приобретение (замену) оборудования | N126: на социально значимые мероприятия
E127: всего | F127: из них за счет собственных средств | G127: из общих расходов на оплату труда - основному персоналу (из гр. 11) | H127: из них за счет собственных средств (из гр. 13) | I127: всего | J127: из них за счет собственных средств (из гр. 15) | K127: всего | L127: из них для улучшения условий доступности для лиц с ОВЗ (из гр. 17) | M127: из них за счет собственных средств (из гр. 17) | N127: всего | O127: из них за счет собственных средств (из гр. 20)
C128: 1 | D128: 10 | E128: 11 | F128: 12 | G128: 13 | H128: 14 | I128: 15 | J128: 16 | K128: 17 | L128: 18 | M128: 19 | N128: 20 | O128: 21
...

Sheet В-зск
B2: ФЕДЕРАЛЬНОЕ СТАТИСТИЧЕСКОЕ НАБЛЮДЕНИЕ
B4: КОНФИДЕНЦИАЛЬНОСТЬ ГАРАНТИРУЕТСЯ ПОЛУЧАТЕЛЕМ ИНФОРМАЦИИ
B6: Нарушение порядка предоставления первичных статистических данных или несвоевременное предоставление этих данных, либо предоставление недостоверных первичных статистических данных влечет ответственность, установленную Кодексом Российской Федерации об административных правонарушениях
B8: ВОЗМОЖНО ПРЕДОСТАВЛЕНИЕ В ЭЛЕКТРОННОМ ВИДЕ
B10: СВЕДЕНИЯ ОБ ОРГАНИЗАЦИИ КУЛЬТУРНО-ДОСУГОВОГО ТИПА
B11: за 2023 год
B13: Предоставляют: | I13: Сроки предоставления | M13: Форма N 7-НК
B14: юридические лица - организации культурно-досугового типа, юридические лица - организации, имеющие в своем составе обособленные структурные подразделения, осуществляющие культурно-досуговую деятельность (полный перечень респондентов приведен в указаниях по заполнению формы федерального статистического наблюдения): | I14: 15 февраля | M14: Приказ Росстата: Об утверждении формы от 18.10.2021 № 713
B15: - Министерству культуры Российской Федерации | M15: О внесении изменений (при наличии)
M16: от __________ N ___
M17: от __________ N ___
M18: Годовая
B19: Наименование отчитывающейся организации | H19: Дом культуры п. Верхнезейск МАУ СКЦ Зейского муниципального округа
B20: Почтовый адрес: 676239 Амурская область Зейский район п. Верхнезейский, блок 73.
B21: Код формы по ОКУД | E21: Код
E22: отчитывающейся организации по ОКПО (для территориально обособленного подразделения юридического лица - идентификационный номер)
B23: 1 | E23: 2 | K23: 3 | O23: 4
B24: 609522 | E24: 10347839
B26: Наименование учредителя МКУ "Отдел культуры, архивного дела, молодежной политики и спорта Зейского муниципального округа "
B27: Направление основной деятельности головной организации: деятельность в области культуры и искусства
B28: Число организаций, включенных в сводную форму
B29: (заполняется органами исполнительной власти субъекта Российской Федерации)
A33: Раздел 1. Материально-техническая база
A34: Коды по ОКЕИ: единица - 642; место - 698; квадратный метр - 055
B35: N строки | C35: Число зданий, единиц | D35: из них (из гр. 2) число собственных зданий | E35: из них (из гр. 2) доступны для лиц с нарушением | H35: из общего числа зданий (из гр. 2)
H36: техническое состояние зданий | J36: из них по форме пользования
E37: зрения | F37: слуха | G37: опорно-двигательного аппарата | H37: требуют капитального ремонта | I37: аварийные | J37: в оперативном управлении или хозяйственном ведении | K37: арендованные | L37: прочие
B38: 1 | C38: 2 | D38: 3 | E38: 4 | F38: 5 | G38: 6 | H38: 7 | I38: 8 | J38: 9 | K38: 10 | L38: 11
B39: 1 | C39: 1 | D39: 0 | E39: 0 | F39: 0 | G39: 0 | H39: 0 | I39: 0 | J39: 0 | K39: 1 | L39: 0
B42: N строки | C42: Число помещений, единиц | D42: из общего числа помещений (из гр. 12) | K42: из числа досуговых помещений (из гр. 18) помещения для музейной и библиотечной работы | L42: из общей площади досуговых помещений (из гр. 19)
D43: техническое состояние помещений | F43: арендованных | G43: зрительные залы | I43: Досуговые помещения | L43: площадь, занимаемая музеем | M43: площадь, занимаемая библиотекой
D44: требующих капитального ремонта | E44: аварийных | G44: число зрительных залов, единиц | H44: вместимость зрительных залов, мест | I44: число помещений, единиц | J44: площадь, кв м
B45: 1 | C45: 12 | D45: 13 | E45: 14 | F45: 15 | G45: 16 | H45: 17 | I45: 18 | J45: 19 | K45: 20 | L45: 21 | M45: 22
B46: 1 | C46: 10 | D46: 0 | E46: 0 | F46: 10 | G46: 1 | H46: 80 | I46: 7 | J46: 307 | K46: 0 | L46: 0 | M46: 0
B49: N строки | C49: Число автоматизированных рабочих мест, единиц | D49: Наличие доступа в Интернет (да - 1, нет - 0) | E49: Наличие доступа в Интернет для посетителей и участников формирований (да - 1, нет - 0) | F49: Наличие собственного Интернет-сайта, (да - 1, нет - 0) | G49: Наличие версии собственного Интернет-сайта, доступной для слепых и слабовидящих (да - 1, нет - 0) | H49: Число специализированного оборудования для инвалидов, единиц | I49: Число специализированных транспортных средств, единиц | J49: Число автоклубов, единиц (из гр. 29) | K49: Число выездов автоклубов в сельские населенные пункты, единиц | L49: Количество населенных пунктов, обслуживаемых автоклубами
B50: 1 | C50: 23 | D50: 24 | E50: 25 | F50: 26 | G50: 27 | H50: 28 | I50: 29 | J50: 30 | K50: 31 | L50: 32
B51: 1 | C51: 3 | D51: 1 | E51: 0 | F51: 0 | G51: 0 | H51: 0 | I51: 0 | J51: 0 | K51: 0 | L51: 0
B54: Раздел 2. Клубные формирования
A55: Коды по ОКЕИ: единица - 642; человек - 792
C56: N строки | D56: Число клубных формирований, всего (сумма граф 6, 8) | E56: из гр. 3
E57: для детей до 14 лет | F57: для молодежи от 14 до 35 лет | G57: любительские объединения, клубы по интересам | H57: инклюзивные, включающие в состав инвалидов и лиц с ОВЗ | I57: прочие клубные формирования | J57: из них (из гр. 8)
J58: для детей до 14 лет | K58: для молодежи от 14 до 35 лет | L58: формирования/кружки самодеятельного народного творчества | M58: из них (из гр. 11) | P58: формирования/кружки технического творчества | Q58: спортивные формирования/кружки
M59: для детей до 14 лет | N59: для молодежи от 14 до 35 лет | O59: работающих на платной основе
B60: 1 | C60: 2 | D60: 3 | E60: 4 | F60: 5 | G60: 6 | H60: 7 | I60: 8 | J60: 9 | K60: 10 | L60: 11 | M60: 12 | N60: 13 | O60: 14 | P60: 15 | Q60: 16
B61: Всего,
B62: единиц | C62: 2 | D62: 6 | E62: 3 | F62: 1 | G62: 1 | H62: 0 | I62: 5 | J62: 3 | K62: 1 | L62: 5 | M62: 3 | N62: 1 | O62: 0 | P62: 0 | Q62: 0
B63: В них участников, человек | C63: 3 | D63: 73 | E63: 34 | F63: 12 | G63: 15 | H63: 0 | I63: 58 | J63: 34 | K63: 12 | L63: 58 | M63: 34 | N63: 12 | O63: 0 | P63: 0 | Q63: 0
B65: N строки | C65: в том числе коллективы (из гр. 11)
C66: вокальные | D66: в том числе коллективы (из гр. 17) | K66: хореографические | L66: в том числе коллективы (из гр. 25)
D67: хоры | E67: из них (из гр. 18) | G67: ансамбли | H67: из них (из гр. 21) | J67: студии эстрадного пения | L67: народного танца | M67: классического танца | N67: современного танца | O67: бального и эстрадно-спортивного танца | P67: иные
E68: академические | F68: народные | H68: академические | I68: народные
B69: 2 | C69: 17 | D69: 18 | E69: 19 | F69: 20 | G69: 21 | H69: 22 | I69: 23 | J69: 24 | K69: 25 | L69: 26 | M69: 27 | N69: 28 | O69: 29 | P69: 30
B70: 2 | C70: 0 | D70: 0 | E70: 0 | F70: 0 | G70: 0 | H70: 0 | I70: 0 | J70: 0 | K70: 3 | L70: 1 | M70: 0 | N70: 0 | O70: 0 | P70: 2
B71: 3 | C71: 0 | D71: 0 | E71: 0 | F71: 0 | G71: 0 | H71: 0 | I71: 0 | J71: 0 | K71: 34 | L71: 12 | M71: 0 | N71: 0 | O71: 0 | P71: 22
B73: N строки | C73: в том числе коллективы (из гр. 11)
C74: инструментальные | D74: в том числе коллективы (из гр. 30) | N74: театральные | O74: в том числе коллективы (из гр. 41)
D75: оркестры | E75: из них (из гр. 31) | I75: ансамбли | J75: из них (из гр. 36) | O75: драматические | P75: театры кукол | Q75: музыкальные | R75: театры эстрады
E76: народных инструментов | F76: духовых инструментов | G76: джазовые и эстрадные | H76: симфонические | J76: народных инструментов | K76: духовых инструментов | L76: джазовые и эстрадные | M76: камерные
B77: 2 | C77: 31 | D77: 32 | E77: 33 | F77: 34 | G77: 35 | H77: 36 | I77: 37 | J77: 38 | K77: 39 | L77: 40 | M77: 41 | N77: 42 | O77: 43 | P77: 44 | Q77: 45 | R77: 46
B78: 2 | C78: 0 | D78: 0 | E78: 0 | F78: 0 | G78: 0 | H78: 0 | I78: 0 | J78: 0 | K78: 0 | L78: 0 | M78: 0 | N78: 0 | O78: 0 | P78: 0 | Q78: 0 | R78: 0
B79: 3 | C79: 0 | D79: 0 | E79: 0 | F79: 0 | G79: 0 | H79: 0 | I79: 0 | J79: 0 | K79: 0 | L79: 0 | M79: 0 | N79: 0 | O79: 0 | P79: 0 | Q79: 0 | R79: 0
B81: N строки | C81: в том числе коллективы (из гр. 11)
C82: фольклорные | D82: изобразительного искусства | E82: декоративно-прикладного искусства | F82: кино-фото-видео-любителей | G82: циркового искусства | H82: прочие
B83: 2 | C83: 47 | D83: 48 | E83: 49 | F83: 50 | G83: 51 | H83: 52
B84: 2 | C84: 0 | D84: 0 | E84: 1 | F84: 0 | G84: 0 | H84: 1
B85: 3 | C85: 0 | D85: 0 | E85: 12 | F85: 0 | G85: 0 | H85: 12
B88: N строки | C88: число коллективов, имеющих звание (из гр. 8)
C89: народный | D89: образцовый | E89: заслуженный коллектив народного творчества | F89: лауреат международного конкурса (фестиваля) | G89: лауреат всероссийского конкурса (фестиваля) | H89: лауреат регионального конкурса (фестиваля)
B90: 2 | C90: 53 | D90: 54 | E90: 55 | F90: 56 | G90: 57 | H90: 58
B91: 2 | C91: 0 | D91: 0 | E91: 0 | F91: 0 | G91: 0 | H91: 0
B92: 3 | C92: 0 | D92: 0 | E92: 0 | F92: 0 | G92: 0 | H92: 0
A94: Раздел 3. Культурно-массовые мероприятия
A95: Коды по ОКЕИ: единица - 642; человек - 792
C96: N строки | D96: Культурно-массовые мероприятия, всего | E96: из них (из гр. 3) | G96: из общего числа мероприятий (гр. 3)
E97: для детей до 14 лет | F97: для молодежи от 14 до 35 лет | G97: культурно-досуговые мероприятия (из гр. 3) | H97: из них (из гр. 6) | J97: с участием инвалидов и лиц с ОВЗ | K97: доступные для восприятия инвалидами и лицами с ОВЗ | L97: с применением специализированных транспортных средств
H98: для детей до 14 лет | I98: для молодежи от 14 до 35 лет
B99: 1 | C99: 2 | D99: 3 | E99: 4 | F99: 5 | G99: 6 | H99: 7 | I99: 8 | J99: 9 | K99: 10 | L99: 11
B100: Число мероприятий, единиц | C100: 4 | D100: 247 | E100: 152 | F100: 63 | G100: 186 | H100: 103 | I100: 53 | J100: 0 | K100: 0 | L100: 0
B101: из них
B102: платных мероприятий | C102: 5 | D102: 34 | E102: 12 | F102: 9 | G102: 34 | H102: 12 | I102: 9 | J102: 0 | K102: 0 | L102: 0
B103: Посещения на мероприятиях, человек | C103: 6 | D103: 8547 | E103: 2793 | F103: 4858 | G103: 7606 | H103: 2155 | I103: 4601 | J103: x | K103: x | L103: 0
B104: из них
B105: на платных мероприятиях | C105: 7 | D105: 537 | E105: 128 | F105: 188 | G105: 537 | H105: 128 | I105: 188 | J105: x | K105: x | L105: 0
A108: Раздел 4. Персонал организации (на конец года)
A109: Коды по ОКЕИ: человек - 792
B110: № | C110: Численность работников – всего | D110: из них (из графы 2) | J110: из численности в профильных организацияхработников, относящихся к основному персоналу имеютобразование(из графы 4) | L110: из численностиштатных работников (графы 3)имеют стаж работыв профильных организациях
D111: штатных | E111: работников, относящихсяк основному персоналу | F111: прошли обучение (инструктирование) по вопросам, связанным с предоставлением услуг инвалидами лицам с ОВЗ | G111: прошли повышение квалификации/ профессиональную переподготовку | H111: из графы 6в рамкахреализации Национального проекта «Культура» | I111: имеющих инвалид-ность | J111: высшее | K111: среднеепрофессио-нальное | L111: до 3 лет | M111: от 3 до 10 лет | N111: свыше 10 лет
B112: 1 | C112: 2 | D112: 3 | E112: 4 | F112: 5 | G112: 6 | H112: 7 | I112: 8 | J112: 9 | K112: 10 | L112: 11 | M112: 12 | N112: 13
B113: 8 | C113: 1 | D113: 1 | E113: 1 | F113: 0 | G113: 0 | H113: 0 | I113: 0 | J113: 0 | K113: 1 | L113: 0 | M113: 0 | N113: 1
A116: Раздел 5. Поступление и использование финансовых средств
A117: Код по ОКЕИ: тысяча рублей - 384
B118: N строки | C118: Поступило за год всего (сумма граф 3, 4, 5, 9) | D118: из них (из гр. 2)
D119: бюджетные ассигнования учредителя | E119: финансирование из бюджетов других уровней | F119: от предпринимательской и иной приносящей доход деятельности | G119: из них (из гр. 5) | J119: от сдачи имущества в аренду
G120: от основных видов уставной деятельности | H120: благотворительные и спонсорские вклады | I120: от предпринимательской деятельности
B121: 1 | C121: 2 | D121: 3 | E121: 4 | F121: 5 | G121: 6 | H121: 7 | I121: 8 | J121: 9
B122: 9 | C122: 2151 | D122: 1374
B125: N строки | C125: Израсходовано, всего | D125: из них (из гр. 10)
D126: расходы на оплату труда | H126: на капитальный ремонт и реставрацию | J126: на приобретение (замену) оборудования | M126: на социально значимые мероприятия
D127: всего | E127: из них за счет собственных средств | F127: из общих расходов на оплату труда - основному персоналу (из гр. 11) | G127: из них за счет собственных средств (из гр. 13) | H127: всего | I127: из них за счет собственных средств (из гр. 15) | J127: всего | K127: из них для улучшения условий доступности для лиц с ОВЗ (из гр. 17) | L127: из них за счет собственных средств (из гр. 17) | M127: всего | N127: из них за счет собственных средств (из гр. 20)
B128: 1 | C128: 10 | D128: 11 | E128: 12 | F128: 13 | G128: 14 | H128: 15 | I128: 16 | J128: 17 | K128: 18 | L128: 19 | M128: 20 | N128: 21
...

Sheet Горн.
B2: ФЕДЕРАЛЬНОЕ СТАТИСТИЧЕСКОЕ НАБЛЮДЕНИЕ
B4: КОНФИДЕНЦИАЛЬНОСТЬ ГАРАНТИРУЕТСЯ ПОЛУЧАТЕЛЕМ ИНФОРМАЦИИ
B6: Нарушение порядка предоставления первичных статистических данных или несвоевременное предоставление этих данных, либо предоставление недостоверных первичных статистических данных влечет ответственность, установленную Кодексом Российской Федерации об административных правонарушениях
B8: ВОЗМОЖНО ПРЕДОСТАВЛЕНИЕ В ЭЛЕКТРОННОМ ВИДЕ
B10: СВЕДЕНИЯ ОБ ОРГАНИЗАЦИИ КУЛЬТУРНО-ДОСУГОВОГО ТИПА
B11: за 2023 год
B13: Предоставляют: | I13: Сроки предоставления | M13: Форма N 7-НК
B14: юридические лица - организации культурно-досугового типа, юридические лица - организации, имеющие в своем составе обособленные структурные подразделения, осуществляющие культурно-досуговую деятельность (полный перечень респондентов приведен в указаниях по заполнению формы федерального статистического наблюдения): | I14: 15 февраля | M14: Приказ Росстата: Об утверждении формы от 18.10.2021 № 713
B15: - Министерству культуры Российской Федерации | M15: О внесении изменений (при наличии)
M16: от __________ N ___
M17: от __________ N ___
M18: Годовая
B19: Наименование отчитывающейся организации | H19: Дом культуры п. Горный МАУ СКЦ Зейского муниципального округа
B20: Почтовый адрес : 676230 Амурская область Зейский район п. Горный, ул. Советская, 1
B21: Код формы по ОКУД | E21: Код
E22: отчитывающейся организации по ОКПО (для территориально обособленного подразделения юридического лица - идентификационный номер)
B23: 1 | E23: 2 | K23: 3 | O23: 4
B24: 609522 | E24: 10345295
B26: Наименование учредителя МКУ "Отдел культуры, архивного дела, молодежной политики и спорта администрации Зейского муниципального округа
B27: Направление основной деятельности головной организации: деятельность в области культуры и искусства
B28: Число организаций, включенных в сводную форму
B29: (заполняется органами исполнительной власти субъекта Российской Федерации)
A33: Раздел 1. Материально-техническая база
A34: Коды по ОКЕИ: единица - 642; место - 698; квадратный метр - 055
B35: N строки | C35: Число зданий, единиц | D35: из них (из гр. 2) число собственных зданий | E35: из них (из гр. 2) доступны для лиц с нарушением | H35: из общего числа зданий (из гр. 2)
H36: техническое состояние зданий | J36: из них по форме пользования
E37: зрения | F37: слуха | G37: опорно-двигательного аппарата | H37: требуют капитального ремонта | I37: аварийные | J37: в оперативном управлении или хозяйственном ведении | K37: арендованные | L37: прочие
B38: 1 | C38: 2 | D38: 3 | E38: 4 | F38: 5 | G38: 6 | H38: 7 | I38: 8 | J38: 9 | K38: 10 | L38: 11
B39: 1 | C39: 1 | D39: 0 | E39: 0 | F39: 0 | G39: 0 | H39: 0 | I39: 0 | J39: 0 | K39: 1 | L39: 0
B42: N строки | C42: Число помещений, единиц | D42: из общего числа помещений (из гр. 12) | K42: из числа досуговых помещений (из гр. 18) помещения для музейной и библиотечной работы | L42: из общей площади досуговых помещений (из гр. 19)
D43: техническое состояние помещений | F43: арендованных | G43: зрительные залы | I43: Досуговые помещения | L43: площадь, занимаемая музеем | M43: площадь, занимаемая библиотекой
D44: требующих капитального ремонта | E44: аварийных | G44: число зрительных залов, единиц | H44: вместимость зрительных залов, мест | I44: число помещений, единиц | J44: площадь, кв м
B45: 1 | C45: 12 | D45: 13 | E45: 14 | F45: 15 | G45: 16 | H45: 17 | I45: 18 | J45: 19 | K45: 20 | L45: 21 | M45: 22
B46: 1 | C46: 5 | D46: 0 | E46: 0 | F46: 5 | G46: 1 | H46: 65 | I46: 3 | J46: 119 | K46: 0 | L46: 0 | M46: 0
B49: N строки | C49: Число автоматизированных рабочих мест, единиц | D49: Наличие доступа в Интернет (да - 1, нет - 0) | E49: Наличие доступа в Интернет для посетителей и участников формирований (да - 1, нет - 0) | F49: Наличие собственного Интернет-сайта, (да - 1, нет - 0) | G49: Наличие версии собственного Интернет-сайта, доступной для слепых и слабовидящих (да - 1, нет - 0) | H49: Число специализированного оборудования для инвалидов, единиц | I49: Число специализированных транспортных средств, единиц | J49: Число автоклубов, единиц (из гр. 29) | K49: Число выездов автоклубов в сельские населенные пункты, единиц | L49: Количество населенных пунктов, обслуживаемых автоклубами
B50: 1 | C50: 23 | D50: 24 | E50: 25 | F50: 26 | G50: 27 | H50: 28 | I50: 29 | J50: 30 | K50: 31 | L50: 32
B51: 1 | C51: 2 | D51: 1 | E51: 0 | F51: 0 | G51: 0 | H51: 0 | I51: 0 | J51: 0 | K51: 0 | L51: 0
B54: Раздел 2. Клубные формирования
A55: Коды по ОКЕИ: единица - 642; человек - 792
C56: N строки | D56: Число клубных формирований, всего (сумма граф 6, 8) | E56: из гр. 3
E57: для детей до 14 лет | F57: для молодежи от 14 до 35 лет | G57: любительские объединения, клубы по интересам | H57: инклюзивные, включающие в состав инвалидов и лиц с ОВЗ | I57: прочие клубные формирования | J57: из них (из гр. 8)
J58: для детей до 14 лет | K58: для молодежи от 14 до 35 лет | L58: формирования/кружки самодеятельного народного творчества | M58: из них (из гр. 11) | P58: формирования/кружки технического творчества | Q58: спортивные формирования/кружки
M59: для детей до 14 лет | N59: для молодежи от 14 до 35 лет | O59: работающих на платной основе
B60: 1 | C60: 2 | D60: 3 | E60: 4 | F60: 5 | G60: 6 | H60: 7 | I60: 8 | J60: 9 | K60: 10 | L60: 11 | M60: 12 | N60: 13 | O60: 14 | P60: 15 | Q60: 16
B61: Всего,
B62: единиц | C62: 2 | D62: 6 | E62: 4 | F62: 1 | G62: 0 | H62: 0 | I62: 6 | J62: 4 | K62: 1 | L62: 6 | M62: 4 | N62: 1 | O62: 0 | P62: 0 | Q62: 0
B63: В них участников, человек | C63: 3 | D63: 56 | E63: 39 | F63: 8 | G63: 0 | H63: 0 | I63: 56 | J63: 39 | K63: 8 | L63: 56 | M63: 39 | N63: 8 | O63: 0 | P63: 0 | Q63: 0
B65: N строки | C65: в том числе коллективы (из гр. 11)
C66: вокальные | D66: в том числе коллективы (из гр. 17) | K66: хореографические | L66: в том числе коллективы (из гр. 25)
D67: хоры | E67: из них (из гр. 18) | G67: ансамбли | H67: из них (из гр. 21) | J67: студии эстрадного пения | L67: народного танца | M67: классического танца | N67: современного танца | O67: бального и эстрадно-спортивного танца | P67: иные
E68: академические | F68: народные | H68: академические | I68: народные
B69: 2 | C69: 17 | D69: 18 | E69: 19 | F69: 20 | G69: 21 | H69: 22 | I69: 23 | J69: 24 | K69: 25 | L69: 26 | M69: 27 | N69: 28 | O69: 29 | P69: 30
B70: 2 | C70: 0 | D70: 0 | E70: 0 | F70: 0 | G70: 0 | H70: 0 | I70: 0 | J70: 0 | K70: 2 | L70: 0 | M70: 0 | N70: 0 | P70: 2
B71: 3 | C71: 0 | D71: 0 | E71: 0 | F71: 0 | G71: 0 | H71: 0 | I71: 0 | J71: 0 | K71: 16 | L71: 0 | M71: 0 | N71: 0 | O71: 0 | P71: 16
B73: N строки | C73: в том числе коллективы (из гр. 11)
C74: инструментальные | D74: в том числе коллективы (из гр. 30) | N74: театральные | O74: в том числе коллективы (из гр. 41)
D75: оркестры | E75: из них (из гр. 31) | I75: ансамбли | J75: из них (из гр. 36) | O75: драматические | P75: театры кукол | Q75: музыкальные | R75: театры эстрады
E76: народных инструментов | F76: духовых инструментов | G76: джазовые и эстрадные | H76: симфонические | J76: народных инструментов | K76: духовых инструментов | L76: джазовые и эстрадные | M76: камерные
B77: 2 | C77: 31 | D77: 32 | E77: 33 | F77: 34 | G77: 35 | H77: 36 | I77: 37 | J77: 38 | K77: 39 | L77: 40 | M77: 41 | N77: 42 | O77: 43 | P77: 44 | Q77: 45 | R77: 46
B78: 2 | C78: 0 | D78: 0 | E78: 0 | F78: 0 | G78: 0 | H78: 0 | I78: 0 | J78: 0 | K78: 0 | L78: 0 | M78: 0 | N78: 0 | O78: 0 | P78: 0 | Q78: 0 | R78: 0
B79: 3 | C79: 0 | D79: 0 | E79: 0 | F79: 0 | G79: 0 | H79: 0 | I79: 0 | J79: 0 | K79: 0 | L79: 0 | M79: 0 | N79: 0 | O79: 0 | P79: 0 | Q79: 0 | R79: 0
B81: N строки | C81: в том числе коллективы (из гр. 11)
C82: фольклорные | D82: изобразительного искусства | E82: декоративно-прикладного искусства | F82: кино-фото-видео-любителей | G82: циркового искусства | H82: прочие
B83: 2 | C83: 47 | D83: 48 | E83: 49 | F83: 50 | G83: 51 | H83: 52
B84: 2 | C84: 0 | D84: 0 | E84: 2 | F84: 0 | G84: 0 | H84: 2
B85: 3 | C85: 0 | D85: 0 | E85: 23 | F85: 0 | G85: 0 | H85: 17
B88: N строки | C88: число коллективов, имеющих звание (из гр. 8)
C89: народный | D89: образцовый | E89: заслуженный коллектив народного творчества | F89: лауреат международного конкурса (фестиваля) | G89: лауреат всероссийского конкурса (фестиваля) | H89: лауреат регионального конкурса (фестиваля)
B90: 2 | C90: 53 | D90: 54 | E90: 55 | F90: 56 | G90: 57 | H90: 58
B91: 2 | C91: 0 | D91: 0 | E91: 0 | F91: 0 | G91: 0 | H91: 0
B92: 3 | C92: 0 | D92: 0 | E92: 0 | F92: 0 | G92: 0 | H92: 0
A94: Раздел 3. Культурно-массовые мероприятия
A95: Коды по ОКЕИ: единица - 642; человек - 792
C96: N строки | D96: Культурно-массовые мероприятия, всего | E96: из них (из гр. 3) | G96: из общего числа мероприятий (гр. 3)
E97: для детей до 14 лет | F97: для молодежи от 14 до 35 лет | G97: культурно-досуговые мероприятия (из гр. 3) | H97: из них (из гр. 6) | J97: с участием инвалидов и лиц с ОВЗ | K97: доступные для восприятия инвалидами и лицами с ОВЗ | L97: с применением специализированных транспортных средств
H98: для детей до 14 лет | I98: для молодежи от 14 до 35 лет
B99: 1 | C99: 2 | D99: 3 | E99: 4 | F99: 5 | G99: 6 | H99: 7 | I99: 8 | J99: 9 | K99: 10 | L99: 11
B100: Число мероприятий, единиц | C100: 4 | D100: 314 | E100: 167 | F100: 94 | G100: 227 | H100: 107 | I100: 76 | J100: 0 | K100: 0 | L100: 0
B101: из них
B102: платных мероприятий | C102: 5 | D102: 66 | E102: 3 | F102: 57 | G102: 66 | H102: 3 | I102: 57 | J102: 0 | K102: 0 | L102: 0
B103: Посещения на мероприятиях, человек | C103: 6 | D103: 6680 | E103: 2523 | F103: 1806 | G103: 5194 | H103: 1713 | I103: 1361 | J103: 0 | K103: 0 | L103: 0
B104: из них
B105: на платных мероприятиях | C105: 7 | D105: 748 | E105: 28 | F105: 629 | G105: 748 | H105: 28 | I105: 629 | J105: 0 | K105: 0 | L105: 0
A108: Раздел 4. Персонал организации (на конец года)
A109: Коды по ОКЕИ: человек - 792
B110: № | C110: Численность работников – всего | D110: из них (из графы 2) | J110: из численности в профильных организацияхработников, относящихся к основному персоналу имеютобразование(из графы 4) | L110: из численностиштатных работников (графы 3)имеют стаж работыв профильных организациях
D111: штатных | E111: работников, относящихсяк основному персоналу | F111: прошли обучение (инструктирование) по вопросам, связанным с предоставлением услуг инвалидами лицам с ОВЗ | G111: прошли повышение квалификации/ профессиональную переподготовку | H111: из графы 6в рамкахреализации Национального проекта «Культура» | I111: имеющих инвалид-ность | J111: высшее | K111: среднеепрофессио-нальное | L111: до 3 лет | M111: от 3 до 10 лет | N111: свыше 10 лет
B112: 1 | C112: 2 | D112: 3 | E112: 4 | F112: 5 | G112: 6 | H112: 7 | I112: 8 | J112: 9 | K112: 10 | L112: 11 | M112: 12 | N112: 13
B113: 8 | C113: 1 | D113: 1 | E113: 1 | F113: 0 | G113: 0 | H113: 0 | I113: 0 | J113: 0 | K113: 0 | L113: 1 | M113: 0 | N113: 0
A116: Раздел 5. Поступление и использование финансовых средств
A117: Код по ОКЕИ: тысяча рублей - 384
B118: N строки | C118: Поступило за год всего (сумма граф 3, 4, 5, 9) | D118: из них (из гр. 2)
D119: бюджетные ассигнования учредителя | E119: финансирование из бюджетов других уровней | F119: от предпринимательской и иной приносящей доход деятельности | G119: из них (из гр. 5) | J119: от сдачи имущества в аренду
G120: от основных видов уставной деятельности | H120: благотворительные и спонсорские вклады | I120: от предпринимательской деятельности
B121: 1 | C121: 2 | D121: 3 | E121: 4 | F121: 5 | G121: 6 | H121: 7 | I121: 8 | J121: 9
B122: 9 | C122: 1752 | D122: 1752
B125: N строки | C125: Израсходовано, всего | D125: из них (из гр. 10)
D126: расходы на оплату труда | H126: на капитальный ремонт и реставрацию | J126: на приобретение (замену) оборудования | M126: на социально значимые мероприятия
D127: всего | E127: из них за счет собственных средств | F127: из общих расходов на оплату труда - основному персоналу (из гр. 11) | G127: из них за счет собственных средств (из гр. 13) | H127: всего | I127: из них за счет собственных средств (из гр. 15) | J127: всего | K127: из них для улучшения условий доступности для лиц с ОВЗ (из гр. 17) | L127: из них за счет собственных средств (из гр. 17) | M127: всего | N127: из них за счет собственных средств (из гр. 20)
B128: 1 | C128: 10 | D128: 11 | E128: 12 | F128: 13 | G128: 14 | H128: 15 | I128: 16 | J128: 17 | K128: 18 | L128: 19 | M128: 20 | N128: 21
...

Sheet Гулик
C2: ФЕДЕРАЛЬНОЕ СТАТИСТИЧЕСКОЕ НАБЛЮДЕНИЕ
C4: КОНФИДЕНЦИАЛЬНОСТЬ ГАРАНТИРУЕТСЯ ПОЛУЧАТЕЛЕМ ИНФОРМАЦИИ
C6: Нарушение порядка предоставления первичных статистических данных или несвоевременное предоставление этих данных, либо предоставление недостоверных первичных статистических данных влечет ответственность, установленную Кодексом Российской Федерации об административных правонарушениях
C8: ВОЗМОЖНО ПРЕДОСТАВЛЕНИЕ В ЭЛЕКТРОННОМ ВИДЕ
C10: СВЕДЕНИЯ ОБ ОРГАНИЗАЦИИ КУЛЬТУРНО-ДОСУГОВОГО ТИПА
C11: за 2023 год
C13: Предоставляют: | J13: Сроки предоставления | N13: Форма N 7-НК
C14: юридические лица - организации культурно-досугового типа, юридические лица - организации, имеющие в своем составе обособленные структурные подразделения, осуществляющие культурно-досуговую деятельность (полный перечень респондентов приведен в указаниях по заполнению формы федерального статистического наблюдения): | J14: 15 февраля | N14: Приказ Росстата: Об утверждении формы от 18.10.2021 № 713
C15: - Министерству культуры Российской Федерации | N15: О внесении изменений (при наличии)
N16: от __________ N ___
N17: от __________ N ___
N18: Годовая
C19: Наименование отчитывающейся организации | I19: Дом культуры с. Гулик МАУ СКЦ Зейского мунипального округа
C20: Почтовый адрес :676246 Амурская область Зейский район с. Гулик, ул. Центральная, 14
C21: Код формы по ОКУД | F21: Код
F22: отчитывающейся организации по ОКПО (для территориально обособленного подразделения юридического лица - идентификационный номер)
C23: 1 | F23: 2 | L23: 3 | P23: 4
C24: 609522 | F24: 10345295
C26: Наименование учредителя МКУ "Отдел культуры, архивного дела, молодежной политики и спорта Зейского муниципального округа"
C27: Направление основной деятельности головной организации: деятельность в области культуры и искусства
C28: Число организаций, включенных в сводную форму
C29: (заполняется органами исполнительной власти субъекта Российской Федерации)
A33: Раздел 1. Материально-техническая база
A34: Коды по ОКЕИ: единица - 642; место - 698; квадратный метр - 055
C35: N строки | D35: Число зданий, единиц | E35: из них (из гр. 2) число собственных зданий | F35: из них (из гр. 2) доступны для лиц с нарушением | I35: из общего числа зданий (из гр. 2)
I36: техническое состояние зданий | K36: из них по форме пользования
F37: зрения | G37: слуха | H37: опорно-двигательного аппарата | I37: требуют капитального ремонта | J37: аварийные | K37: в оперативном управлении или хозяйственном ведении | L37: арендованные | M37: прочие
C38: 1 | D38: 2 | E38: 3 | F38: 4 | G38: 5 | H38: 6 | I38: 7 | J38: 8 | K38: 9 | L38: 10 | M38: 11
C39: 1 | D39: 1 | E39: 0 | F39: 0 | G39: 0 | H39: 0 | I39: 0 | J39: 0 | K39: 0 | L39: 1 | M39: 0
C42: N строки | D42: Число помещений, единиц | E42: из общего числа помещений (из гр. 12) | L42: из числа досуговых помещений (из гр. 18) помещения для музейной и библиотечной работы | M42: из общей площади досуговых помещений (из гр. 19)
E43: техническое состояние помещений | G43: арендованных | H43: зрительные залы | J43: Досуговые помещения | M43: площадь, занимаемая музеем | N43: площадь, занимаемая библиотекой
E44: требующих капитального ремонта | F44: аварийных | H44: число зрительных залов, единиц | I44: вместимость зрительных залов, мест | J44: число помещений, единиц | K44: площадь, кв м
C45: 1 | D45: 12 | E45: 13 | F45: 14 | G45: 15 | H45: 16 | I45: 17 | J45: 18 | K45: 19 | L45: 20 | M45: 21 | N45: 22
C46: 1 | D46: 2 | E46: 0 | F46: 0 | G46: 2 | H46: 1 | I46: 60 | J46: 1 | K46: 15.5 | L46: 0 | M46: 0 | N46: 0
C49: N строки | D49: Число автоматизированных рабочих мест, единиц | E49: Наличие доступа в Интернет (да - 1, нет - 0) | F49: Наличие доступа в Интернет для посетителей и участников формирований (да - 1, нет - 0) | G49: Наличие собственного Интернет-сайта, (да - 1, нет - 0) | H49: Наличие версии собственного Интернет-сайта, доступной для слепых и слабовидящих (да - 1, нет - 0) | I49: Число специализированного оборудования для инвалидов, единиц | J49: Число специализированных транспортных средств, единиц | K49: Число автоклубов, единиц (из гр. 29) | L49: Число выездов автоклубов в сельские населенные пункты, единиц | M49: Количество населенных пунктов, обслуживаемых автоклубами
C50: 1 | D50: 23 | E50: 24 | F50: 25 | G50: 26 | H50: 27 | I50: 28 | J50: 29 | K50: 30 | L50: 31 | M50: 32
C51: 1 | D51: 2 | E51: 1 | F51: 0 | G51: 0 | H51: 0 | I51: 0 | J51: 0 | K51: 0 | L51: 0 | M51: 0
C54: Раздел 2. Клубные формирования
A55: Коды по ОКЕИ: единица - 642; человек - 792
D56: N строки | E56: Число клубных формирований, всего (сумма граф 6, 8) | F56: из гр. 3
F57: для детей до 14 лет | G57: для молодежи от 14 до 35 лет | H57: любительские объединения, клубы по интересам | I57: инклюзивные, включающие в состав инвалидов и лиц с ОВЗ | J57: прочие клубные формирования | K57: из них (из гр. 8)
K58: для детей до 14 лет | L58: для молодежи от 14 до 35 лет | M58: формирования/кружки самодеятельного народного творчества | N58: из них (из гр. 11) | Q58: формирования/кружки технического творчества | R58: спортивные формирования/кружки
N59: для детей до 14 лет | O59: для молодежи от 14 до 35 лет | P59: работающих на платной основе
C60: 1 | D60: 2 | E60: 3 | F60: 4 | G60: 5 | H60: 6 | I60: 7 | J60: 8 | K60: 9 | L60: 10 | M60: 11 | N60: 12 | O60: 13 | P60: 14 | Q60: 15 | R60: 16
C61: Всего,
C62: единиц | D62: 2 | E62: =H62+J62 -> 2 | F62: 2 | G62: 0 | H62: 1 | I62: 0 | J62: 1 | K62: 1 | L62: 0 | M62: 1 | N62: 1 | O62: 0 | P62: 0 | Q62: 0 | R62: 0
C63: В них участников, человек | D63: 3 | E63: 22 | F63: 22 | G63: 0 | H63: 13 | I63: 0 | J63: 9 | K63: 9 | L63: 0 | M63: 9 | N63: 9 | O63: 0 | P63: 0 | Q63: 0 | R63: 0
C65: N строки | D65: в том числе коллективы (из гр. 11)
D66: вокальные | E66: в том числе коллективы (из гр. 17) | L66: хореографические | M66: в том числе коллективы (из гр. 25)
E67: хоры | F67: из них (из гр. 18) | H67: ансамбли | I67: из них (из гр. 21) | K67: студии эстрадного пения | M67: народного танца | N67: классического танца | O67: современного танца | P67: бального и эстрадно-спортивного танца | Q67: иные
F68: академические | G68: народные | I68: академические | J68: народные
C69: 2 | D69: 17 | E69: 18 | F69: 19 | G69: 20 | H69: 21 | I69: 22 | J69: 23 | K69: 24 | L69: 25 | M69: 26 | N69: 27 | O69: 28 | P69: 29 | Q69: 30
C70: 2 | D70: 0 | E70: 0 | F70: 0 | G70: 0 | H70: 0 | I70: 0 | J70: 0 | K70: 0 | L70: 0 | M70: 0 | N70: 0 | O70: 0 | P70: 0 | Q70: ='м. от.'!Q74+алгач!R73+'ам-бал'!R74+берег!Q74+берез.!R74+бомнак!R74+'В-зск'!Q74+Горн.!Q74+Гулик!R74+дугда!Q74+з.сл.!Q74+ивановка!R74+николаев.!R71+огорон!Q71+поляк.!Q72+снежн.!Q74+С.Бор!Q74+тунгала!Q74+умлек.!Q74+хвой.!R74+чалб.!R74+юбил.!Q74+С.Октябрьс.!R74+'СДК Овс.'!R74+клепикова!R74 -> 0
C71: 3 | D71: 0 | E71: 0 | F71: 0 | G71: 0 | H71: 0 | I71: 0 | J71: 0 | K71: 0 | L71: 0 | M71: 0 | N71: 0 | O71: 0 | P71: 0 | Q71: 0
C73: N строки | D73: в том числе коллективы (из гр. 11)
D74: инструментальные | E74: в том числе коллективы (из гр. 30) | O74: театральные | P74: в том числе коллективы (из гр. 41)
E75: оркестры | F75: из них (из гр. 31) | J75: ансамбли | K75: из них (из гр. 36) | P75: драматические | Q75: театры кукол | R75: музыкальные | S75: театры эстрады
F76: народных инструментов | G76: духовых инструментов | H76: джазовые и эстрадные | I76: симфонические | K76: народных инструментов | L76: духовых инструментов | M76: джазовые и эстрадные | N76: камерные
C77: 2 | D77: 31 | E77: 32 | F77: 33 | G77: 34 | H77: 35 | I77: 36 | J77: 37 | K77: 38 | L77: 39 | M77: 40 | N77: 41 | O77: 42 | P77: 43 | Q77: 44 | R77: 45 | S77: 46
C78: 2 | D78: 0 | E78: 0 | F78: 0 | G78: 0 | H78: 0 | I78: 0 | J78: 0 | K78: 0 | L78: 0 | M78: 0 | N78: 0 | O78: 0 | P78: 0 | Q78: 0 | R78: 0 | S78: 0
C79: 3 | D79: 0 | E79: 0 | F79: 0 | G79: 0 | H79: 0 | I79: 0 | J79: 0 | K79: 0 | L79: 0 | M79: 0 | N79: 0 | O79: 0 | P79: 0 | Q79: 0 | R79: 0 | S79: 0
C81: N строки | D81: в том числе коллективы (из гр. 11)
D82: фольклорные | E82: изобразительного искусства | F82: декоративно-прикладного искусства | G82: кино-фото-видео-любителей | H82: циркового искусства | I82: прочие
C83: 2 | D83: 47 | E83: 48 | F83: 49 | G83: 50 | H83: 51 | I83: 52
C84: 2 | D84: 0 | E84: 0 | F84: 1 | G84: 0 | H84: 0 | I84: 0
C85: 3 | D85: 0 | E85: 0 | F85: 9 | G85: 0 | H85: 0 | I85: 0
C88: N строки | D88: число коллективов, имеющих звание (из гр. 8)
D89: народный | E89: образцовый | F89: заслуженный коллектив народного творчества | G89: лауреат международного конкурса (фестиваля) | H89: лауреат всероссийского конкурса (фестиваля) | I89: лауреат регионального конкурса (фестиваля)
C90: 2 | D90: 53 | E90: 54 | F90: 55 | G90: 56 | H90: 57 | I90: 58
C91: 2 | D91: 0 | E91: 0 | F91: 0 | G91: 0 | H91: 0 | I91: 0
C92: 3 | D92: 0 | E92: 0 | F92: 0 | G92: 0 | H92: 0 | I92: 0
A94: Раздел 3. Культурно-массовые мероприятия
A95: Коды по ОКЕИ: единица - 642; человек - 792
D96: N строки | E96: Культурно-массовые мероприятия, всего | F96: из них (из гр. 3) | H96: из общего числа мероприятий (гр. 3)
F97: для детей до 14 лет | G97: для молодежи от 14 до 35 лет | H97: культурно-досуговые мероприятия (из гр. 3) | I97: из них (из гр. 6) | K97: с участием инвалидов и лиц с ОВЗ | L97: доступные для восприятия инвалидами и лицами с ОВЗ | M97: с применением специализированных транспортных средств
I98: для детей до 14 лет | J98: для молодежи от 14 до 35 лет
C99: 1 | D99: 2 | E99: 3 | F99: 4 | G99: 5 | H99: 6 | I99: 7 | J99: 8 | K99: 9 | L99: 10 | M99: 11
C100: Число мероприятий, единиц | D100: 4 | E100: 127 | F100: 72 | G100: 24 | H100: 89 | I100: 35 | J100: 24 | K100: 0 | L100: 0 | M100: 0
C101: из них
C102: платных мероприятий | D102: 5 | E102: 25 | F102: 6 | G102: 14 | H102: 25 | I102: 6 | J102: 14 | K102: 0 | L102: 0 | M102: 0
C103: Посещения на мероприятиях, человек | D103: 6 | E103: 5209 | F103: 869 | G103: 1321 | H103: 4826 | I103: 523 | J103: 1321 | K103: x | L103: x | M103: 0
C104: из них
C105: на платных мероприятиях | D105: 7 | E105: 258 | F105: 68 | G105: 143 | H105: 258 | I105: 68 | J105: 143 | K105: x | L105: x | M105: 0
A108: Раздел 4. Персонал организации (на конец года)
A109: Коды по ОКЕИ: человек - 792
C110: № | D110: Численность работников – всего | E110: из них (из графы 2) | K110: из численности в профильных организацияхработников, относящихся к основному персоналу имеютобразование(из графы 4) | M110: из численностиштатных работников (графы 3)имеют стаж работыв профильных организациях
E111: штатных | F111: работников, относящихсяк основному персоналу | G111: прошли обучение (инструктирование) по вопросам, связанным с предоставлением услуг инвалидами лицам с ОВЗ | H111: прошли повышение квалификации/ профессиональную переподготовку | I111: из графы 6в рамкахреализации Национального проекта «Культура» | J111: имеющих инвалид-ность | K111: высшее | L111: среднеепрофессио-нальное | M111: до 3 лет | N111: от 3 до 10 лет | O111: свыше 10 лет
C112: 1 | D112: 2 | E112: 3 | F112: 4 | G112: 5 | H112: 6 | I112: 7 | J112: 8 | K112: 9 | L112: 10 | M112: 11 | N112: 12 | O112: 13
C113: 8 | D113: 1 | E113: 1 | F113: 1 | G113: 0 | H113: 0 | I113: 0 | J113: 0 | K113: 0 | L113: 0 | M113: 1 | N113: 0 | O113: 0
A116: Раздел 5. Поступление и использование финансовых средств
A117: Код по ОКЕИ: тысяча рублей - 384
C118: N строки | D118: Поступило за год всего (сумма граф 3, 4, 5, 9) | E118: из них (из гр. 2)
E119: бюджетные ассигнования учредителя | F119: финансирование из бюджетов других уровней | G119: от предпринимательской и иной приносящей доход деятельности | H119: из них (из гр. 5) | K119: от сдачи имущества в аренду
H120: от основных видов уставной деятельности | I120: благотворительные и спонсорские вклады | J120: от предпринимательской деятельности
C121: 1 | D121: 2 | E121: 3 | F121: 4 | G121: 5 | H121: 6 | I121: 7 | J121: 8 | K121: 9
C122: 9 | D122: 606 | E122: 606
C125: N строки | D125: Израсходовано, всего | E125: из них (из гр. 10)
E126: расходы на оплату труда | I126: на капитальный ремонт и реставрацию | K126: на приобретение (замену) оборудования | N126: на социально значимые мероприятия
E127: всего | F127: из них за счет собственных средств | G127: из общих расходов на оплату труда - основному персоналу (из гр. 11) | H127: из них за счет собственных средств (из гр. 13) | I127: всего | J127: из них за счет собственных средств (из гр. 15) | K127: всего | L127: из них для улучшения условий доступности для лиц с ОВЗ (из гр. 17) | M127: из них за счет собственных средств (из гр. 17) | N127: всего | O127: из них за счет собственных средств (из гр. 20)
C128: 1 | D128: 10 | E128: 11 | F128: 12 | G128: 13 | H128: 14 | I128: 15 | J128: 16 | K128: 17 | L128: 18 | M128: 19 | N128: 20 | O128: 21
...

Sheet дугда
B2: ФЕДЕРАЛЬНОЕ СТАТИСТИЧЕСКОЕ НАБЛЮДЕНИЕ
B4: КОНФИДЕНЦИАЛЬНОСТЬ ГАРАНТИРУЕТСЯ ПОЛУЧАТЕЛЕМ ИНФОРМАЦИИ
B6: Нарушение порядка предоставления первичных статистических данных или несвоевременное предоставление этих данных, либо предоставление недостоверных первичных статистических данных влечет ответственность, установленную Кодексом Российской Федерации об административных правонарушениях
B8: ВОЗМОЖНО ПРЕДОСТАВЛЕНИЕ В ЭЛЕКТРОННОМ ВИДЕ
B10: СВЕДЕНИЯ ОБ ОРГАНИЗАЦИИ КУЛЬТУРНО-ДОСУГОВОГО ТИПА
B11: за 2023 год
B13: Предоставляют: | I13: Сроки предоставления | M13: Форма N 7-НК
B14: юридические лица - организации культурно-досугового типа, юридические лица - организации, имеющие в своем составе обособленные структурные подразделения, осуществляющие культурно-досуговую деятельность (полный перечень респондентов приведен в указаниях по заполнению формы федерального статистического наблюдения): | I14: 15 февраля | M14: Приказ Росстата: Об утверждении формы от 18.10.2021 № 713
B15: - Министерству культуры Российской Федерации | M15: О внесении изменений (при наличии)
M16: от __________ N ___
M17: от __________ N ___
M18: Годовая
B19: Наименование отчитывающейся организации | H19: Дом культуры п. Дугда МАУ СКЦ Зейского муниципального округа
B20: Почтовый адрес: 676235 Амурская область Зейский район площадь Тухачевского, 1
B21: Код формы по ОКУД | E21: Код
E22: отчитывающейся организации по ОКПО (для территориально обособленного подразделения юридического лица - идентификационный номер)
B23: 1 | E23: 2 | K23: 3 | O23: 4
B24: 609522 | E24: 10345295
B26: Наименование учредителя МКУ "Отдел культуры, архивного дела, молодежной политики и спорта Зейского муниципального округа"
B27: Направление основной деятельности головной организации: деятельность в области культуры и искусства
B28: Число организаций, включенных в сводную форму
B29: (заполняется органами исполнительной власти субъекта Российской Федерации)
A33: Раздел 1. Материально-техническая база
A34: Коды по ОКЕИ: единица - 642; место - 698; квадратный метр - 055
B35: N строки | C35: Число зданий, единиц | D35: из них (из гр. 2) число собственных зданий | E35: из них (из гр. 2) доступны для лиц с нарушением | H35: из общего числа зданий (из гр. 2)
H36: техническое состояние зданий | J36: из них по форме пользования
E37: зрения | F37: слуха | G37: опорно-двигательного аппарата | H37: требуют капитального ремонта | I37: аварийные | J37: в оперативном управлении или хозяйственном ведении | K37: арендованные | L37: прочие
B38: 1 | C38: 2 | D38: 3 | E38: 4 | F38: 5 | G38: 6 | H38: 7 | I38: 8 | J38: 9 | K38: 10 | L38: 11
B39: 1 | C39: 1 | D39: 0 | E39: 0 | F39: 0 | G39: 0 | H39: 0 | I39: 0 | J39: 0 | K39: 1 | L39: 0
B42: N строки | C42: Число помещений, единиц | D42: из общего числа помещений (из гр. 12) | K42: из числа досуговых помещений (из гр. 18) помещения для музейной и библиотечной работы | L42: из общей площади досуговых помещений (из гр. 19)
D43: техническое состояние помещений | F43: арендованных | G43: зрительные залы | I43: Досуговые помещения | L43: площадь, занимаемая музеем | M43: площадь, занимаемая библиотекой
D44: требующих капитального ремонта | E44: аварийных | G44: число зрительных залов, единиц | H44: вместимость зрительных залов, мест | I44: число помещений, единиц | J44: площадь, кв м
B45: 1 | C45: 12 | D45: 13 | E45: 14 | F45: 15 | G45: 16 | H45: 17 | I45: 18 | J45: 19 | K45: 20 | L45: 21 | M45: 22
B46: 1 | C46: 11 | D46: 0 | E46: 0 | F46: 11 | G46: 1 | H46: 120 | I46: 5 | J46: 265 | K46: 0 | L46: 0 | M46: 0
B49: N строки | C49: Число автоматизированных рабочих мест, единиц | D49: Наличие доступа в Интернет (да - 1, нет - 0) | E49: Наличие доступа в Интернет для посетителей и участников формирований (да - 1, нет - 0) | F49: Наличие собственного Интернет-сайта, (да - 1, нет - 0) | G49: Наличие версии собственного Интернет-сайта, доступной для слепых и слабовидящих (да - 1, нет - 0) | H49: Число специализированного оборудования для инвалидов, единиц | I49: Число специализированных транспортных средств, единиц | J49: Число автоклубов, единиц (из гр. 29) | K49: Число выездов автоклубов в сельские населенные пункты, единиц | L49: Количество населенных пунктов, обслуживаемых автоклубами
B50: 1 | C50: 23 | D50: 24 | E50: 25 | F50: 26 | G50: 27 | H50: 28 | I50: 29 | J50: 30 | K50: 31 | L50: 32
B51: 1 | C51: 2 | D51: 1 | E51: 0 | F51: 0 | G51: 0 | H51: 0 | I51: 0 | J51: 0 | K51: 0 | L51: 0
B54: Раздел 2. Клубные формирования
A55: Коды по ОКЕИ: единица - 642; человек - 792
C56: N строки | D56: Число клубных формирований, всего (сумма граф 6, 8) | E56: из гр. 3
E57: для детей до 14 лет | F57: для молодежи от 14 до 35 лет | G57: любительские объединения, клубы по интересам | H57: инклюзивные, включающие в состав инвалидов и лиц с ОВЗ | I57: прочие клубные формирования | J57: из них (из гр. 8)
J58: для детей до 14 лет | K58: для молодежи от 14 до 35 лет | L58: формирования/кружки самодеятельного народного творчества | M58: из них (из гр. 11) | P58: формирования/кружки технического творчества | Q58: спортивные формирования/кружки
M59: для детей до 14 лет | N59: для молодежи от 14 до 35 лет | O59: работающих на платной основе
B60: 1 | C60: 2 | D60: 3 | E60: 4 | F60: 5 | G60: 6 | H60: 7 | I60: 8 | J60: 9 | K60: 10 | L60: 11 | M60: 12 | N60: 13 | O60: 14 | P60: 15 | Q60: 16
B61: Всего,
B62: единиц | C62: 2 | D62: 12 | E62: 9 | F62: 0 | G62: 1 | H62: 0 | I62: 11 | J62: 8 | K62: 0 | L62: 11 | M62: 8 | N62: 0 | O62: 0 | P62: 0 | Q62: 0
B63: В них участников, человек | C63: 3 | D63: 182 | E63: 142 | F63: 0 | G63: 20 | H63: 0 | I63: 162 | J63: 122 | K63: 0 | L63: 162 | M63: 122 | N63: 0 | O63: 0 | P63: 0 | Q63: 0
B65: N строки | C65: в том числе коллективы (из гр. 11)
C66: вокальные | D66: в том числе коллективы (из гр. 17) | K66: хореографические | L66: в том числе коллективы (из гр. 25)
D67: хоры | E67: из них (из гр. 18) | G67: ансамбли | H67: из них (из гр. 21) | J67: студии эстрадного пения | L67: народного танца | M67: классического танца | N67: современного танца | O67: бального и эстрадно-спортивного танца | P67: иные
E68: академические | F68: народные | H68: академические | I68: народные
B69: 2 | C69: 17 | D69: 18 | E69: 19 | F69: 20 | G69: 21 | H69: 22 | I69: 23 | J69: 24 | K69: 25 | L69: 26 | M69: 27 | N69: 28 | O69: 29 | P69: 30
B70: 2 | C70: 0 | D70: 0 | E70: 0 | F70: 0 | G70: 0 | H70: 0 | I70: 0 | J70: 0 | K70: 5 | L70: 0 | M70: 0 | N70: 0 | O70: 0 | P70: 5
B71: 3 | C71: 0 | D71: 0 | E71: 0 | F71: 0 | G71: 0 | H71: 0 | I71: 0 | J71: 0 | K71: 63 | L71: 0 | M71: 0 | N71: 0 | O71: 0 | P71: 63
B73: N строки | C73: в том числе коллективы (из гр. 11)
C74: инструментальные | D74: в том числе коллективы (из гр. 30) | N74: театральные | O74: в том числе коллективы (из гр. 41)
D75: оркестры | E75: из них (из гр. 31) | I75: ансамбли | J75: из них (из гр. 36) | O75: драматические | P75: театры кукол | Q75: музыкальные | R75: театры эстрады
E76: народных инструментов | F76: духовых инструментов | G76: джазовые и эстрадные | H76: симфонические | J76: народных инструментов | K76: духовых инструментов | L76: джазовые и эстрадные | M76: камерные
B77: 2 | C77: 31 | D77: 32 | E77: 33 | F77: 34 | G77: 35 | H77: 36 | I77: 37 | J77: 38 | K77: 39 | L77: 40 | M77: 41 | N77: 42 | O77: 43 | P77: 44 | Q77: 45 | R77: 46
B78: 2 | C78: 0 | D78: 0 | E78: 0 | F78: 0 | G78: 0 | H78: 0 | I78: 0 | J78: 0 | K78: 0 | L78: 0 | M78: 0 | N78: 1 | O78: 1 | P78: 0 | Q78: 0 | R78: 0
B79: 3 | C79: 0 | D79: 0 | E79: 0 | F79: 0 | G79: 0 | H79: 0 | I79: 0 | J79: 0 | K79: 0 | L79: 0 | M79: 0 | N79: 16 | O79: 16 | P79: 0 | Q79: 0 | R79: 0
B81: N строки | C81: в том числе коллективы (из гр. 11)
C82: фольклорные | D82: изобразительного искусства | E82: декоративно-прикладного искусства | F82: кино-фото-видео-любителей | G82: циркового искусства | H82: прочие
B83: 2 | C83: 47 | D83: 48 | E83: 49 | F83: 50 | G83: 51 | H83: 52
B84: 2 | C84: 0 | D84: 0 | E84: 2 | F84: 0 | G84: 0 | H84: 3
B85: 3 | C85: 0 | D85: 0 | E85: 34 | F85: 0 | G85: 0 | H85: 49
B88: N строки | C88: число коллективов, имеющих звание (из гр. 8)
C89: народный | D89: образцовый | E89: заслуженный коллектив народного творчества | F89: лауреат международного конкурса (фестиваля) | G89: лауреат всероссийского конкурса (фестиваля) | H89: лауреат регионального конкурса (фестиваля)
B90: 2 | C90: 53 | D90: 54 | E90: 55 | F90: 56 | G90: 57 | H90: 58
B91: 2 | C91: 0 | D91: 0 | E91: 0 | F91: 0 | G91: 0 | H91: 0
B92: 3 | C92: 0 | D92: 0 | E92: 0 | F92: 0 | G92: 0 | H92: 0
A94: Раздел 3. Культурно-массовые мероприятия
A95: Коды по ОКЕИ: единица - 642; человек - 792
C96: N строки | D96: Культурно-массовые мероприятия, всего | E96: из них (из гр. 3) | G96: из общего числа мероприятий (гр. 3)
E97: для детей до 14 лет | F97: для молодежи от 14 до 35 лет | G97: культурно-досуговые мероприятия (из гр. 3) | H97: из них (из гр. 6) | J97: с участием инвалидов и лиц с ОВЗ | K97: доступные для восприятия инвалидами и лицами с ОВЗ | L97: с применением специализированных транспортных средств
H98: для детей до 14 лет | I98: для молодежи от 14 до 35 лет
B99: 1 | C99: 2 | D99: 3 | E99: 4 | F99: 5 | G99: 6 | H99: 7 | I99: 8 | J99: 9 | K99: 10 | L99: 11
B100: Число мероприятий, единиц | C100: 4 | D100: 359 | E100: 188 | F100: 85 | G100: 226 | H100: 118 | I100: 69 | J100: 0 | K100: 0 | L100: 0
B101: из них
B102: платных мероприятий | C102: 5 | D102: 71 | E102: 19 | F102: 50 | G102: 71 | H102: 19 | I102: 50 | J102: 0 | K102: 0 | L102: 0
B103: Посещения на мероприятиях, человек | C103: 6 | D103: 15991 | E103: 3669 | F103: 3431 | G103: 8007 | H103: 2601 | I103: 2795 | J103: x | K103: x | L103: 0
B104: из них
B105: на платных мероприятиях | C105: 7 | D105: 1882 | E105: 509 | F105: 1268 | G105: 1882 | H105: 509 | I105: 1268 | J105: x | K105: x | L105: 0
A108: Раздел 4. Персонал организации (на конец года)
A109: Коды по ОКЕИ: человек - 792
A110: № | B110: Численность работников – всего | C110: из них (из графы 2) | I110: из численности в профильных организацияхработников, относящихся к основному персоналу имеютобразование(из графы 4) | K110: из численностиштатных работников (графы 3)имеют стаж работыв профильных организациях
C111: штатных | D111: работников, относящихсяк основному персоналу | E111: прошли обучение (инструктирование) по вопросам, связанным с предоставлением услуг инвалидами лицам с ОВЗ | F111: прошли повышение квалификации/ профессиональную переподготовку | G111: из графы 6в рамкахреализации Национального проекта «Культура» | H111: имеющих инвалид-ность | I111: высшее | J111: среднеепрофессио-нальное | K111: до 3 лет | L111: от 3 до 10 лет | M111: свыше 10 лет
A112: 1 | B112: 2 | C112: 3 | D112: 4 | E112: 5 | F112: 6 | G112: 7 | H112: 8 | I112: 9 | J112: 10 | K112: 11 | L112: 12 | M112: 13
A113: 8 | B113: 2 | C113: 2 | D113: 2 | E113: 0 | F113: 0 | G113: 0 | H113: 0 | I113: 0 | J113: 1 | K113: 0 | L113: 1 | M113: 1
A116: Раздел 5. Поступление и использование финансовых средств
A117: Код по ОКЕИ: тысяча рублей - 384
B118: N строки | C118: Поступило за год всего (сумма граф 3, 4, 5, 9) | D118: из них (из гр. 2)
D119: бюджетные ассигнования учредителя | E119: финансирование из бюджетов других уровней | F119: от предпринимательской и иной приносящей доход деятельности | G119: из них (из гр. 5) | J119: от сдачи имущества в аренду
G120: от основных видов уставной деятельности | H120: благотворительные и спонсорские вклады | I120: от предпринимательской деятельности
B121: 1 | C121: 2 | D121: 3 | E121: 4 | F121: 5 | G121: 6 | H121: 7 | I121: 8 | J121: 9
B122: 9 | C122: 1879 | D122: 1879
B125: N строки | C125: Израсходовано, всего | D125: из них (из гр. 10)
D126: расходы на оплату труда | H126: на капитальный ремонт и реставрацию | J126: на приобретение (замену) оборудования | M126: на социально значимые мероприятия
D127: всего | E127: из них за счет собственных средств | F127: из общих расходов на оплату труда - основному персоналу (из гр. 11) | G127: из них за счет собственных средств (из гр. 13) | H127: всего | I127: из них за счет собственных средств (из гр. 15) | J127: всего | K127: из них для улучшения условий доступности для лиц с ОВЗ (из гр. 17) | L127: из них за счет собственных средств (из гр. 17) | M127: всего | N127: из них за счет собственных средств (из гр. 20)
B128: 1 | C128: 10 | D128: 11 | E128: 12 | F128: 13 | G128: 14 | H128: 15 | I128: 16 | J128: 17 | K128: 18 | L128: 19 | M128: 20 | N128: 21
...

Sheet з.сл.
B2: ФЕДЕРАЛЬНОЕ СТАТИСТИЧЕСКОЕ НАБЛЮДЕНИЕ
B4: КОНФИДЕНЦИАЛЬНОСТЬ ГАРАНТИРУЕТСЯ ПОЛУЧАТЕЛЕМ ИНФОРМАЦИИ
B6: Нарушение порядка предоставления первичных статистических данных или несвоевременное предоставление этих данных, либо предоставление недостоверных первичных статистических данных влечет ответственность, установленную Кодексом Российской Федерации об административных правонарушениях
B8: ВОЗМОЖНО ПРЕДОСТАВЛЕНИЕ В ЭЛЕКТРОННОМ ВИДЕ
B10: СВЕДЕНИЯ ОБ ОРГАНИЗАЦИИ КУЛЬТУРНО-ДОСУГОВОГО ТИПА
B11: за 2023 год
B13: Предоставляют: | I13: Сроки предоставления | M13: Форма N 7-НК
B14: юридические лица - организации культурно-досугового типа, юридические лица - организации, имеющие в своем составе обособленные структурные подразделения, осуществляющие культурно-досуговую деятельность (полный перечень респондентов приведен в указаниях по заполнению формы федерального статистического наблюдения): | I14: 15 февраля | M14: Приказ Росстата: Об утверждении формы от 18.10.2021 № 713
B15: - Министерству культуры Российской Федерации | M15: О внесении изменений (при наличии)
M16: от __________ N ___
M17: от __________ N ___
M18: Годовая
B19: Наименование отчитывающейся организации | H19: Дом культуры с. Заречная Слобода МАУ СКЦ Зейского муниципального округа
B20: Почтовый адрес: 676205 Амурская область Зейский район с. Заречная Слобода, ул.Школьная, 30
B21: Код формы по ОКУД | E21: Код
E22: отчитывающейся организации по ОКПО (для территориально обособленного подразделения юридического лица - идентификационный номер)
B23: 1 | E23: 2 | K23: 3 | O23: 4
B24: 609522 | E24: 10345295
B26: Наименование учредителя МКУ " Отдел культуры,архивного дела, молодежной политики и спорта администрации Зейского муниципального округа"
B27: Направление основной деятельности головной организации: деятельность в области культуры и искусства
B28: Число организаций, включенных в сводную форму
B29: (заполняется органами исполнительной власти субъекта Российской Федерации)
A33: Раздел 1. Материально-техническая база
A34: Коды по ОКЕИ: единица - 642; место - 698; квадратный метр - 055
B35: N строки | C35: Число зданий, единиц | D35: из них (из гр. 2) число собственных зданий | E35: из них (из гр. 2) доступны для лиц с нарушением | H35: из общего числа зданий (из гр. 2)
H36: техническое состояние зданий | J36: из них по форме пользования
E37: зрения | F37: слуха | G37: опорно-двигательного аппарата | H37: требуют капитального ремонта | I37: аварийные | J37: в оперативном управлении или хозяйственном ведении | K37: арендованные | L37: прочие
B38: 1 | C38: 2 | D38: 3 | E38: 4 | F38: 5 | G38: 6 | H38: 7 | I38: 8 | J38: 9 | K38: 10 | L38: 11
B39: 1 | C39: 1 | D39: 1 | E39: 0 | F39: 0 | G39: 0 | H39: 0 | I39: 0 | J39: 1 | K39: 0 | L39: 0
B42: N строки | C42: Число помещений, единиц | D42: из общего числа помещений (из гр. 12) | K42: из числа досуговых помещений (из гр. 18) помещения для музейной и библиотечной работы | L42: из общей площади досуговых помещений (из гр. 19)
D43: техническое состояние помещений | F43: арендованных | G43: зрительные залы | I43: Досуговые помещения | L43: площадь, занимаемая музеем | M43: площадь, занимаемая библиотекой
D44: требующих капитального ремонта | E44: аварийных | G44: число зрительных залов, единиц | H44: вместимость зрительных залов, мест | I44: число помещений, единиц | J44: площадь, кв м
B45: 1 | C45: 12 | D45: 13 | E45: 14 | F45: 15 | G45: 16 | H45: 17 | I45: 18 | J45: 19 | K45: 20 | L45: 21 | M45: 22
B46: 1 | C46: 6 | D46: 0 | E46: 0 | F46: 0 | G46: 1 | H46: 40 | I46: 3 | J46: 196 | K46: 0 | L46: 0 | M46: 0
B49: N строки | C49: Число автоматизированных рабочих мест, единиц | D49: Наличие доступа в Интернет (да - 1, нет - 0) | E49: Наличие доступа в Интернет для посетителей и участников формирований (да - 1, нет - 0) | F49: Наличие собственного Интернет-сайта, (да - 1, нет - 0) | G49: Наличие версии собственного Интернет-сайта, доступной для слепых и слабовидящих (да - 1, нет - 0) | H49: Число специализированного оборудования для инвалидов, единиц | I49: Число специализированных транспортных средств, единиц | J49: Число автоклубов, единиц (из гр. 29) | K49: Число выездов автоклубов в сельские населенные пункты, единиц | L49: Количество населенных пунктов, обслуживаемых автоклубами
B50: 1 | C50: 23 | D50: 24 | E50: 25 | F50: 26 | G50: 27 | H50: 28 | I50: 29 | J50: 30 | K50: 31 | L50: 32
B51: 1 | C51: 2 | D51: 1 | E51: 0 | F51: 0 | G51: 0 | H51: 0 | I51: 0 | J51: 0 | K51: 0 | L51: 0
B54: Раздел 2. Клубные формирования
A55: Коды по ОКЕИ: единица - 642; человек - 792
C56: N строки | D56: Число клубных формирований, всего (сумма граф 6, 8) | E56: из гр. 3
E57: для детей до 14 лет | F57: для молодежи от 14 до 35 лет | G57: любительские объединения, клубы по интересам | H57: инклюзивные, включающие в состав инвалидов и лиц с ОВЗ | I57: прочие клубные формирования | J57: из них (из гр. 8)
J58: для детей до 14 лет | K58: для молодежи от 14 до 35 лет | L58: формирования/кружки самодеятельного народного творчества | M58: из них (из гр. 11) | P58: формирования/кружки технического творчества | Q58: спортивные формирования/кружки
M59: для детей до 14 лет | N59: для молодежи от 14 до 35 лет | O59: работающих на платной основе
B60: 1 | C60: 2 | D60: 3 | E60: 4 | F60: 5 | G60: 6 | H60: 7 | I60: 8 | J60: 9 | K60: 10 | L60: 11 | M60: 12 | N60: 13 | O60: 14 | P60: 15 | Q60: 16
B61: Всего,
B62: единиц | C62: 2 | D62: 9 | E62: 5 | F62: 1 | G62: 3 | H62: 0 | I62: 6 | J62: 4 | K62: 0 | L62: 6 | M62: 4 | N62: 0 | O62: 0 | P62: 0 | Q62: 0
B63: В них участников, человек | C63: 3 | D63: 103 | E63: 58 | F63: 12 | G63: 38 | H63: 0 | I63: 65 | J63: 43 | K63: 0 | L63: 65 | M63: 43 | N63: 0 | O63: 0 | P63: 0 | Q63: 0
B65: N строки | C65: в том числе коллективы (из гр. 11)
C66: вокальные | D66: в том числе коллективы (из гр. 17) | K66: хореографические | L66: в том числе коллективы (из гр. 25)
D67: хоры | E67: из них (из гр. 18) | G67: ансамбли | H67: из них (из гр. 21) | J67: студии эстрадного пения | L67: народного танца | M67: классического танца | N67: современного танца | O67: бального и эстрадно-спортивного танца | P67: иные
E68: академические | F68: народные | H68: академические | I68: народные
B69: 2 | C69: 17 | D69: 18 | E69: 19 | F69: 20 | G69: 21 | H69: 22 | I69: 23 | J69: 24 | K69: 25 | L69: 26 | M69: 27 | N69: 28 | O69: 29 | P69: 30
B70: 2 | C70: 1 | D70: 0 | E70: 0 | F70: 0 | G70: 1 | H70: 0 | I70: 1 | J70: 0 | K70: 0 | L70: 0 | M70: 0 | N70: 0 | O70: 0 | P70: 0
B71: 3 | C71: 16 | D71: 0 | E71: 0 | F71: 0 | G71: 16 | H71: 0 | I71: 16 | J71: 0 | K71: 0 | L71: 0 | M71: 0 | N71: 0 | O71: 0 | P71: 0
B73: N строки | C73: в том числе коллективы (из гр. 11)
C74: инструментальные | D74: в том числе коллективы (из гр. 30) | N74: театральные | O74: в том числе коллективы (из гр. 41)
D75: оркестры | E75: из них (из гр. 31) | I75: ансамбли | J75: из них (из гр. 36) | O75: драматические | P75: театры кукол | Q75: музыкальные | R75: театры эстрады
E76: народных инструментов | F76: духовых инструментов | G76: джазовые и эстрадные | H76: симфонические | J76: народных инструментов | K76: духовых инструментов | L76: джазовые и эстрадные | M76: камерные
B77: 2 | C77: 31 | D77: 32 | E77: 33 | F77: 34 | G77: 35 | H77: 36 | I77: 37 | J77: 38 | K77: 39 | L77: 40 | M77: 41 | N77: 42 | O77: 43 | P77: 44 | Q77: 45 | R77: 46
B78: 2 | C78: 0 | D78: 0 | E78: 0 | F78: 0 | G78: 0 | H78: 0 | I78: 0 | J78: 0 | K78: 0 | L78: 0 | M78: 0 | N78: 0 | O78: 0 | P78: 0 | Q78: 0 | R78: 0
B79: 3 | C79: 0 | D79: 0 | E79: 0 | F79: 0 | G79: 0 | H79: 0 | I79: 0 | J79: 0 | K79: 0 | L79: 0 | M79: 0 | N79: 0 | O79: 0 | P79: 0 | Q79: 0 | R79: 0
B81: N строки | C81: в том числе коллективы (из гр. 11)
C82: фольклорные | D82: изобразительного искусства | E82: декоративно-прикладного искусства | F82: кино-фото-видео-любителей | G82: циркового искусства | H82: прочие
B83: 2 | C83: 47 | D83: 48 | E83: 49 | F83: 50 | G83: 51 | H83: 52
B84: 2 | C84: 0 | D84: 0 | E84: 1 | F84: 0 | G84: 0 | H84: 4
B85: 3 | C85: 0 | D85: 0 | E85: 11 | F85: 0 | G85: 0 | H85: 38
B88: N строки | C88: число коллективов, имеющих звание (из гр. 8)
C89: народный | D89: образцовый | E89: заслуженный коллектив народного творчества | F89: лауреат международного конкурса (фестиваля) | G89: лауреат всероссийского конкурса (фестиваля) | H89: лауреат регионального конкурса (фестиваля)
B90: 2 | C90: 53 | D90: 54 | E90: 55 | F90: 56 | G90: 57 | H90: 58
B91: 2 | C91: 1 | D91: 0 | E91: 0 | F91: 0 | G91: 0 | H91: 0
B92: 3 | C92: 16 | D92: 0 | E92: 0 | F92: 0 | G92: 0 | H92: 0
A94: Раздел 3. Культурно-массовые мероприятия
A95: Коды по ОКЕИ: единица - 642; человек - 792
C96: N строки | D96: Культурно-массовые мероприятия, всего | E96: из них (из гр. 3) | G96: из общего числа мероприятий (гр. 3)
E97: для детей до 14 лет | F97: для молодежи от 14 до 35 лет | G97: культурно-досуговые мероприятия (из гр. 3) | H97: из них (из гр. 6) | J97: с участием инвалидов и лиц с ОВЗ | K97: доступные для восприятия инвалидами и лицами с ОВЗ | L97: с применением специализированных транспортных средств
H98: для детей до 14 лет | I98: для молодежи от 14 до 35 лет
B99: 1 | C99: 2 | D99: 3 | E99: 4 | F99: 5 | G99: 6 | H99: 7 | I99: 8 | J99: 9 | K99: 10 | L99: 11
B100: Число мероприятий, единиц | C100: 4 | D100: 255 | E100: 171 | F100: 14 | G100: 144 | H100: 96 | I100: 10 | J100: 0 | K100: 0 | L100: 0
B101: из них
B102: платных мероприятий | C102: 5 | D102: 5 | E102: 0 | F102: 4 | G102: 5 | H102: 0 | I102: 4 | J102: 0 | K102: 0 | L102: 0
B103: Посещения на мероприятиях, человек | C103: 6 | D103: 5390 | E103: 2773 | F103: 284 | G103: 2874 | H103: 1604 | I103: 230 | J103: x | K103: x | L103: 0
B104: из них
B105: на платных мероприятиях | C105: 7 | D105: 53 | E105: 0 | F105: 35 | G105: 53 | H105: 0 | I105: 35 | J105: x | K105: x | L105: 0
A108: Раздел 4. Персонал организации (на конец года)
A109: Коды по ОКЕИ: человек - 792
B110: № | C110: Численность работников – всего | D110: из них (из графы 2) | J110: из численности в профильных организацияхработников, относящихся к основному персоналу имеютобразование(из графы 4) | L110: из численностиштатных работников (графы 3)имеют стаж работыв профильных организациях
D111: штатных | E111: работников, относящихсяк основному персоналу | F111: прошли обучение (инструктирование) по вопросам, связанным с предоставлением услуг инвалидами лицам с ОВЗ | G111: прошли повышение квалификации/ профессиональную переподготовку | H111: из графы 6в рамкахреализации Национального проекта «Культура» | I111: имеющих инвалид-ность | J111: высшее | K111: среднеепрофессио-нальное | L111: до 3 лет | M111: от 3 до 10 лет | N111: свыше 10 лет
B112: 1 | C112: 2 | D112: 3 | E112: 4 | F112: 5 | G112: 6 | H112: 7 | I112: 8 | J112: 9 | K112: 10 | L112: 11 | M112: 12 | N112: 13
B113: 8 | C113: 4 | D113: 4 | E113: 4 | F113: 0 | G113: 0 | H113: 0 | I113: 0 | J113: 0 | K113: 2 | L113: 0 | M113: 1 | N113: 3
A116: Раздел 5. Поступление и использование финансовых средств
A117: Код по ОКЕИ: тысяча рублей - 384
B118: N строки | C118: Поступило за год всего (сумма граф 3, 4, 5, 9) | D118: из них (из гр. 2)
D119: бюджетные ассигнования учредителя | E119: финансирование из бюджетов других уровней | F119: от предпринимательской и иной приносящей доход деятельности | G119: из них (из гр. 5) | J119: от сдачи имущества в аренду
G120: от основных видов уставной деятельности | H120: благотворительные и спонсорские вклады | I120: от предпринимательской деятельности
B121: 1 | C121: 2 | D121: 3 | E121: 4 | F121: 5 | G121: 6 | H121: 7 | I121: 8 | J121: 9
B122: 9 | C122: 2680 | D122: 2680
B125: N строки | C125: Израсходовано, всего | D125: из них (из гр. 10)
D126: расходы на оплату труда | H126: на капитальный ремонт и реставрацию | J126: на приобретение (замену) оборудования | M126: на социально значимые мероприятия
D127: всего | E127: из них за счет собственных средств | F127: из общих расходов на оплату труда - основному персоналу (из гр. 11) | G127: из них за счет собственных средств (из гр. 13) | H127: всего | I127: из них за счет собственных средств (из гр. 15) | J127: всего | K127: из них для улучшения условий доступности для лиц с ОВЗ (из гр. 17) | L127: из них за счет собственных средств (из гр. 17) | M127: всего | N127: из них за счет собственных средств (из гр. 20)
B128: 1 | C128: 10 | D128: 11 | E128: 12 | F128: 13 | G128: 14 | H128: 15 | I128: 16 | J128: 17 | K128: 18 | L128: 19 | M128: 20 | N128: 21
...

Sheet ивановка
C2: ФЕДЕРАЛЬНОЕ СТАТИСТИЧЕСКОЕ НАБЛЮДЕНИЕ
C4: КОНФИДЕНЦИАЛЬНОСТЬ ГАРАНТИРУЕТСЯ ПОЛУЧАТЕЛЕМ ИНФОРМАЦИИ
C6: Нарушение порядка предоставления первичных статистических данных или несвоевременное предоставление этих данных, либо предоставление недостоверных первичных статистических данных влечет ответственность, установленную Кодексом Российской Федерации об административных правонарушениях
C8: ВОЗМОЖНО ПРЕДОСТАВЛЕНИЕ В ЭЛЕКТРОННОМ ВИДЕ
C10: СВЕДЕНИЯ ОБ ОРГАНИЗАЦИИ КУЛЬТУРНО-ДОСУГОВОГО ТИПА
C11: за 2023 год
C13: Предоставляют: | J13: Сроки предоставления | N13: Форма N 7-НК
C14: юридические лица - организации культурно-досугового типа, юридические лица - организации, имеющие в своем составе обособленные структурные подразделения, осуществляющие культурно-досуговую деятельность (полный перечень респондентов приведен в указаниях по заполнению формы федерального статистического наблюдения): | J14: 15 февраля | N14: Приказ Росстата: Об утверждении формы от 18.10.2021 № 713
C15: - Министерству культуры Российской Федерации | N15: О внесении изменений (при наличии)
N16: от __________ N ___
N17: от __________ N ___
N18: Годовая
C19: Наименование отчитывающейся организации | I19: Дом культуры с. Ивановка МАУ СКЦ Зейского муниципального округа
C20: Почтовый адрес: 676202 Амурская область Зейский район с. Ивановка ул.Советская, 6
C21: Код формы по ОКУД | F21: Код
F22: отчитывающейся организации по ОКПО (для территориально обособленного подразделения юридического лица - идентификационный номер)
C23: 1 | F23: 2 | L23: 3 | P23: 4
C24: 609522 | F24: 10345295
C26: Наименование учредителя МКУ "Отдел культуры, архивного дела, молодежной политики и спорта администрации Зейского муниципального округа"
C27: Направление основной деятельности головной организации: деятельность в области культуры и искусства
C28: Число организаций, включенных в сводную форму
C29: (заполняется органами исполнительной власти субъекта Российской Федерации)
A33: Раздел 1. Материально-техническая база
A34: Коды по ОКЕИ: единица - 642; место - 698; квадратный метр - 055
C35: N строки | D35: Число зданий, единиц | E35: из них (из гр. 2) число собственных зданий | F35: из них (из гр. 2) доступны для лиц с нарушением | I35: из общего числа зданий (из гр. 2)
I36: техническое состояние зданий | K36: из них по форме пользования
F37: зрения | G37: слуха | H37: опорно-двигательного аппарата | I37: требуют капитального ремонта | J37: аварийные | K37: в оперативном управлении или хозяйственном ведении | L37: арендованные | M37: прочие
C38: 1 | D38: 2 | E38: 3 | F38: 4 | G38: 5 | H38: 6 | I38: 7 | J38: 8 | K38: 9 | L38: 10 | M38: 11
C39: 1 | D39: 1 | E39: 0 | F39: 0 | G39: 0 | H39: 0 | I39: 0 | J39: 0 | K39: 0 | L39: 1 | M39: 0
C42: N строки | D42: Число помещений, единиц | E42: из общего числа помещений (из гр. 12) | L42: из числа досуговых помещений (из гр. 18) помещения для музейной и библиотечной работы | M42: из общей площади досуговых помещений (из гр. 19)
