Workbook

Sheet свод
B2: ФЕДЕРАЛЬНОЕ СТАТИСТИЧЕСКОЕ НАБЛЮДЕНИЕ
B4: КОНФИДЕНЦИАЛЬНОСТЬ ГАРАНТИРУЕТСЯ ПОЛУЧАТЕЛЕМ ИНФОРМАЦИИ
B6: Нарушение порядка предоставления первичных статистических данных или несвоевременное предоставление этих данных, либо предоставление недостоверных первичных статистических данных влечет ответственность, установленную Кодексом Российской Федерации об административных правонарушениях
B8: ВОЗМОЖНО ПРЕДОСТАВЛЕНИЕ В ЭЛЕКТРОННОМ ВИДЕ
B10: СВЕДЕНИЯ ОБ ОРГАНИЗАЦИИ КУЛЬТУРНО-ДОСУГОВОГО ТИПА
B11: за 2023 год
B13: Предоставляют: | I13: Сроки предоставления | M13: Форма N 7-НК
B14: юридические лица - организации культурно-досугового типа, юридические лица - организации, имеющие в своем составе обособленные структурные подразделения, осуществляющие культурно-досуговую деятельность (полный перечень респондентов приведен в указаниях по заполнению формы федерального статистического наблюдения): | I14: 15 февраля | M14: Приказ Росстата: Об утверждении формы от 18.10.2021 № 713
B15: - Министерству культуры Российской Федерации | M15: О внесении изменений (при наличии)
M16: от __________ N ___
M17: от __________ N ___
M18: Годовая
B19: Наименование отчитывающейся организации | H19: отдел культуры, спорта и архивного дела администрации Зейского района
B20: Почтовый адрес 676244 Амурская область г.Зея ул.Мухина , 160 оф.111
B21: Код формы по ОКУД | E21: Код
E22: отчитывающейся организации по ОКПО (для территориально обособленного подразделения юридического лица - идентификационный номер)
B23: 1 | E23: 2 | K23: 3 | O23: 4
B24: 609522 | E24: 10345295
B26: Наименование учредителя Отдел культуры, спорта и архивного дела администрации Зейского района Амурской области
B27: Направление основной деятельности головной организации: деятельность в области культуры и искусства
B28: Число организаций, включенных в сводную форму
B29: (заполняется органами исполнительной власти субъекта Российской Федерации)
B30: Раздел 1. Материально-техническая база
B31: Коды по ОКЕИ: единица - 642; место - 698; квадратный метр - 055
B32: N строки | C32: Число зданий, единиц | D32: из них (из гр. 2) число собственных зданий | E32: из них (из гр. 2) доступны для лиц с нарушением | H32: из общего числа зданий (из гр. 2)
H33: техническое состояние зданий | J33: из них по форме пользования
E34: зрения | F34: слуха | G34: опорно-двигательного аппарата | H34: требуют капитального ремонта | I34: аварийные | J34: в оперативном управлении или хозяйственном ведении | K34: арендованные | L34: прочие
B35: 1 | C35: 2 | D35: 3 | E35: 4 | F35: 5 | G35: 6 | H35: 7 | I35: 8 | J35: 9 | K35: 10 | L35: 11
B36: 1 | C36: ='м. от.'!C39+алгач!D39+'ам-бал'!D39+берег!C39+берез.!D39+бомнак!D39+'В-зск'!C39+Горн.!C39+Гулик!D39+дугда!C39+з.сл.!C39+ивановка!D39+николаев.!D36+огорон!C36+поляк.!C37+снежн.!C39+С.Бор!C39+тунгала!C39+умлек.!C39+хвой.!D39+чалб.!D39+юбил.!C39+С.Октябрьс.!D39+'СДК Овс.'!D39+клепикова!D39 -> 25 | D36: ='м. от.'!D39+алгач!E39+'ам-бал'!E39+берег!D39+берез.!E39+бомнак!E39+'В-зск'!D39+Горн.!D39+Гулик!E39+дугда!D39+з.сл.!D39+ивановка!E39+николаев.!E36+огорон!D36+поляк.!D37+снежн.!D39+С.Бор!D39+тунгала!D39+умлек.!D39+хвой.!E39+чалб.!E39+юбил.!D39+С.Октябрьс.!E39+'СДК Овс.'!E39+клепикова!E39 -> 17 | E36: ='м. от.'!E39+алгач!F39+'ам-бал'!F39+берег!E39+берез.!F39+бомнак!F39+'В-зск'!E39+Горн.!E39+Гулик!F39+дугда!E39+з.сл.!E39+ивановка!F39+николаев.!F36+огорон!E36+поляк.!E37+снежн.!E39+С.Бор!E39+тунгала!E39+умлек.!E39+хвой.!F39+чалб.!F39+юбил.!E39+С.Октябрьс.!F39+'СДК Овс.'!F39+клепикова!F39 -> 0 | F36: ='м. от.'!F39+алгач!G39+'ам-бал'!G39+берег!F39+берез.!G39+бомнак!G39+'В-зск'!F39+Горн.!F39+Гулик!G39+дугда!F39+з.сл.!F39+ивановка!G39+николаев.!G36+огорон!F36+поляк.!F37+снежн.!F39+С.Бор!F39+тунгала!F39+умлек.!F39+хвой.!G39+чалб.!G39+юбил.!F39+С.Октябрьс.!G39+'СДК Овс.'!G39+клепикова!G39 -> 0 | G36: ='м. от.'!G39+алгач!H39+'ам-бал'!H39+берег!G39+берез.!H39+бомнак!H39+'В-зск'!G39+Горн.!G39+Гулик!H39+дугда!G39+з.сл.!G39+ивановка!H39+николаев.!H36+огорон!G36+поляк.!G37+снежн.!G39+С.Бор!G39+тунгала!G39+умлек.!G39+хвой.!H39+чалб.!H39+юбил.!G39+С.Октябрьс.!H39+'СДК Овс.'!H39+клепикова!H39 -> 3 | H36: ='м. от.'!H39+алгач!I39+'ам-бал'!I39+берег!H39+берез.!I39+бомнак!I39+'В-зск'!H39+Горн.!H39+Гулик!I39+дугда!H39+з.сл.!H39+ивановка!I39+николаев.!I36+огорон!H36+поляк.!H37+снежн.!H39+С.Бор!H39+тунгала!H39+умлек.!H39+хвой.!I39+чалб.!I39+юбил.!H39+С.Октябрьс.!I39+'СДК Овс.'!I39+клепикова!I39 -> 1 | I36: ='м. от.'!I39+алгач!J39+'ам-бал'!J39+берег!I39+берез.!J39+бомнак!J39+'В-зск'!I39+Горн.!I39+Гулик!J39+дугда!I39+з.сл.!I39+ивановка!J39+николаев.!J36+огорон!I36+поляк.!I37+снежн.!I39+С.Бор!I39+тунгала!I39+умлек.!I39+хвой.!J39+чалб.!J39+юбил.!I39+С.Октябрьс.!J39+'СДК Овс.'!J39+клепикова!J39 -> 0 | J36: ='м. от.'!J39+алгач!K39+'ам-бал'!K39+берег!J39+берез.!K39+бомнак!K39+'В-зск'!J39+Горн.!J39+Гулик!K39+дугда!J39+з.сл.!J39+ивановка!K39+николаев.!K36+огорон!J36+поляк.!J37+снежн.!J39+С.Бор!J39+тунгала!J39+умлек.!J39+хвой.!K39+чалб.!K39+юбил.!J39+С.Октябрьс.!K39+'СДК Овс.'!K39+клепикова!K39 -> 17 | ... L36: ='м. от.'!L39+алгач!M39+'ам-бал'!M39+берег!L39+берез.!M39+бомнак!M39+'В-зск'!L39+Горн.!L39+Гулик!M39+дугда!L39+з.сл.!L39+ивановка!M39+николаев.!M36+огорон!L36+поляк.!L37+снежн.!L39+С.Бор!L39+тунгала!L39+умлек.!L39+хвой.!M39+чалб.!M39+юбил.!L39+С.Октябрьс.!M39+'СДК Овс.'!M39+клепикова!M39 -> 0
B39: N строки | C39: Число помещений, единиц | D39: из общего числа помещений (из гр. 12) | K39: из числа досуговых помещений (из гр. 18) помещения для музейной и библиотечной работы | L39: из общей площади досуговых помещений (из гр. 19)
D40: техническое состояние помещений | F40: арендованных | G40: зрительные залы | I40: Досуговые помещения | L40: площадь, занимаемая музеем | M40: площадь, занимаемая библиотекой
D41: требующих капитального ремонта | E41: аварийных | G41: число зрительных залов, единиц | H41: вместимость зрительных залов, мест | I41: число помещений, единиц | J41: площадь, кв м
B42: 1 | C42: 12 | D42: 13 | E42: 14 | F42: 15 | G42: 16 | H42: 17 | I42: 18 | J42: 19 | K42: 20 | L42: 21 | M42: 22
B43: 1 | C43: ='м. от.'!C46+алгач!D46+'ам-бал'!D46+берег!C46+берез.!D46+бомнак!D46+'В-зск'!C46+Горн.!C46+Гулик!D46+дугда!C46+з.сл.!C46+ивановка!D46+николаев.!D43+огорон!C43+поляк.!C44+снежн.!C46+С.Бор!C46+тунгала!C46+умлек.!C46+хвой.!D46+чалб.!D46+юбил.!C46+С.Октябрьс.!D46+'СДК Овс.'!D46+клепикова!D46 -> 156 | D43: ='м. от.'!D46+алгач!E46+'ам-бал'!E46+берег!D46+берез.!E46+бомнак!E46+'В-зск'!D46+Горн.!D46+Гулик!E46+дугда!D46+з.сл.!D46+ивановка!E46+николаев.!E43+огорон!D43+поляк.!D44+снежн.!D46+С.Бор!D46+тунгала!D46+умлек.!D46+хвой.!E46+чалб.!E46+юбил.!D46+С.Октябрьс.!E46+'СДК Овс.'!E46+клепикова!E46 -> 4 | E43: ='м. от.'!E46+алгач!F46+'ам-бал'!F46+берег!E46+берез.!F46+бомнак!F46+'В-зск'!E46+Горн.!E46+Гулик!F46+дугда!E46+з.сл.!E46+ивановка!F46+николаев.!F43+огорон!E43+поляк.!E44+снежн.!E46+С.Бор!E46+тунгала!E46+умлек.!E46+хвой.!F46+чалб.!F46+юбил.!E46+С.Октябрьс.!F46+'СДК Овс.'!F46+клепикова!F46 -> 0 | F43: ='м. от.'!F46+алгач!G46+'ам-бал'!G46+берег!F46+берез.!G46+бомнак!G46+'В-зск'!F46+Горн.!F46+Гулик!G46+дугда!F46+з.сл.!F46+ивановка!G46+николаев.!G43+огорон!F43+поляк.!F44+снежн.!F46+С.Бор!F46+тунгала!F46+умлек.!F46+хвой.!G46+чалб.!G46+юбил.!F46+С.Октябрьс.!G46+'СДК Овс.'!G46+клепикова!G46 -> 47 | G43: ='м. от.'!G46+алгач!H46+'ам-бал'!H46+берег!G46+берез.!H46+бомнак!H46+'В-зск'!G46+Горн.!G46+Гулик!H46+дугда!G46+з.сл.!G46+ивановка!H46+николаев.!H43+огорон!G43+поляк.!G44+снежн.!G46+С.Бор!G46+тунгала!G46+умлек.!G46+хвой.!H46+чалб.!H46+юбил.!G46+С.Октябрьс.!H46+'СДК Овс.'!H46+клепикова!H46 -> 24 | H43: ='м. от.'!H46+алгач!I46+'ам-бал'!I46+берег!H46+берез.!I46+бомнак!I46+'В-зск'!H46+Горн.!H46+Гулик!I46+дугда!H46+з.сл.!H46+ивановка!I46+николаев.!I43+огорон!H43+поляк.!H44+снежн.!H46+С.Бор!H46+тунгала!H46+умлек.!H46+хвой.!I46+чалб.!I46+юбил.!H46+С.Октябрьс.!I46+'СДК Овс.'!I46+клепикова!I46 -> 2625 | I43: ='м. от.'!I46+алгач!J46+'ам-бал'!J46+берег!I46+берез.!J46+бомнак!J46+'В-зск'!I46+Горн.!I46+Гулик!J46+дугда!I46+з.сл.!I46+ивановка!J46+николаев.!J43+огорон!I43+поляк.!I44+снежн.!I46+С.Бор!I46+тунгала!I46+умлек.!I46+хвой.!J46+чалб.!J46+юбил.!I46+С.Октябрьс.!J46+'СДК Овс.'!J46+клепикова!J46 -> 95 | J43: ='м. от.'!J46+алгач!K46+'ам-бал'!K46+берег!J46+берез.!K46+бомнак!K46+'В-зск'!J46+Горн.!J46+Гулик!K46+дугда!J46+з.сл.!J46+ивановка!K46+николаев.!K43+огорон!J43+поляк.!J44+снежн.!J46+С.Бор!J46+тунгала!J46+умлек.!J46+хвой.!K46+чалб.!K46+юбил.!J46+С.Октябрьс.!K46+'СДК Овс.'!K46+клепикова!K46 -> 4405.9 | ... M43: ='м. от.'!M46+алгач!N46+'ам-бал'!N46+берег!M46+берез.!N46+бомнак!N46+'В-зск'!M46+Горн.!M46+Гулик!N46+дугда!M46+з.сл.!M46+ивановка!N46+николаев.!N43+огорон!M43+поляк.!M44+снежн.!M46+С.Бор!M46+тунгала!M46+умлек.!M46+хвой.!N46+чалб.!N46+юбил.!M46+С.Октябрьс.!N46+'СДК Овс.'!N46+клепикова!N46 -> 0
B45: N строки | C45: Число автоматизированных рабочих мест, единиц | D45: Наличие доступа в Интернет (да - 1, нет - 0) | E45: Наличие доступа в Интернет для посетителей и участников формирований (да - 1, нет - 0) | F45: Наличие собственного Интернет-сайта, (да - 1, нет - 0) | G45: Наличие версии собственного Интернет-сайта, доступной для слепых и слабовидящих (да - 1, нет - 0) | H45: Число специализированного оборудования для инвалидов, единиц | I45: Число специализированных транспортных средств, единиц | J45: Число автоклубов, единиц (из гр. 29) | K45: Число выездов автоклубов в сельские населенные пункты, единиц | L45: Количество населенных пунктов, обслуживаемых автоклубами
B46: 1 | C46: 23 | D46: 24 | E46: 25 | F46: 26 | G46: 27 | H46: 28 | I46: 29 | J46: 30 | K46: 31 | L46: 32
B47: 1 | C47: ='м. от.'!C51+алгач!D51+'ам-бал'!D51+берег!C51+берез.!D51+бомнак!D51+'В-зск'!C51+Горн.!C51+Гулик!D51+дугда!C51+з.сл.!C51+ивановка!D51+николаев.!D48+огорон!C48+поляк.!C49+снежн.!C51+С.Бор!C51+тунгала!C51+умлек.!C51+хвой.!D51+чалб.!D51+юбил.!C51+С.Октябрьс.!D51+'СДК Овс.'!D51+клепикова!D51 -> 56 | D47: ='м. от.'!D51+алгач!E51+'ам-бал'!E51+берег!D51+берез.!E51+бомнак!E51+'В-зск'!D51+Горн.!D51+Гулик!E51+дугда!D51+з.сл.!D51+ивановка!E51+николаев.!E48+огорон!D48+поляк.!D49+снежн.!D51+С.Бор!D51+тунгала!D51+умлек.!D51+хвой.!E51+чалб.!E51+юбил.!D51+С.Октябрьс.!E51+'СДК Овс.'!E51+клепикова!E51 -> 20 | E47: ='м. от.'!E51+алгач!F51+'ам-бал'!F51+берег!E51+берез.!F51+бомнак!F51+'В-зск'!E51+Горн.!E51+Гулик!F51+дугда!E51+з.сл.!E51+ивановка!F51+николаев.!F48+огорон!E48+поляк.!E49+снежн.!E51+С.Бор!E51+тунгала!E51+умлек.!E51+хвой.!F51+чалб.!F51+юбил.!E51+С.Октябрьс.!F51+'СДК Овс.'!F51+клепикова!F51 -> 0 | F47: ='м. от.'!F51+алгач!G51+'ам-бал'!G51+берег!F51+берез.!G51+бомнак!G51+'В-зск'!F51+Горн.!F51+Гулик!G51+дугда!F51+з.сл.!F51+ивановка!G51+николаев.!G48+огорон!F48+поляк.!F49+снежн.!F51+С.Бор!F51+тунгала!F51+умлек.!F51+хвой.!G51+чалб.!G51+юбил.!F51+С.Октябрьс.!G51+'СДК Овс.'!G51+клепикова!G51 -> 1 | G47: ='м. от.'!G51+алгач!H51+'ам-бал'!H51+берег!G51+берез.!H51+бомнак!H51+'В-зск'!G51+Горн.!G51+Гулик!H51+дугда!G51+з.сл.!G51+ивановка!H51+николаев.!H48+огорон!G48+поляк.!G49+снежн.!G51+С.Бор!G51+тунгала!G51+умлек.!G51+хвой.!H51+чалб.!H51+юбил.!G51+С.Октябрьс.!H51+'СДК Овс.'!H51+клепикова!H51 -> 1 | H47: ='м. от.'!H51+алгач!I51+'ам-бал'!I51+берег!H51+берез.!I51+бомнак!I51+'В-зск'!H51+Горн.!H51+Гулик!I51+дугда!H51+з.сл.!H51+ивановка!I51+николаев.!I48+огорон!H48+поляк.!H49+снежн.!H51+С.Бор!H51+тунгала!H51+умлек.!H51+хвой.!I51+чалб.!I51+юбил.!H51+С.Октябрьс.!I51+'СДК Овс.'!I51+клепикова!I51 -> 0 | I47: ='м. от.'!I51+алгач!J51+'ам-бал'!J51+берег!I51+берез.!J51+бомнак!J51+'В-зск'!I51+Горн.!I51+Гулик!J51+дугда!I51+з.сл.!I51+ивановка!J51+николаев.!J48+огорон!I48+поляк.!I49+снежн.!I51+С.Бор!I51+тунгала!I51+умлек.!I51+хвой.!J51+чалб.!J51+юбил.!I51+С.Октябрьс.!J51+'СДК Овс.'!J51+клепикова!J51 -> 0 | J47: ='м. от.'!J51+алгач!K51+'ам-бал'!K51+берег!J51+берез.!K51+бомнак!K51+'В-зск'!J51+Горн.!J51+Гулик!K51+дугда!J51+з.сл.!J51+ивановка!K51+николаев.!K48+огорон!J48+поляк.!J49+снежн.!J51+С.Бор!J51+тунгала!J51+умлек.!J51+хвой.!K51+чалб.!K51+юбил.!J51+С.Октябрьс.!K51+'СДК Овс.'!K51+клепикова!K51 -> 0 | ... L47: ='м. от.'!L51+алгач!M51+'ам-бал'!M51+берег!L51+берез.!M51+бомнак!M51+'В-зск'!L51+Горн.!L51+Гулик!M51+дугда!L51+з.сл.!L51+ивановка!M51+николаев.!M48+огорон!L48+поляк.!L49+снежн.!L51+С.Бор!L51+тунгала!L51+умлек.!L51+хвой.!M51+чалб.!M51+юбил.!L51+С.Октябрьс.!M51+'СДК Овс.'!M51+клепикова!M51 -> 0
B50: Раздел 2. Клубные формирования
B51: Коды по ОКЕИ: единица - 642; человек - 792
C52: N строки | D52: Число клубных формирований, всего (сумма граф 6, 8) | E52: из гр. 3
...

Sheet м. от.
B2: ФЕДЕРАЛЬНОЕ СТАТИСТИЧЕСКОЕ НАБЛЮДЕНИЕ
B4: КОНФИДЕНЦИАЛЬНОСТЬ ГАРАНТИРУЕТСЯ ПОЛУЧАТЕЛЕМ ИНФОРМАЦИИ
B6: Нарушение порядка предоставления первичных статистических данных или несвоевременное предоставление этих данных, либо предоставление недостоверных первичных статистических данных влечет ответственность, установленную Кодексом Российской Федерации об административных правонарушениях
B8: ВОЗМОЖНО ПРЕДОСТАВЛЕНИЕ В ЭЛЕКТРОННОМ ВИДЕ
B10: СВЕДЕНИЯ ОБ ОРГАНИЗАЦИИ КУЛЬТУРНО-ДОСУГОВОГО ТИПА
B11: за 2023 год
B13: Предоставляют: | I13: Сроки предоставления | M13: Форма N 7-НК
B14: юридические лица - организации культурно-досугового типа, юридические лица - организации, имеющие в своем составе обособленные структурные подразделения, осуществляющие культурно-досуговую деятельность (полный перечень респондентов приведен в указаниях по заполнению формы федерального статистического наблюдения): | I14: 15 февраля | M14: Приказ Росстата: Об утверждении форм от 18.10.2021 № 713
B15: - Министерству культуры Российской Федерации | M15: О внесении изменений (при наличии)
M16: от __________ N ___
M17: от __________ N ___
M18: Годовая
B19: Наименование отчитывающейся организации | H19: Отдел по методике клубной работы МАУ СКЦ Зейского муниципального округа
B20: Почтовый адрес: 676244 Амурская область г.Зея ул.Мухина , 160 оф.111
B21: Код формы по ОКУД | E21: Код
E22: отчитывающейся организации по ОКПО (для территориально обособленного подразделения юридического лица - идентификационный номер)
B23: 1 | E23: 2 | K23: 3 | O23: 4
B24: 609522 | E24: 10347839
B26: Наименование учредителя МКУ "Отдел культуры, архивного дела, молодежной политики и спорта администрации Зейского муниципального округа"
B27: Направление основной деятельности головной организации: деятельность в области культуры и искусства
B28: Число организаций, включенных в сводную форму
B29: (заполняется органами исполнительной власти субъекта Российской Федерации)
B33: Раздел 1. Материально-техническая база
B34: Коды по ОКЕИ: единица - 642; место - 698; квадратный метр - 055
B35: N строки | C35: Число зданий, единиц | D35: из них (из гр. 2) число собственных зданий | E35: из них (из гр. 2) доступны для лиц с нарушением | H35: из общего числа зданий (из гр. 2)
H36: техническое состояние зданий | J36: из них по форме пользования
E37: зрения | F37: слуха | G37: опорно-двигательного аппарата | H37: требуют капитального ремонта | I37: аварийные | J37: в оперативном управлении или хозяйственном ведении | K37: арендованные | L37: прочие
B38: 1 | C38: 2 | D38: 3 | E38: 4 | F38: 5 | G38: 6 | H38: 7 | I38: 8 | J38: 9 | K38: 10 | L38: 11
B39: 1 | C39: 0 | D39: 0 | E39: 0 | F39: 0 | G39: 0 | H39: 0 | I39: 0 | J39: 0 | K39: 0 | L39: 0
B42: N строки | C42: Число помещений, единиц | D42: из общего числа помещений (из гр. 12) | K42: из числа досуговых помещений (из гр. 18) помещения для музейной и библиотечной работы | L42: из общей площади досуговых помещений (из гр. 19)
D43: техническое состояние помещений | F43: арендованных | G43: зрительные залы | I43: Досуговые помещения | L43: площадь, занимаемая музеем | M43: площадь, занимаемая библиотекой
D44: требующих капитального ремонта | E44: аварийных | G44: число зрительных залов, единиц | H44: вместимость зрительных залов, мест | I44: число помещений, единиц | J44: площадь, кв м
B45: 1 | C45: 12 | D45: 13 | E45: 14 | F45: 15 | G45: 16 | H45: 17 | I45: 18 | J45: 19 | K45: 20 | L45: 21 | M45: 22
B46: 1 | C46: 2 | D46: 0 | E46: 0 | F46: 0 | G46: 0 | H46: 0 | I46: 0 | J46: 0 | K46: 0 | L46: 0 | M46: 0
B49: N строки | C49: Число автоматизированных рабочих мест, единиц | D49: Наличие доступа в Интернет (да - 1, нет - 0) | E49: Наличие доступа в Интернет для посетителей и участников формирований (да - 1, нет - 0) | F49: Наличие собственного Интернет-сайта, (да - 1, нет - 0) | G49: Наличие версии собственного Интернет-сайта, доступной для слепых и слабовидящих (да - 1, нет - 0) | H49: Число специализированного оборудования для инвалидов, единиц | I49: Число специализированных транспортных средств, единиц | J49: Число автоклубов, единиц (из гр. 29) | K49: Число выездов автоклубов в сельские населенные пункты, единиц | L49: Количество населенных пунктов, обслуживаемых автоклубами
B50: 1 | C50: 23 | D50: 24 | E50: 25 | F50: 26 | G50: 27 | H50: 28 | I50: 29 | J50: 30 | K50: 31 | L50: 32
B51: 1 | C51: 7 | D51: 1 | E51: 0 | F51: 1 | G51: 1 | H51: 0 | I51: 0 | J51: 0 | K51: 0 | L51: 0
B54: Раздел 2. Клубные формирования
B55: Коды по ОКЕИ: единица - 642; человек - 792
C56: N строки | D56: Число клубных формирований, всего (сумма граф 6, 8) | E56: из гр. 3
...

Sheet алгач
C2: ФЕДЕРАЛЬНОЕ СТАТИСТИЧЕСКОЕ НАБЛЮДЕНИЕ
C4: КОНФИДЕНЦИАЛЬНОСТЬ ГАРАНТИРУЕТСЯ ПОЛУЧАТЕЛЕМ ИНФОРМАЦИИ
C6: Нарушение порядка предоставления первичных статистических данных или несвоевременное предоставление этих данных, либо предоставление недостоверных первичных статистических данных влечет ответственность, установленную Кодексом Российской Федерации об административных правонарушениях
C8: ВОЗМОЖНО ПРЕДОСТАВЛЕНИЕ В ЭЛЕКТРОННОМ ВИДЕ
C10: СВЕДЕНИЯ ОБ ОРГАНИЗАЦИИ КУЛЬТУРНО-ДОСУГОВОГО ТИПА
C11: за 2023 год
C13: Предоставляют: | J13: Сроки предоставления | N13: Форма N 7-НК
C14: юридические лица - организации культурно-досугового типа, юридические лица - организации, имеющие в своем составе обособленные структурные подразделения, осуществляющие культурно-досуговую деятельность (полный перечень респондентов приведен в указаниях по заполнению формы федерального статистического наблюдения): | J14: 15 февраля | N14: Приказ Росстата: Об утверждении формы от 18.10.2021 № 713
C15: - Министерству культуры Российской Федерации | N15: О внесении изменений (при наличии)
N16: от __________ N ___
N17: от __________ N ___
N18: Годовая
C19: Дом культуры п. Алгач | I19: МАУ СКЦ Зейского муниципального округа
C20: Почтовый адрес: 676212 Амурская область Зейский район, пер. Сосновый ,14
C21: Код формы по ОКУД | F21: Код
F22: отчитывающейся организации по ОКПО (для территориально обособленного подразделения юридического лица - идентификационный номер)
C23: 1 | F23: 2 | L23: 3 | P23: 4
C24: 609522 | F24: 10347839
C26: Наименование учредителя МКУ "Отдел культуры, архивного дела, молодежной политики и спорта Зейского муниципального округа"
C27: Направление основной деятельности головной организации: деятельность в области культуры и искусства
C28: Число организаций, включенных в сводную форму
C29: (заполняется органами исполнительной власти субъекта Российской Федерации)
A33: Раздел 1. Материально-техническая база
A34: Коды по ОКЕИ: единица - 642; место - 698; квадратный метр - 055
C35: N строки | D35: Число зданий, единиц | E35: из них (из гр. 2) число собственных зданий | F35: из них (из гр. 2) доступны для лиц с нарушением | I35: из общего числа зданий (из гр. 2)
I36: техническое состояние зданий | K36: из них по форме пользования
F37: зрения | G37: слуха | H37: опорно-двигательного аппарата | I37: требуют капитального ремонта | J37: аварийные | K37: в оператив-ном управлении или хозяйственном ведении | L37: арендованные | M37: прочие
C38: 1 | D38: 2 | E38: 3 | F38: 4 | G38: 5 | H38: 6 | I38: 7 | J38: 8 | K38: 9 | L38: 10 | M38: 11
C39: 1 | D39: 1 | E39: 1 | F39: 0 | G39: 0 | H39: 1 | I39: 0 | J39: 0 | K39: 1 | L39: 0 | M39: 0
C42: N строки | D42: Число помещений, единиц | E42: из общего числа помещений (из гр. 12) | L42: из числа досуговых помещений (из гр. 18) помещения для музейной и библиотечной работы | M42: из общей площади досуговых помещений (из гр. 19)
E43: техническое состояние помещений | G43: арендованных | H43: зрительные залы | J43: Досуговые помещения | M43: площадь, занимаемая музеем | N43: площадь, занимаемая библиотекой
E44: требующих капитального ремонта | F44: аварийных | H44: число зрительных залов, единиц | I44: вместимость зрительных залов, мест | J44: число помещений, единиц | K44: площадь, кв м
C45: 1 | D45: 12 | E45: 13 | F45: 14 | G45: 15 | H45: 16 | I45: 17 | J45: 18 | K45: 19 | L45: 20 | M45: 21 | N45: 22
C46: 1 | D46: 11 | E46: 0 | F46: 0 | G46: 0 | H46: 1 | I46: 120 | J46: 3 | K46: 220 | L46: 0 | M46: 0 | N46: 0
C49: N строки | D49: Число автоматизированных рабочих мест, единиц | E49: Наличие доступа в Интернет (да - 1, нет - 0) | F49: Наличие доступа в Интернет для посетителей и участников формирований (да - 1, нет - 0) | G49: Наличие собственного Интернет-сайта, (да - 1, нет - 0) | H49: Наличие версии собственного Интернет-сайта, доступной для слепых и слабовидящих (да - 1, нет - 0) | I49: Число специализированного оборудования для инвалидов, единиц | J49: Число специализированных транспортных средств, единиц | K49: Число автоклубов, единиц (из гр. 29) | L49: Число выездов автоклубов в сельские населенные пункты, единиц | M49: Количество населенных пунктов, обслуживаемых автоклубами
C50: 1 | D50: 23 | E50: 24 | F50: 25 | G50: 26 | H50: 27 | I50: 28 | J50: 29 | K50: 30 | L50: 31 | M50: 32
C51: 1 | D51: 1 | E51: 1 | F51: 0 | G51: 0 | H51: 0 | I51: 0 | J51: 0 | K51: 0 | L51: 0 | M51: 0
C53: Раздел 2. Клубные формирования
A54: Коды по ОКЕИ: единица - 642; человек - 792
D55: N строки | E55: Число клубных формирований, всего (сумма граф 6, 8) | F55: из гр. 3
...

Sheet ам-бал
C2: ФЕДЕРАЛЬНОЕ СТАТИСТИЧЕСКОЕ НАБЛЮДЕНИЕ
C4: КОНФИДЕНЦИАЛЬНОСТЬ ГАРАНТИРУЕТСЯ ПОЛУЧАТЕЛЕМ ИНФОРМАЦИИ
C6: Нарушение порядка предоставления первичных статистических данных или несвоевременное предоставление этих данных, либо предоставление недостоверных первичных статистических данных влечет ответственность, установленную Кодексом Российской Федерации об административных правонарушениях
C8: ВОЗМОЖНО ПРЕДОСТАВЛЕНИЕ В ЭЛЕКТРОННОМ ВИДЕ
C10: СВЕДЕНИЯ ОБ ОРГАНИЗАЦИИ КУЛЬТУРНО-ДОСУГОВОГО ТИПА
C11: за 2023 год
C13: Предоставляют: | J13: Сроки предоставления | N13: Форма N 7-НК
C14: юридические лица - организации культурно-досугового типа, юридические лица - организации, имеющие в своем составе обособленные структурные подразделения, осуществляющие культурно-досуговую деятельность (полный перечень респондентов приведен в указаниях по заполнению формы федерального статистического наблюдения): | J14: 15 февраля | N14: Приказ Росстата: Об утверждении формы от 18.10.2021 № 713
C15: - Министерству культуры Российской Федерации | N15: О внесении изменений (при наличии)
N16: от __________ N ___
N17: от __________ N ___
N18: Годовая
C19: Наименование отчитывающейся организации | I19: Дом культуры с. Амуро-Балтийск МАУ СКЦ Зейского муниципального округа
C20: Почтовый адрес: 676206 Амурская область Зейский район с. Амуро-Балтийск, ул. Юбилейная, 17
C21: Код формы по ОКУД | F21: Код
F22: отчитывающейся организации по ОКПО (для территориально обособленного подразделения юридического лица - идентификационный номер)
C23: 1 | F23: 2 | L23: 3 | P23: 4
C24: 609522 | F24: 10347839
C26: Наименование учредителя МКУ Отдел культуры, архивного дела, молодежной политики и спорта администрации Зейского муниципального округа
C27: Направление основной деятельности головной организации: деятельность в области культуры и искусства
C28: Число организаций, включенных в сводную форму
C29: (заполняется органами исполнительной власти субъекта Российской Федерации)
A33: Раздел 1. Материально-техническая база
A34: Коды по ОКЕИ: единица - 642; место - 698; квадратный метр - 055
C35: N строки | D35: Число зданий, единиц | E35: из них (из гр. 2) число собственных зданий | F35: из них (из гр. 2) доступны для лиц с нарушением | I35: из общего числа зданий (из гр. 2)
I36: техническое состояние зданий | K36: из них по форме пользования
F37: зрения | G37: слуха | H37: опорно-двигательного аппарата | I37: требуют капитального ремонта | J37: аварийные | K37: в оперативном управлении или хозяйственном ведении | L37: арендованные | M37: прочие
C38: 1 | D38: 2 | E38: 3 | F38: 4 | G38: 5 | H38: 6 | I38: 7 | J38: 8 | K38: 9 | L38: 10 | M38: 11
C39: 1 | D39: 1 | E39: 1 | F39: 0 | G39: 0 | H39: 0 | I39: 1 | J39: 0 | K39: 1 | L39: 0 | M39: 0
C42: N строки | D42: Число помещений, единиц | E42: из общего числа помещений (из гр. 12) | L42: из числа досуговых помещений (из гр. 18) помещения для музейной и библиотечной работы | M42: из общей площади досуговых помещений (из гр. 19)
E43: техническое состояние помещений | G43: арендованных | H43: зрительные залы | J43: Досуговые помещения | M43: площадь, занимаемая музеем | N43: площадь, занимаемая библиотекой
E44: требующих капитального ремонта | F44: аварийных | H44: число зрительных залов, единиц | I44: вместимость зрительных залов, мест | J44: число помещений, единиц | K44: площадь, кв м
C45: 1 | D45: 12 | E45: 13 | F45: 14 | G45: 15 | H45: 16 | I45: 17 | J45: 18 | K45: 19 | L45: 20 | M45: 21 | N45: 22
C46: 1 | D46: 4 | E46: 4 | F46: 0 | G46: 0 | H46: 1 | I46: 100 | J46: 3 | K46: 56 | L46: 0 | M46: 0 | N46: 0
C49: N строки | D49: Число автоматизированных рабочих мест, единиц | E49: Наличие доступа в Интернет (да - 1, нет - 0) | F49: Наличие доступа в Интернет для посетителей и участников формирований (да - 1, нет - 0) | G49: Наличие собственного Интернет-сайта, (да - 1, нет - 0) | H49: Наличие версии собственного Интернет-сайта, доступной для слепых и слабовидящих (да - 1, нет - 0) | I49: Число специализированного оборудования для инвалидов, единиц | J49: Число специализированных транспортных средств, единиц | K49: Число автоклубов, единиц (из гр. 29) | L49: Число выездов автоклубов в сельские населенные пункты, единиц | M49: Количество населенных пунктов, обслуживаемых автоклубами
C50: 1 | D50: 23 | E50: 24 | F50: 25 | G50: 26 | H50: 27 | I50: 28 | J50: 29 | K50: 30 | L50: 31 | M50: 32
C51: 1 | D51: 2 | E51: 0 | F51: 0 | G51: 0 | H51: 0 | I51: 0 | J51: 0 | K51: 0 | L51: 0 | M51: 0
C54: Раздел 2. Клубные формирования
A55: Коды по ОКЕИ: единица - 642; человек - 792
D56: N строки | E56: Число клубных формирований, всего (сумма граф 6, 8) | F56: из гр. 3
...

Sheet берег
B2: ФЕДЕРАЛЬНОЕ СТАТИСТИЧЕСКОЕ НАБЛЮДЕНИЕ
B4: КОНФИДЕНЦИАЛЬНОСТЬ ГАРАНТИРУЕТСЯ ПОЛУЧАТЕЛЕМ ИНФОРМАЦИИ
B6: Нарушение порядка предоставления первичных статистических данных или несвоевременное предоставление этих данных, либо предоставление недостоверных первичных статистических данных влечет ответственность, установленную Кодексом Российской Федерации об административных правонарушениях
B8: ВОЗМОЖНО ПРЕДОСТАВЛЕНИЕ В ЭЛЕКТРОННОМ ВИДЕ
B10: СВЕДЕНИЯ ОБ ОРГАНИЗАЦИИ КУЛЬТУРНО-ДОСУГОВОГО ТИПА
B11: за 2023 год
B13: Предоставляют: | I13: Сроки предоставления | M13: Форма N 7-НК
B14: юридические лица - организации культурно-досугового типа, юридические лица - организации, имеющие в своем составе обособленные структурные подразделения, осуществляющие культурно-досуговую деятельность (полный перечень респондентов приведен в указаниях по заполнению формы федерального статистического наблюдения): | I14: 15 февраля | M14: Приказ Росстата: Об утверждении формы от 18.10.2021 № 713
B15: - Министерству культуры Российской Федерации | M15: О внесении изменений (при наличии)
M16: от __________ N ___
M17: от __________ N ___
M18: Годовая
B19: Наименование отчитывающейся организации | H19: Дом культуры п. Береговой МАУ СКЦ Зейского муниципального округа
B20: Почтовый адрес : 676208 Амурская область, Зейский район п. Береговой, ул. Ленина, 6
B21: Код формы по ОКУД | E21: Код
E22: отчитывающейся организации по ОКПО (для территориально обособленного подразделения юридического лица - идентификационный номер)
B23: 1 | E23: 2 | K23: 3 | O23: 4
B24: 609522 | E24: 10347839
B26: Наименование учредителя МКУ "Отдел культуры, архивного дела, молодежной политики и спорта Зейского муниципального округа"
B27: Направление основной деятельности головной организации: деятельность в области культуры и искусства
B28: Число организаций, включенных в сводную форму
B29: (заполняется органами исполнительной власти субъекта Российской Федерации)
A33: Раздел 1. Материально-техническая база
A34: Коды по ОКЕИ: единица - 642; место - 698; квадратный метр - 055
B35: N строки | C35: Число зданий, единиц | D35: из них (из гр. 2) число собственных зданий | E35: из них (из гр. 2) доступны для лиц с нарушением | H35: из общего числа зданий (из гр. 2)
H36: техническое состояние зданий | J36: из них по форме пользования
E37: зрения | F37: слуха | G37: опорно-двигательного аппарата | H37: требуют капитального ремонта | I37: аварийные | J37: в оперативном управлении или хозяйственном ведении | K37: арендованные | L37: прочие
B38: 1 | C38: 2 | D38: 3 | E38: 4 | F38: 5 | G38: 6 | H38: 7 | I38: 8 | J38: 9 | K38: 10 | L38: 11
B39: 1 | C39: 1 | D39: 0 | E39: 0 | F39: 0 | G39: 1 | H39: 0 | I39: 0 | J39: 0 | K39: 1 | L39: 0
B42: N строки | C42: Число помещений, единиц | D42: из общего числа помещений (из гр. 12) | K42: из числа досуговых помещений (из гр. 18) помещения для музейной и библиотечной работы | L42: из общей площади досуговых помещений (из гр. 19)
D43: техническое состояние помещений | F43: арендованных | G43: зрительные залы | I43: Досуговые помещения | L43: площадь, занимаемая музеем | M43: площадь, занимаемая библиотекой
D44: требующих капитального ремонта | E44: аварийных | G44: число зрительных залов, единиц | H44: вместимость зрительных залов, мест | I44: число помещений, единиц | J44: площадь, кв м
B45: 1 | C45: 12 | D45: 13 | E45: 14 | F45: 15 | G45: 16 | H45: 17 | I45: 18 | J45: 19 | K45: 20 | L45: 21 | M45: 22
B46: 1 | C46: 8 | D46: 0 | E46: 0 | F46: 8 | G46: 1 | H46: 120 | I46: 6 | J46: 334 | K46: 0 | L46: 0 | M46: 0
B49: N строки | C49: Число автоматизированных рабочих мест, единиц | D49: Наличие доступа в Интернет (да - 1, нет - 0) | E49: Наличие доступа в Интернет для посетителей и участников формирований (да - 1, нет - 0) | F49: Наличие собственного Интернет-сайта, (да - 1, нет - 0) | G49: Наличие версии собственного Интернет-сайта, доступной для слепых и слабовидящих (да - 1, нет - 0) | H49: Число специализированного оборудования для инвалидов, единиц | I49: Число специализированных транспортных средств, единиц | J49: Число автоклубов, единиц (из гр. 29) | K49: Число выездов автоклубов в сельские населенные пункты, единиц | L49: Количество населенных пунктов, обслуживаемых автоклубами
B50: 1 | C50: 23 | D50: 24 | E50: 25 | F50: 26 | G50: 27 | H50: 28 | I50: 29 | J50: 30 | K50: 31 | L50: 32
B51: 1 | C51: 3 | D51: 1 | E51: 0 | F51: 0 | G51: 0 | H51: 0 | I51: 0 | J51: 0 | K51: 0 | L51: 0
B54: Раздел 2. Клубные формирования
A55: Коды по ОКЕИ: единица - 642; человек - 792
C56: N строки | D56: Число клубных формирований, всего (сумма граф 6, 8) | E56: из гр. 3
...

Sheet берез.
C2: ФЕДЕРАЛЬНОЕ СТАТИСТИЧЕСКОЕ НАБЛЮДЕНИЕ
C4: КОНФИДЕНЦИАЛЬНОСТЬ ГАРАНТИРУЕТСЯ ПОЛУЧАТЕЛЕМ ИНФОРМАЦИИ
C6: Нарушение порядка предоставления первичных статистических данных или несвоевременное предоставление этих данных, либо предоставление недостоверных первичных статистических данных влечет ответственность, установленную Кодексом Российской Федерации об административных правонарушениях
C8: ВОЗМОЖНО ПРЕДОСТАВЛЕНИЕ В ЭЛЕКТРОННОМ ВИДЕ
C10: СВЕДЕНИЯ ОБ ОРГАНИЗАЦИИ КУЛЬТУРНО-ДОСУГОВОГО ТИПА
C11: за 2023 год
C13: Предоставляют: | J13: Сроки предоставления | N13: Форма N 7-НК
C14: юридические лица - организации культурно-досугового типа, юридические лица - организации, имеющие в своем составе обособленные структурные подразделения, осуществляющие культурно-досуговую деятельность (полный перечень респондентов приведен в указаниях по заполнению формы федерального статистического наблюдения): | J14: 15 февраля | N14: Приказ Росстата: Об утверждении формы от 18.10.2021 № 713
C15: - Министерству культуры Российской Федерации | N15: О внесении изменений (при наличии)
N16: от __________ N ___
N17: от __________ N ___
N18: Годовая
C19: Наименование отчитывающейся организации | I19: Сельский клуб с.Березовка МАУ СКЦ Зейского муниципального округа
C20: Почтовый адрес: Амурская область г.Зейский район с. Березовка 676211 Ул. Почтовая,8
C21: Код формы по ОКУД | F21: Код
F22: отчитывающейся организации по ОКПО (для территориально обособленного подразделения юридического лица - идентификационный номер)
C23: 1 | F23: 2 | L23: 3 | P23: 4
C24: 609522 | F24: 10347839
C26: Наименование учредителя МКУ "Отдел культуры, архивного дела, молодежной политики и спорта Зейского муниципального округа"
C27: Направление основной деятельности головной организации: деятельность в области культуры и искусства
C28: Число организаций, включенных в сводную форму
C29: (заполняется органами исполнительной власти субъекта Российской Федерации)
A33: Раздел 1. Материально-техническая база
A34: Коды по ОКЕИ: единица - 642; место - 698; квадратный метр - 055
C35: N строки | D35: Число зданий, единиц | E35: из них (из гр. 2) число собственных зданий | F35: из них (из гр. 2) доступны для лиц с нарушением | I35: из общего числа зданий (из гр. 2)
I36: техническое состояние зданий | K36: из них по форме пользования
F37: зрения | G37: слуха | H37: опорно-двигательного аппарата | I37: требуют капитального ремонта | J37: аварийные | K37: в оперативном управлении или хозяйственном ведении | L37: арендованные | M37: прочие
C38: 1 | D38: 2 | E38: 3 | F38: 4 | G38: 5 | H38: 6 | I38: 7 | J38: 8 | K38: 9 | L38: 10 | M38: 11
C39: 1 | D39: 1 | E39: 1 | F39: 0 | G39: 0 | H39: 0 | I39: 0 | J39: 0 | K39: 1 | L39: 0 | M39: 0
C42: N строки | D42: Число помещений, единиц | E42: из общего числа помещений (из гр. 12) | L42: из числа досуговых помещений (из гр. 18) помещения для музейной и библиотечной работы | M42: из общей площади досуговых помещений (из гр. 19)
E43: техническое состояние помещений | G43: арендованных | H43: зрительные залы | J43: Досуговые помещения | M43: площадь, занимаемая музеем | N43: площадь, занимаемая библиотекой
E44: требующих капитального ремонта | F44: аварийных | H44: число зрительных залов, единиц | I44: вместимость зрительных залов, мест | J44: число помещений, единиц | K44: площадь, кв м
C45: 1 | D45: 12 | E45: 13 | F45: 14 | G45: 15 | H45: 16 | I45: 17 | J45: 18 | K45: 19 | L45: 20 | M45: 21 | N45: 22
C46: 1 | D46: 4 | E46: 0 | F46: 0 | G46: 0 | H46: 1 | I46: 80 | J46: 3 | K46: 148 | L46: 0 | M46: 0 | N46: 0
C49: N строки | D49: Число автоматизированных рабочих мест, единиц | E49: Наличие доступа в Интернет (да - 1, нет - 0) | F49: Наличие доступа в Интернет для посетителей и участников формирований (да - 1, нет - 0) | G49: Наличие собственного Интернет-сайта, (да - 1, нет - 0) | H49: Наличие версии собственного Интернет-сайта, доступной для слепых и слабовидящих (да - 1, нет - 0) | I49: Число специализированного оборудования для инвалидов, единиц | J49: Число специализированных транспортных средств, единиц | K49: Число автоклубов, единиц (из гр. 29) | L49: Число выездов автоклубов в сельские населенные пункты, единиц | M49: Количество населенных пунктов, обслуживаемых автоклубами
C50: 1 | D50: 23 | E50: 24 | F50: 25 | G50: 26 | H50: 27 | I50: 28 | J50: 29 | K50: 30 | L50: 31 | M50: 32
C51: 1 | D51: 1 | E51: 0 | F51: 0 | G51: 0 | H51: 0 | I51: 0 | J51: 0 | K51: 0 | L51: 0 | M51: 0
C54: Раздел 2. Клубные формирования
A55: Коды по ОКЕИ: единица - 642; человек - 792
D56: N строки | E56: Число клубных формирований, всего (сумма граф 6, 8) | F56: из гр. 3
...

Sheet бомнак
C2: ФЕДЕРАЛЬНОЕ СТАТИСТИЧЕСКОЕ НАБЛЮДЕНИЕ
C4: КОНФИДЕНЦИАЛЬНОСТЬ ГАРАНТИРУЕТСЯ ПОЛУЧАТЕЛЕМ ИНФОРМАЦИИ
C6: Нарушение порядка предоставления первичных статистических данных или несвоевременное предоставление этих данных, либо предоставление недостоверных первичных статистических данных влечет ответственность, установленную Кодексом Российской Федерации об административных правонарушениях
C8: ВОЗМОЖНО ПРЕДОСТАВЛЕНИЕ В ЭЛЕКТРОННОМ ВИДЕ
C10: СВЕДЕНИЯ ОБ ОРГАНИЗАЦИИ КУЛЬТУРНО-ДОСУГОВОГО ТИПА
C11: за 2023 год
C13: Предоставляют: | J13: Сроки предоставления | N13: Форма N 7-НК
C14: юридические лица - организации культурно-досугового типа, юридические лица - организации, имеющие в своем составе обособленные структурные подразделения, осуществляющие культурно-досуговую деятельность (полный перечень респондентов приведен в указаниях по заполнению формы федерального статистического наблюдения): | J14: 15 февраля | N14: Приказ Росстата: Об утверждении формы от 18.10.2021 № 713
C15: - Министерству культуры Российской Федерации | N15: О внесении изменений (при наличии)
N16: от __________ N ___
N17: от __________ N ___
N18: Годовая
C19: Наименование отчитывающейся организации | I19: Дом культуры п. Бомнак МАУ СКЦ Зейского муниципального округа
C20: Почтовый адрес: 676226 Амурская область Зейский район с. Бомнак пер. Набережный, 7 а
C21: Код формы по ОКУД | F21: Код
F22: отчитывающейся организации по ОКПО (для территориально обособленного подразделения юридического лица - идентификационный номер)
C23: 1 | F23: 2 | L23: 3 | P23: 4
C24: 609522 | F24: 10347839
C26: Наименование учредителя: МКУ " Отдел культуры, архивного дела, молодежной политики и спорта администрации Зейского округа"
C27: Направление основной деятельности головной организации: деятельность в области культуры и искусства
C28: Число организаций, включенных в сводную форму
C29: (заполняется органами исполнительной власти субъекта Российской Федерации)
A33: Раздел 1. Материально-техническая база
A34: Коды по ОКЕИ: единица - 642; место - 698; квадратный метр - 055
C35: N строки | D35: Число зданий, единиц | E35: из них (из гр. 2) число собственных зданий | F35: из них (из гр. 2) доступны для лиц с нарушением | I35: из общего числа зданий (из гр. 2)
I36: техническое состояние зданий | K36: из них по форме пользования
F37: зрения | G37: слуха | H37: опорно-двигательного аппарата | I37: требуют капитального ремонта | J37: аварийные | K37: в оперативном управлении или хозяйственном ведении | L37: арендованные | M37: прочие
C38: 1 | D38: 2 | E38: 3 | F38: 4 | G38: 5 | H38: 6 | I38: 7 | J38: 8 | K38: 9 | L38: 10 | M38: 11
C39: 1 | D39: 1 | E39: 1 | F39: 0 | G39: 0 | H39: 0 | I39: 0 | J39: 0 | K39: 1 | L39: 0 | M39: 0
C42: N строки | D42: Число помещений, единиц | E42: из общего числа помещений (из гр. 12) | L42: из числа досуговых помещений (из гр. 18) помещения для музейной и библиотечной работы | M42: из общей площади досуговых помещений (из гр. 19)
E43: техническое состояние помещений | G43: арендованных | H43: зрительные залы | J43: Досуговые помещения | M43: площадь, занимаемая музеем | N43: площадь, занимаемая библиотекой
E44: требующих капитального ремонта | F44: аварийных | H44: число зрительных залов, единиц | I44: вместимость зрительных залов, мест | J44: число помещений, единиц | K44: площадь, кв м
C45: 1 | D45: 12 | E45: 13 | F45: 14 | G45: 15 | H45: 16 | I45: 17 | J45: 18 | K45: 19 | L45: 20 | M45: 21 | N45: 22
C46: 1 | D46: 6 | E46: 0 | F46: 0 | G46: 0 | H46: 1 | I46: 100 | J46: 4 | K46: 149 | L46: 0 | M46: 0 | N46: 0
C49: N строки | D49: Число автоматизированных рабочих мест, единиц | E49: Наличие доступа в Интернет (да - 1, нет - 0) | F49: Наличие доступа в Интернет для посетителей и участников формирований (да - 1, нет - 0) | G49: Наличие собственного Интернет-сайта, (да - 1, нет - 0) | H49: Наличие версии собственного Интернет-сайта, доступной для слепых и слабовидящих (да - 1, нет - 0) | I49: Число специализированного оборудования для инвалидов, единиц | J49: Число специализированных транспортных средств, единиц | K49: Число автоклубов, единиц (из гр. 29) | L49: Число выездов автоклубов в сельские населенные пункты, единиц | M49: Количество населенных пунктов, обслуживаемых автоклубами
C50: 1 | D50: 23 | E50: 24 | F50: 25 | G50: 26 | H50: 27 | I50: 28 | J50: 29 | K50: 30 | L50: 31 | M50: 32
C51: 1 | D51: 2 | E51: 1 | F51: 0 | G51: 0 | H51: 0 | I51: 0 | J51: 0 | K51: 0 | L51: 0 | M51: 0
C54: Раздел 2. Клубные формирования
A55: Коды по ОКЕИ: единица - 642; человек - 792
D56: N строки | E56: Число клубных формирований, всего (сумма граф 6, 8) | F56: из гр. 3
...

Sheet В-зск
B2: ФЕДЕРАЛЬНОЕ СТАТИСТИЧЕСКОЕ НАБЛЮДЕНИЕ
B4: КОНФИДЕНЦИАЛЬНОСТЬ ГАРАНТИРУЕТСЯ ПОЛУЧАТЕЛЕМ ИНФОРМАЦИИ
B6: Нарушение порядка предоставления первичных статистических данных или несвоевременное предоставление этих данных, либо предоставление недостоверных первичных статистических данных влечет ответственность, установленную Кодексом Российской Федерации об административных правонарушениях
B8: ВОЗМОЖНО ПРЕДОСТАВЛЕНИЕ В ЭЛЕКТРОННОМ ВИДЕ
B10: СВЕДЕНИЯ ОБ ОРГАНИЗАЦИИ КУЛЬТУРНО-ДОСУГОВОГО ТИПА
B11: за 2023 год
B13: Предоставляют: | I13: Сроки предоставления | M13: Форма N 7-НК
B14: юридические лица - организации культурно-досугового типа, юридические лица - организации, имеющие в своем составе обособленные структурные подразделения, осуществляющие культурно-досуговую деятельность (полный перечень респондентов приведен в указаниях по заполнению формы федерального статистического наблюдения): | I14: 15 февраля | M14: Приказ Росстата: Об утверждении формы от 18.10.2021 № 713
B15: - Министерству культуры Российской Федерации | M15: О внесении изменений (при наличии)
M16: от __________ N ___
M17: от __________ N ___
M18: Годовая
B19: Наименование отчитывающейся организации | H19: Дом культуры п. Верхнезейск МАУ СКЦ Зейского муниципального округа
B20: Почтовый адрес: 676239 Амурская область Зейский район п. Верхнезейский, блок 73.
B21: Код формы по ОКУД | E21: Код
E22: отчитывающейся организации по ОКПО (для территориально обособленного подразделения юридического лица - идентификационный номер)
B23: 1 | E23: 2 | K23: 3 | O23: 4
B24: 609522 | E24: 10347839
B26: Наименование учредителя МКУ "Отдел культуры, архивного дела, молодежной политики и спорта Зейского муниципального округа "
B27: Направление основной деятельности головной организации: деятельность в области культуры и искусства
B28: Число организаций, включенных в сводную форму
B29: (заполняется органами исполнительной власти субъекта Российской Федерации)
A33: Раздел 1. Материально-техническая база
A34: Коды по ОКЕИ: единица - 642; место - 698; квадратный метр - 055
B35: N строки | C35: Число зданий, единиц | D35: из них (из гр. 2) число собственных зданий | E35: из них (из гр. 2) доступны для лиц с нарушением | H35: из общего числа зданий (из гр. 2)
H36: техническое состояние зданий | J36: из них по форме пользования
E37: зрения | F37: слуха | G37: опорно-двигательного аппарата | H37: требуют капитального ремонта | I37: аварийные | J37: в оперативном управлении или хозяйственном ведении | K37: арендованные | L37: прочие
B38: 1 | C38: 2 | D38: 3 | E38: 4 | F38: 5 | G38: 6 | H38: 7 | I38: 8 | J38: 9 | K38: 10 | L38: 11
B39: 1 | C39: 1 | D39: 0 | E39: 0 | F39: 0 | G39: 0 | H39: 0 | I39: 0 | J39: 0 | K39: 1 | L39: 0
B42: N строки | C42: Число помещений, единиц | D42: из общего числа помещений (из гр. 12) | K42: из числа досуговых помещений (из гр. 18) помещения для музейной и библиотечной работы | L42: из общей площади досуговых помещений (из гр. 19)
D43: техническое состояние помещений | F43: арендованных | G43: зрительные залы | I43: Досуговые помещения | L43: площадь, занимаемая музеем | M43: площадь, занимаемая библиотекой
D44: требующих капитального ремонта | E44: аварийных | G44: число зрительных залов, единиц | H44: вместимость зрительных залов, мест | I44: число помещений, единиц | J44: площадь, кв м
B45: 1 | C45: 12 | D45: 13 | E45: 14 | F45: 15 | G45: 16 | H45: 17 | I45: 18 | J45: 19 | K45: 20 | L45: 21 | M45: 22
B46: 1 | C46: 10 | D46: 0 | E46: 0 | F46: 10 | G46: 1 | H46: 80 | I46: 7 | J46: 307 | K46: 0 | L46: 0 | M46: 0
B49: N строки | C49: Число автоматизированных рабочих мест, единиц | D49: Наличие доступа в Интернет (да - 1, нет - 0) | E49: Наличие доступа в Интернет для посетителей и участников формирований (да - 1, нет - 0) | F49: Наличие собственного Интернет-сайта, (да - 1, нет - 0) | G49: Наличие версии собственного Интернет-сайта, доступной для слепых и слабовидящих (да - 1, нет - 0) | H49: Число специализированного оборудования для инвалидов, единиц | I49: Число специализированных транспортных средств, единиц | J49: Число автоклубов, единиц (из гр. 29) | K49: Число выездов автоклубов в сельские населенные пункты, единиц | L49: Количество населенных пунктов, обслуживаемых автоклубами
B50: 1 | C50: 23 | D50: 24 | E50: 25 | F50: 26 | G50: 27 | H50: 28 | I50: 29 | J50: 30 | K50: 31 | L50: 32
B51: 1 | C51: 3 | D51: 1 | E51: 0 | F51: 0 | G51: 0 | H51: 0 | I51: 0 | J51: 0 | K51: 0 | L51: 0
B54: Раздел 2. Клубные формирования
A55: Коды по ОКЕИ: единица - 642; человек - 792
C56: N строки | D56: Число клубных формирований, всего (сумма граф 6, 8) | E56: из гр. 3
...

Sheet Горн.
B2: ФЕДЕРАЛЬНОЕ СТАТИСТИЧЕСКОЕ НАБЛЮДЕНИЕ
B4: КОНФИДЕНЦИАЛЬНОСТЬ ГАРАНТИРУЕТСЯ ПОЛУЧАТЕЛЕМ ИНФОРМАЦИИ
B6: Нарушение порядка предоставления первичных статистических данных или несвоевременное предоставление этих данных, либо предоставление недостоверных первичных статистических данных влечет ответственность, установленную Кодексом Российской Федерации об административных правонарушениях
B8: ВОЗМОЖНО ПРЕДОСТАВЛЕНИЕ В ЭЛЕКТРОННОМ ВИДЕ
B10: СВЕДЕНИЯ ОБ ОРГАНИЗАЦИИ КУЛЬТУРНО-ДОСУГОВОГО ТИПА
B11: за 2023 год
B13: Предоставляют: | I13: Сроки предоставления | M13: Форма N 7-НК
B14: юридические лица - организации культурно-досугового типа, юридические лица - организации, имеющие в своем составе обособленные структурные подразделения, осуществляющие культурно-досуговую деятельность (полный перечень респондентов приведен в указаниях по заполнению формы федерального статистического наблюдения): | I14: 15 февраля | M14: Приказ Росстата: Об утверждении формы от 18.10.2021 № 713
B15: - Министерству культуры Российской Федерации | M15: О внесении изменений (при наличии)
M16: от __________ N ___
M17: от __________ N ___
M18: Годовая
B19: Наименование отчитывающейся организации | H19: Дом культуры п. Горный МАУ СКЦ Зейского муниципального округа
B20: Почтовый адрес : 676230 Амурская область Зейский район п. Горный, ул. Советская, 1
B21: Код формы по ОКУД | E21: Код
E22: отчитывающейся организации по ОКПО (для территориально обособленного подразделения юридического лица - идентификационный номер)
B23: 1 | E23: 2 | K23: 3 | O23: 4
B24: 609522 | E24: 10345295
B26: Наименование учредителя МКУ "Отдел культуры, архивного дела, молодежной политики и спорта администрации Зейского муниципального округа
B27: Направление основной деятельности головной организации: деятельность в области культуры и искусства
B28: Число организаций, включенных в сводную форму
B29: (заполняется органами исполнительной власти субъекта Российской Федерации)
A33: Раздел 1. Материально-техническая база
A34: Коды по ОКЕИ: единица - 642; место - 698; квадратный метр - 055
B35: N строки | C35: Число зданий, единиц | D35: из них (из гр. 2) число собственных зданий | E35: из них (из гр. 2) доступны для лиц с нарушением | H35: из общего числа зданий (из гр. 2)
H36: техническое состояние зданий | J36: из них по форме пользования
E37: зрения | F37: слуха | G37: опорно-двигательного аппарата | H37: требуют капитального ремонта | I37: аварийные | J37: в оперативном управлении или хозяйственном ведении | K37: арендованные | L37: прочие
B38: 1 | C38: 2 | D38: 3 | E38: 4 | F38: 5 | G38: 6 | H38: 7 | I38: 8 | J38: 9 | K38: 10 | L38: 11
B39: 1 | C39: 1 | D39: 0 | E39: 0 | F39: 0 | G39: 0 | H39: 0 | I39: 0 | J39: 0 | K39: 1 | L39: 0
B42: N строки | C42: Число помещений, единиц | D42: из общего числа помещений (из гр. 12) | K42: из числа досуговых помещений (из гр. 18) помещения для музейной и библиотечной работы | L42: из общей площади досуговых помещений (из гр. 19)
D43: техническое состояние помещений | F43: арендованных | G43: зрительные залы | I43: Досуговые помещения | L43: площадь, занимаемая музеем | M43: площадь, занимаемая библиотекой
D44: требующих капитального ремонта | E44: аварийных | G44: число зрительных залов, единиц | H44: вместимость зрительных залов, мест | I44: число помещений, единиц | J44: площадь, кв м
B45: 1 | C45: 12 | D45: 13 | E45: 14 | F45: 15 | G45: 16 | H45: 17 | I45: 18 | J45: 19 | K45: 20 | L45: 21 | M45: 22
B46: 1 | C46: 5 | D46: 0 | E46: 0 | F46: 5 | G46: 1 | H46: 65 | I46: 3 | J46: 119 | K46: 0 | L46: 0 | M46: 0
B49: N строки | C49: Число автоматизированных рабочих мест, единиц | D49: Наличие доступа в Интернет (да - 1, нет - 0) | E49: Наличие доступа в Интернет для посетителей и участников формирований (да - 1, нет - 0) | F49: Наличие собственного Интернет-сайта, (да - 1, нет - 0) | G49: Наличие версии собственного Интернет-сайта, доступной для слепых и слабовидящих (да - 1, нет - 0) | H49: Число специализированного оборудования для инвалидов, единиц | I49: Число специализированных транспортных средств, единиц | J49: Число автоклубов, единиц (из гр. 29) | K49: Число выездов автоклубов в сельские населенные пункты, единиц | L49: Количество населенных пунктов, обслуживаемых автоклубами
B50: 1 | C50: 23 | D50: 24 | E50: 25 | F50: 26 | G50: 27 | H50: 28 | I50: 29 | J50: 30 | K50: 31 | L50: 32
B51: 1 | C51: 2 | D51: 1 | E51: 0 | F51: 0 | G51: 0 | H51: 0 | I51: 0 | J51: 0 | K51: 0 | L51: 0
B54: Раздел 2. Клубные формирования
A55: Коды по ОКЕИ: единица - 642; человек - 792
C56: N строки | D56: Число клубных формирований, всего (сумма граф 6, 8) | E56: из гр. 3
...

Sheet Гулик
C2: ФЕДЕРАЛЬНОЕ СТАТИСТИЧЕСКОЕ НАБЛЮДЕНИЕ
C4: КОНФИДЕНЦИАЛЬНОСТЬ ГАРАНТИРУЕТСЯ ПОЛУЧАТЕЛЕМ ИНФОРМАЦИИ
C6: Нарушение порядка предоставления первичных статистических данных или несвоевременное предоставление этих данных, либо предоставление недостоверных первичных статистических данных влечет ответственность, установленную Кодексом Российской Федерации об административных правонарушениях
C8: ВОЗМОЖНО ПРЕДОСТАВЛЕНИЕ В ЭЛЕКТРОННОМ ВИДЕ
C10: СВЕДЕНИЯ ОБ ОРГАНИЗАЦИИ КУЛЬТУРНО-ДОСУГОВОГО ТИПА
C11: за 2023 год
C13: Предоставляют: | J13: Сроки предоставления | N13: Форма N 7-НК
C14: юридические лица - организации культурно-досугового типа, юридические лица - организации, имеющие в своем составе обособленные структурные подразделения, осуществляющие культурно-досуговую деятельность (полный перечень респондентов приведен в указаниях по заполнению формы федерального статистического наблюдения): | J14: 15 февраля | N14: Приказ Росстата: Об утверждении формы от 18.10.2021 № 713
C15: - Министерству культуры Российской Федерации | N15: О внесении изменений (при наличии)
N16: от __________ N ___
N17: от __________ N ___
N18: Годовая
C19: Наименование отчитывающейся организации | I19: Дом культуры с. Гулик МАУ СКЦ Зейского мунипального округа
C20: Почтовый адрес :676246 Амурская область Зейский район с. Гулик, ул. Центральная, 14
C21: Код формы по ОКУД | F21: Код
F22: отчитывающейся организации по ОКПО (для территориально обособленного подразделения юридического лица - идентификационный номер)
C23: 1 | F23: 2 | L23: 3 | P23: 4
C24: 609522 | F24: 10345295
C26: Наименование учредителя МКУ "Отдел культуры, архивного дела, молодежной политики и спорта Зейского муниципального округа"
C27: Направление основной деятельности головной организации: деятельность в области культуры и искусства
C28: Число организаций, включенных в сводную форму
C29: (заполняется органами исполнительной власти субъекта Российской Федерации)
A33: Раздел 1. Материально-техническая база
A34: Коды по ОКЕИ: единица - 642; место - 698; квадратный метр - 055
C35: N строки | D35: Число зданий, единиц | E35: из них (из гр. 2) число собственных зданий | F35: из них (из гр. 2) доступны для лиц с нарушением | I35: из общего числа зданий (из гр. 2)
I36: техническое состояние зданий | K36: из них по форме пользования
F37: зрения | G37: слуха | H37: опорно-двигательного аппарата | I37: требуют капитального ремонта | J37: аварийные | K37: в оперативном управлении или хозяйственном ведении | L37: арендованные | M37: прочие
C38: 1 | D38: 2 | E38: 3 | F38: 4 | G38: 5 | H38: 6 | I38: 7 | J38: 8 | K38: 9 | L38: 10 | M38: 11
C39: 1 | D39: 1 | E39: 0 | F39: 0 | G39: 0 | H39: 0 | I39: 0 | J39: 0 | K39: 0 | L39: 1 | M39: 0
C42: N строки | D42: Число помещений, единиц | E42: из общего числа помещений (из гр. 12) | L42: из числа досуговых помещений (из гр. 18) помещения для музейной и библиотечной работы | M42: из общей площади досуговых помещений (из гр. 19)
E43: техническое состояние помещений | G43: арендованных | H43: зрительные залы | J43: Досуговые помещения | M43: площадь, занимаемая музеем | N43: площадь, занимаемая библиотекой
E44: требующих капитального ремонта | F44: аварийных | H44: число зрительных залов, единиц | I44: вместимость зрительных залов, мест | J44: число помещений, единиц | K44: площадь, кв м
C45: 1 | D45: 12 | E45: 13 | F45: 14 | G45: 15 | H45: 16 | I45: 17 | J45: 18 | K45: 19 | L45: 20 | M45: 21 | N45: 22
C46: 1 | D46: 2 | E46: 0 | F46: 0 | G46: 2 | H46: 1 | I46: 60 | J46: 1 | K46: 15.5 | L46: 0 | M46: 0 | N46: 0
C49: N строки | D49: Число автоматизированных рабочих мест, единиц | E49: Наличие доступа в Интернет (да - 1, нет - 0) | F49: Наличие доступа в Интернет для посетителей и участников формирований (да - 1, нет - 0) | G49: Наличие собственного Интернет-сайта, (да - 1, нет - 0) | H49: Наличие версии собственного Интернет-сайта, доступной для слепых и слабовидящих (да - 1, нет - 0) | I49: Число специализированного оборудования для инвалидов, единиц | J49: Число специализированных транспортных средств, единиц | K49: Число автоклубов, единиц (из гр. 29) | L49: Число выездов автоклубов в сельские населенные пункты, единиц | M49: Количество населенных пунктов, обслуживаемых автоклубами
C50: 1 | D50: 23 | E50: 24 | F50: 25 | G50: 26 | H50: 27 | I50: 28 | J50: 29 | K50: 30 | L50: 31 | M50: 32
C51: 1 | D51: 2 | E51: 1 | F51: 0 | G51: 0 | H51: 0 | I51: 0 | J51: 0 | K51: 0 | L51: 0 | M51: 0
C54: Раздел 2. Клубные формирования
A55: Коды по ОКЕИ: единица - 642; человек - 792
D56: N строки | E56: Число клубных формирований, всего (сумма граф 6, 8) | F56: из гр. 3
...

Sheet дугда
B2: ФЕДЕРАЛЬНОЕ СТАТИСТИЧЕСКОЕ НАБЛЮДЕНИЕ
B4: КОНФИДЕНЦИАЛЬНОСТЬ ГАРАНТИРУЕТСЯ ПОЛУЧАТЕЛЕМ ИНФОРМАЦИИ
B6: Нарушение порядка предоставления первичных статистических данных или несвоевременное предоставление этих данных, либо предоставление недостоверных первичных статистических данных влечет ответственность, установленную Кодексом Российской Федерации об административных правонарушениях
B8: ВОЗМОЖНО ПРЕДОСТАВЛЕНИЕ В ЭЛЕКТРОННОМ ВИДЕ
B10: СВЕДЕНИЯ ОБ ОРГАНИЗАЦИИ КУЛЬТУРНО-ДОСУГОВОГО ТИПА
B11: за 2023 год
B13: Предоставляют: | I13: Сроки предоставления | M13: Форма N 7-НК
B14: юридические лица - организации культурно-досугового типа, юридические лица - организации, имеющие в своем составе обособленные структурные подразделения, осуществляющие культурно-досуговую деятельность (полный перечень респондентов приведен в указаниях по заполнению формы федерального статистического наблюдения): | I14: 15 февраля | M14: Приказ Росстата: Об утверждении формы от 18.10.2021 № 713
B15: - Министерству культуры Российской Федерации | M15: О внесении изменений (при наличии)
M16: от __________ N ___
M17: от __________ N ___
M18: Годовая
B19: Наименование отчитывающейся организации | H19: Дом культуры п. Дугда МАУ СКЦ Зейского муниципального округа
B20: Почтовый адрес: 676235 Амурская область Зейский район площадь Тухачевского, 1
B21: Код формы по ОКУД | E21: Код
E22: отчитывающейся организации по ОКПО (для территориально обособленного подразделения юридического лица - идентификационный номер)
B23: 1 | E23: 2 | K23: 3 | O23: 4
B24: 609522 | E24: 10345295
B26: Наименование учредителя МКУ "Отдел культуры, архивного дела, молодежной политики и спорта Зейского муниципального округа"
B27: Направление основной деятельности головной организации: деятельность в области культуры и искусства
B28: Число организаций, включенных в сводную форму
B29: (заполняется органами исполнительной власти субъекта Российской Федерации)
A33: Раздел 1. Материально-техническая база
A34: Коды по ОКЕИ: единица - 642; место - 698; квадратный метр - 055
B35: N строки | C35: Число зданий, единиц | D35: из них (из гр. 2) число собственных зданий | E35: из них (из гр. 2) доступны для лиц с нарушением | H35: из общего числа зданий (из гр. 2)
H36: техническое состояние зданий | J36: из них по форме пользования
E37: зрения | F37: слуха | G37: опорно-двигательного аппарата | H37: требуют капитального ремонта | I37: аварийные | J37: в оперативном управлении или хозяйственном ведении | K37: арендованные | L37: прочие
B38: 1 | C38: 2 | D38: 3 | E38: 4 | F38: 5 | G38: 6 | H38: 7 | I38: 8 | J38: 9 | K38: 10 | L38: 11
B39: 1 | C39: 1 | D39: 0 | E39: 0 | F39: 0 | G39: 0 | H39: 0 | I39: 0 | J39: 0 | K39: 1 | L39: 0
B42: N строки | C42: Число помещений, единиц | D42: из общего числа помещений (из гр. 12) | K42: из числа досуговых помещений (из гр. 18) помещения для музейной и библиотечной работы | L42: из общей площади досуговых помещений (из гр. 19)
D43: техническое состояние помещений | F43: арендованных | G43: зрительные залы | I43: Досуговые помещения | L43: площадь, занимаемая музеем | M43: площадь, занимаемая библиотекой
D44: требующих капитального ремонта | E44: аварийных | G44: число зрительных залов, единиц | H44: вместимость зрительных залов, мест | I44: число помещений, единиц | J44: площадь, кв м
B45: 1 | C45: 12 | D45: 13 | E45: 14 | F45: 15 | G45: 16 | H45: 17 | I45: 18 | J45: 19 | K45: 20 | L45: 21 | M45: 22
B46: 1 | C46: 11 | D46: 0 | E46: 0 | F46: 11 | G46: 1 | H46: 120 | I46: 5 | J46: 265 | K46: 0 | L46: 0 | M46: 0
B49: N строки | C49: Число автоматизированных рабочих мест, единиц | D49: Наличие доступа в Интернет (да - 1, нет - 0) | E49: Наличие доступа в Интернет для посетителей и участников формирований (да - 1, нет - 0) | F49: Наличие собственного Интернет-сайта, (да - 1, нет - 0) | G49: Наличие версии собственного Интернет-сайта, доступной для слепых и слабовидящих (да - 1, нет - 0) | H49: Число специализированного оборудования для инвалидов, единиц | I49: Число специализированных транспортных средств, единиц | J49: Число автоклубов, единиц (из гр. 29) | K49: Число выездов автоклубов в сельские населенные пункты, единиц | L49: Количество населенных пунктов, обслуживаемых автоклубами
B50: 1 | C50: 23 | D50: 24 | E50: 25 | F50: 26 | G50: 27 | H50: 28 | I50: 29 | J50: 30 | K50: 31 | L50: 32
B51: 1 | C51: 2 | D51: 1 | E51: 0 | F51: 0 | G51: 0 | H51: 0 | I51: 0 | J51: 0 | K51: 0 | L51: 0
B54: Раздел 2. Клубные формирования
A55: Коды по ОКЕИ: единица - 642; человек - 792
C56: N строки | D56: Число клубных формирований, всего (сумма граф 6, 8) | E56: из гр. 3
...

Sheet з.сл.
B2: ФЕДЕРАЛЬНОЕ СТАТИСТИЧЕСКОЕ НАБЛЮДЕНИЕ
B4: КОНФИДЕНЦИАЛЬНОСТЬ ГАРАНТИРУЕТСЯ ПОЛУЧАТЕЛЕМ ИНФОРМАЦИИ
B6: Нарушение порядка предоставления первичных статистических данных или несвоевременное предоставление этих данных, либо предоставление недостоверных первичных статистических данных влечет ответственность, установленную Кодексом Российской Федерации об административных правонарушениях
B8: ВОЗМОЖНО ПРЕДОСТАВЛЕНИЕ В ЭЛЕКТРОННОМ ВИДЕ
B10: СВЕДЕНИЯ ОБ ОРГАНИЗАЦИИ КУЛЬТУРНО-ДОСУГОВОГО ТИПА
B11: за 2023 год
B13: Предоставляют: | I13: Сроки предоставления | M13: Форма N 7-НК
B14: юридические лица - организации культурно-досугового типа, юридические лица - организации, имеющие в своем составе обособленные структурные подразделения, осуществляющие культурно-досуговую деятельность (полный перечень респондентов приведен в указаниях по заполнению формы федерального статистического наблюдения): | I14: 15 февраля | M14: Приказ Росстата: Об утверждении формы от 18.10.2021 № 713
B15: - Министерству культуры Российской Федерации | M15: О внесении изменений (при наличии)
M16: от __________ N ___
M17: от __________ N ___
M18: Годовая
B19: Наименование отчитывающейся организации | H19: Дом культуры с. Заречная Слобода МАУ СКЦ Зейского муниципального округа
B20: Почтовый адрес: 676205 Амурская область Зейский район с. Заречная Слобода, ул.Школьная, 30
